{"text_format":"1","workbook":"xlsx","n_sheets":3,"sheets":["Plan","dependancies","OfferMart highlevel timelines"],"not_rendered":{"charts":0,"images":0,"macros":1,"external_links":0,"defined_names":3,"comments":0,"pivot_tables":0},"unopened":[],"bounds":{"document_bytes":16777216,"sheet_cells":100000,"rows_first":2000,"rows_last":500,"rows_between":2000,"halvings":0,"cell_chars":16384,"cell_head_chars":4096},"cells_cut":0,"cells_raw":0,"read":"whole","date_system":"1900"}

{"sheet":"Plan","index":0,"n_rows":32,"n_cols":16384,"rows_kept":32,"cut":false,"hidden":false,"merged":[[28,0,31,0],[0,35,0,41],[0,42,0,48],[0,49,0,55],[0,56,0,62],[0,21,0,27],[1,21,1,27],[2,70,2,76],[2,35,2,41],[2,42,2,48],[2,49,2,55],[2,56,2,62],[2,63,2,69],[8,0,10,0],[0,0,2,20],[25,0,27,0],[0,133,0,139],[0,63,0,69],[0,70,0,76],[11,0,15,0],[16,0,18,0],[4,0,6,0],[2,21,2,27],[0,28,0,34],[1,28,1,34],[2,28,2,34],[22,0,24,0],[19,0,21,0],[0,140,0,146],[0,147,0,153],[0,154,0,160],[0,161,0,167],[0,77,0,83],[0,84,0,90],[0,91,0,97],[0,98,0,104],[0,105,0,111],[2,105,2,111],[2,112,2,118],[2,119,2,125],[2,126,2,132],[0,112,0,118],[0,119,0,125],[0,126,0,132],[2,77,2,83],[2,84,2,90],[2,91,2,97],[2,98,2,104],[0,273,0,279],[0,280,0,286],[0,287,0,293],[0,294,0,300],[0,301,0,307],[0,238,0,244],[0,245,0,251],[0,252,0,258],[0,259,0,265],[0,266,0,272],[0,203,0,209],[0,210,0,216],[0,217,0,223],[0,224,0,230],[0,231,0,237],[0,168,0,174],[0,175,0,181],[0,182,0,188],[0,189,0,195],[0,196,0,202],[0,413,0,419],[0,420,0,426],[0,427,0,433],[0,434,0,440],[0,441,0,447],[0,378,0,384],[0,385,0,391],[0,392,0,398],[0,399,0,405],[0,406,0,412],[0,343,0,349],[0,350,0,356],[0,357,0,363],[0,364,0,370],[0,371,0,377],[0,308,0,314],[0,315,0,321],[0,322,0,328],[0,329,0,335],[0,336,0,342],[0,553,0,559],[0,560,0,566],[0,567,0,573],[0,574,0,580],[0,581,0,587],[0,518,0,524],[0,525,0,531],[0,532,0,538],[0,539,0,545],[0,546,0,552],[0,483,0,489],[0,490,0,496],[0,497,0,503],[0,504,0,510],[0,511,0,517],[0,448,0,454],[0,455,0,461],[0,462,0,468],[0,469,0,475],[0,476,0,482],[0,693,0,699],[0,700,0,706],[0,707,0,713],[0,714,0,720],[0,721,0,727],[0,658,0,664],[0,665,0,671],[0,672,0,678],[0,679,0,685],[0,686,0,692],[0,623,0,629],[0,630,0,636],[0,637,0,643],[0,644,0,650],[0,651,0,657],[0,588,0,594],[0,595,0,601],[0,602,0,608],[0,609,0,615],[0,616,0,622],[0,833,0,839],[0,840,0,846],[0,847,0,853],[0,854,0,860],[0,861,0,867],[0,798,0,804],[0,805,0,811],[0,812,0,818],[0,819,0,825],[0,826,0,832],[0,763,0,769],[0,770,0,776],[0,777,0,783],[0,784,0,790],[0,791,0,797],[0,728,0,734],[0,735,0,741],[0,742,0,748],[0,749,0,755],[0,756,0,762],[0,973,0,979],[0,980,0,986],[0,987,0,993],[0,994,0,1000],[0,1001,0,1007],[0,938,0,944],[0,945,0,951],[0,952,0,958],[0,959,0,965],[0,966,0,972],[0,903,0,909],[0,910,0,916],[0,917,0,923],[0,924,0,930],[0,931,0,937],[0,868,0,874],[0,875,0,881],[0,882,0,888],[0,889,0,895],[0,896,0,902],[0,1113,0,1119],[0,1120,0,1126],[0,1127,0,1133],[0,1134,0,1140],[0,1141,0,1147],[0,1078,0,1084],[0,1085,0,1091],[0,1092,0,1098],[0,1099,0,1105],[0,1106,0,1112],[0,1043,0,1049],[0,1050,0,1056],[0,1057,0,1063],[0,1064,0,1070],[0,1071,0,1077],[0,1008,0,1014],[0,1015,0,1021],[0,1022,0,1028],[0,1029,0,1035],[0,1036,0,1042],[0,1253,0,1259],[0,1260,0,1266],[0,1267,0,1273],[0,1274,0,1280],[0,1281,0,1287],[0,1218,0,1224],[0,1225,0,1231],[0,1232,0,1238],[0,1239,0,1245],[0,1246,0,1252],[0,1183,0,1189],[0,1190,0,1196],[0,1197,0,1203],[0,1204,0,1210],[0,1211,0,1217],[0,1148,0,1154],[0,1155,0,1161],[0,1162,0,1168],[0,1169,0,1175],[0,1176,0,1182],[0,1393,0,1399],[0,1400,0,1406],[0,1407,0,1413],[0,1414,0,1420],[0,1421,0,1427],[0,1358,0,1364],[0,1365,0,1371],[0,1372,0,1378],[0,1379,0,1385],[0,1386,0,1392],[0,1323,0,1329],[0,1330,0,1336],[0,1337,0,1343],[0,1344,0,1350],[0,1351,0,1357],[0,1288,0,1294],[0,1295,0,1301],[0,1302,0,1308],[0,1309,0,1315],[0,1316,0,1322],[0,1533,0,1539],[0,1540,0,1546],[0,1547,0,1553],[0,1554,0,1560],[0,1561,0,1567],[0,1498,0,1504],[0,1505,0,1511],[0,1512,0,1518],[0,1519,0,1525],[0,1526,0,1532],[0,1463,0,1469],[0,1470,0,1476],[0,1477,0,1483],[0,1484,0,1490],[0,1491,0,1497],[0,1428,0,1434],[0,1435,0,1441],[0,1442,0,1448],[0,1449,0,1455],[0,1456,0,1462],[0,1673,0,1679],[0,1680,0,1686],[0,1687,0,1693],[0,1694,0,1700],[0,1701,0,1707],[0,1638,0,1644],[0,1645,0,1651],[0,1652,0,1658],[0,1659,0,1665],[0,1666,0,1672],[0,1603,0,1609],[0,1610,0,1616],[0,1617,0,1623],[0,1624,0,1630],[0,1631,0,1637],[0,1568,0,1574],[0,1575,0,1581],[0,1582,0,1588],[0,1589,0,1595],[0,1596,0,1602],[0,1813,0,1819],[0,1820,0,1826],[0,1827,0,1833],[0,1834,0,1840],[0,1841,0,1847],[0,1778,0,1784],[0,1785,0,1791],[0,1792,0,1798],[0,1799,0,1805],[0,1806,0,1812],[0,1743,0,1749],[0,1750,0,1756],[0,1757,0,1763],[0,1764,0,1770],[0,1771,0,1777],[0,1708,0,1714],[0,1715,0,1721],[0,1722,0,1728],[0,1729,0,1735],[0,1736,0,1742],[0,1953,0,1959],[0,1960,0,1966],[0,1967,0,1973],[0,1974,0,1980],[0,1981,0,1987],[0,1918,0,1924],[0,1925,0,1931],[0,1932,0,1938],[0,1939,0,1945],[0,1946,0,1952],[0,1883,0,1889],[0,1890,0,1896],[0,1897,0,1903],[0,1904,0,1910],[0,1911,0,1917],[0,1848,0,1854],[0,1855,0,1861],[0,1862,0,1868],[0,1869,0,1875],[0,1876,0,1882],[0,2093,0,2099],[0,2100,0,2106],[0,2107,0,2113],[0,2114,0,2120],[0,2121,0,2127],[0,2058,0,2064],[0,2065,0,2071],[0,2072,0,2078],[0,2079,0,2085],[0,2086,0,2092],[0,2023,0,2029],[0,2030,0,2036],[0,2037,0,2043],[0,2044,0,2050],[0,2051,0,2057],[0,1988,0,1994],[0,1995,0,2001],[0,2002,0,2008],[0,2009,0,2015],[0,2016,0,2022],[0,2233,0,2239],[0,2240,0,2246],[0,2247,0,2253],[0,2254,0,2260],[0,2261,0,2267],[0,2198,0,2204],[0,2205,0,2211],[0,2212,0,2218],[0,2219,0,2225],[0,2226,0,2232],[0,2163,0,2169],[0,2170,0,2176],[0,2177,0,2183],[0,2184,0,2190],[0,2191,0,2197],[0,2128,0,2134],[0,2135,0,2141],[0,2142,0,2148],[0,2149,0,2155],[0,2156,0,2162],[0,2373,0,2379],[0,2380,0,2386],[0,2387,0,2393],[0,2394,0,2400],[0,2401,0,2407],[0,2338,0,2344],[0,2345,0,2351],[0,2352,0,2358],[0,2359,0,2365],[0,2366,0,2372],[0,2303,0,2309],[0,2310,0,2316],[0,2317,0,2323],[0,2324,0,2330],[0,2331,0,2337],[0,2268,0,2274],[0,2275,0,2281],[0,2282,0,2288],[0,2289,0,2295],[0,2296,0,2302],[0,2513,0,2519],[0,2520,0,2526],[0,2527,0,2533],[0,2534,0,2540],[0,2541,0,2547],[0,2478,0,2484],[0,2485,0,2491],[0,2492,0,2498],[0,2499,0,2505],[0,2506,0,2512],[0,2443,0,2449],[0,2450,0,2456],[0,2457,0,2463],[0,2464,0,2470],[0,2471,0,2477],[0,2408,0,2414],[0,2415,0,2421],[0,2422,0,2428],[0,2429,0,2435],[0,2436,0,2442],[0,2653,0,2659],[0,2660,0,2666],[0,2667,0,2673],[0,2674,0,2680],[0,2681,0,2687],[0,2618,0,2624],[0,2625,0,2631],[0,2632,0,2638],[0,2639,0,2645],[0,2646,0,2652],[0,2583,0,2589],[0,2590,0,2596],[0,2597,0,2603],[0,2604,0,2610],[0,2611,0,2617],[0,2548,0,2554],[0,2555,0,2561],[0,2562,0,2568],[0,2569,0,2575],[0,2576,0,2582],[0,2793,0,2799],[0,2800,0,2806],[0,2807,0,2813],[0,2814,0,2820],[0,2821,0,2827],[0,2758,0,2764],[0,2765,0,2771],[0,2772,0,2778],[0,2779,0,2785],[0,2786,0,2792],[0,2723,0,2729],[0,2730,0,2736],[0,2737,0,2743],[0,2744,0,2750],[0,2751,0,2757],[0,2688,0,2694],[0,2695,0,2701],[0,2702,0,2708],[0,2709,0,2715],[0,2716,0,2722],[0,2933,0,2939],[0,2940,0,2946],[0,2947,0,2953],[0,2954,0,2960],[0,2961,0,2967],[0,2898,0,2904],[0,2905,0,2911],[0,2912,0,2918],[0,2919,0,2925],[0,2926,0,2932],[0,2863,0,2869],[0,2870,0,2876],[0,2877,0,2883],[0,2884,0,2890],[0,2891,0,2897],[0,2828,0,2834],[0,2835,0,2841],[0,2842,0,2848],[0,2849,0,2855],[0,2856,0,2862],[0,3073,0,3079],[0,3080,0,3086],[0,3087,0,3093],[0,3094,0,3100],[0,3101,0,3107],[0,3038,0,3044],[0,3045,0,3051],[0,3052,0,3058],[0,3059,0,3065],[0,3066,0,3072],[0,3003,0,3009],[0,3010,0,3016],[0,3017,0,3023],[0,3024,0,3030],[0,3031,0,3037],[0,2968,0,2974],[0,2975,0,2981],[0,2982,0,2988],[0,2989,0,2995],[0,2996,0,3002],[0,3213,0,3219],[0,3220,0,3226],[0,3227,0,3233],[0,3234,0,3240],[0,3241,0,3247],[0,3178,0,3184],[0,3185,0,3191],[0,3192,0,3198],[0,3199,0,3205],[0,3206,0,3212],[0,3143,0,3149],[0,3150,0,3156],[0,3157,0,3163],[0,3164,0,3170],[0,3171,0,3177],[0,3108,0,3114],[0,3115,0,3121],[0,3122,0,3128],[0,3129,0,3135],[0,3136,0,3142],[0,3353,0,3359],[0,3360,0,3366],[0,3367,0,3373],[0,3374,0,3380],[0,3381,0,3387],[0,3318,0,3324],[0,3325,0,3331],[0,3332,0,3338],[0,3339,0,3345],[0,3346,0,3352],[0,3283,0,3289],[0,3290,0,3296],[0,3297,0,3303],[0,3304,0,3310],[0,3311,0,3317],[0,3248,0,3254],[0,3255,0,3261],[0,3262,0,3268],[0,3269,0,3275],[0,3276,0,3282],[0,3493,0,3499],[0,3500,0,3506],[0,3507,0,3513],[0,3514,0,3520],[0,3521,0,3527],[0,3458,0,3464],[0,3465,0,3471],[0,3472,0,3478],[0,3479,0,3485],[0,3486,0,3492],[0,3423,0,3429],[0,3430,0,3436],[0,3437,0,3443],[0,3444,0,3450],[0,3451,0,3457],[0,3388,0,3394],[0,3395,0,3401],[0,3402,0,3408],[0,3409,0,3415],[0,3416,0,3422],[0,3633,0,3639],[0,3640,0,3646],[0,3647,0,3653],[0,3654,0,3660],[0,3661,0,3667],[0,3598,0,3604],[0,3605,0,3611],[0,3612,0,3618],[0,3619,0,3625],[0,3626,0,3632],[0,3563,0,3569],[0,3570,0,3576],[0,3577,0,3583],[0,3584,0,3590],[0,3591,0,3597],[0,3528,0,3534],[0,3535,0,3541],[0,3542,0,3548],[0,3549,0,3555],[0,3556,0,3562],[0,3773,0,3779],[0,3780,0,3786],[0,3787,0,3793],[0,3794,0,3800],[0,3801,0,3807],[0,3738,0,3744],[0,3745,0,3751],[0,3752,0,3758],[0,3759,0,3765],[0,3766,0,3772],[0,3703,0,3709],[0,3710,0,3716],[0,3717,0,3723],[0,3724,0,3730],[0,3731,0,3737],[0,3668,0,3674],[0,3675,0,3681],[0,3682,0,3688],[0,3689,0,3695],[0,3696,0,3702],[0,3913,0,3919],[0,3920,0,3926],[0,3927,0,3933],[0,3934,0,3940],[0,3941,0,3947],[0,3878,0,3884],[0,3885,0,3891],[0,3892,0,3898],[0,3899,0,3905],[0,3906,0,3912],[0,3843,0,3849],[0,3850,0,3856],[0,3857,0,3863],[0,3864,0,3870],[0,3871,0,3877],[0,3808,0,3814],[0,3815,0,3821],[0,3822,0,3828],[0,3829,0,3835],[0,3836,0,3842],[0,4053,0,4059],[0,4060,0,4066],[0,4067,0,4073],[0,4074,0,4080],[0,4081,0,4087],[0,4018,0,4024],[0,4025,0,4031],[0,4032,0,4038],[0,4039,0,4045],[0,4046,0,4052],[0,3983,0,3989],[0,3990,0,3996],[0,3997,0,4003],[0,4004,0,4010],[0,4011,0,4017],[0,3948,0,3954],[0,3955,0,3961],[0,3962,0,3968],[0,3969,0,3975],[0,3976,0,3982],[0,4193,0,4199],[0,4200,0,4206],[0,4207,0,4213],[0,4214,0,4220],[0,4221,0,4227],[0,4158,0,4164],[0,4165,0,4171],[0,4172,0,4178],[0,4179,0,4185],[0,4186,0,4192],[0,4123,0,4129],[0,4130,0,4136],[0,4137,0,4143],[0,4144,0,4150],[0,4151,0,4157],[0,4088,0,4094],[0,4095,0,4101],[0,4102,0,4108],[0,4109,0,4115],[0,4116,0,4122],[0,4333,0,4339],[0,4340,0,4346],[0,4347,0,4353],[0,4354,0,4360],[0,4361,0,4367],[0,4298,0,4304],[0,4305,0,4311],[0,4312,0,4318],[0,4319,0,4325],[0,4326,0,4332],[0,4263,0,4269],[0,4270,0,4276],[0,4277,0,4283],[0,4284,0,4290],[0,4291,0,4297],[0,4228,0,4234],[0,4235,0,4241],[0,4242,0,4248],[0,4249,0,4255],[0,4256,0,4262],[0,4473,0,4479],[0,4480,0,4486],[0,4487,0,4493],[0,4494,0,4500],[0,4501,0,4507],[0,4438,0,4444],[0,4445,0,4451],[0,4452,0,4458],[0,4459,0,4465],[0,4466,0,4472],[0,4403,0,4409],[0,4410,0,4416],[0,4417,0,4423],[0,4424,0,4430],[0,4431,0,4437],[0,4368,0,4374],[0,4375,0,4381],[0,4382,0,4388],[0,4389,0,4395],[0,4396,0,4402],[0,4613,0,4619],[0,4620,0,4626],[0,4627,0,4633],[0,4634,0,4640],[0,4641,0,4647],[0,4578,0,4584],[0,4585,0,4591],[0,4592,0,4598],[0,4599,0,4605],[0,4606,0,4612],[0,4543,0,4549],[0,4550,0,4556],[0,4557,0,4563],[0,4564,0,4570],[0,4571,0,4577],[0,4508,0,4514],[0,4515,0,4521],[0,4522,0,4528],[0,4529,0,4535],[0,4536,0,4542],[0,4753,0,4759],[0,4760,0,4766],[0,4767,0,4773],[0,4774,0,4780],[0,4781,0,4787],[0,4718,0,4724],[0,4725,0,4731],[0,4732,0,4738],[0,4739,0,4745],[0,4746,0,4752],[0,4683,0,4689],[0,4690,0,4696],[0,4697,0,4703],[0,4704,0,4710],[0,4711,0,4717],[0,4648,0,4654],[0,4655,0,4661],[0,4662,0,4668],[0,4669,0,4675],[0,4676,0,4682],[0,4893,0,4899],[0,4900,0,4906],[0,4907,0,4913],[0,4914,0,4920],[0,4921,0,4927],[0,4858,0,4864],[0,4865,0,4871],[0,4872,0,4878],[0,4879,0,4885],[0,4886,0,4892],[0,4823,0,4829],[0,4830,0,4836],[0,4837,0,4843],[0,4844,0,4850],[0,4851,0,4857],[0,4788,0,4794],[0,4795,0,4801],[0,4802,0,4808],[0,4809,0,4815],[0,4816,0,4822],[0,5033,0,5039],[0,5040,0,5046],[0,5047,0,5053],[0,5054,0,5060],[0,5061,0,5067],[0,4998,0,5004],[0,5005,0,5011],[0,5012,0,5018],[0,5019,0,5025],[0,5026,0,5032],[0,4963,0,4969],[0,4970,0,4976],[0,4977,0,4983],[0,4984,0,4990],[0,4991,0,4997],[0,4928,0,4934],[0,4935,0,4941],[0,4942,0,4948],[0,4949,0,4955],[0,4956,0,4962],[0,5173,0,5179],[0,5180,0,5186],[0,5187,0,5193],[0,5194,0,5200],[0,5201,0,5207],[0,5138,0,5144],[0,5145,0,5151],[0,5152,0,5158],[0,5159,0,5165],[0,5166,0,5172],[0,5103,0,5109],[0,5110,0,5116],[0,5117,0,5123],[0,5124,0,5130],[0,5131,0,5137],[0,5068,0,5074],[0,5075,0,5081],[0,5082,0,5088],[0,5089,0,5095],[0,5096,0,5102],[0,5313,0,5319],[0,5320,0,5326],[0,5327,0,5333],[0,5334,0,5340],[0,5341,0,5347],[0,5278,0,5284],[0,5285,0,5291],[0,5292,0,5298],[0,5299,0,5305],[0,5306,0,5312],[0,5243,0,5249],[0,5250,0,5256],[0,5257,0,5263],[0,5264,0,5270],[0,5271,0,5277],[0,5208,0,5214],[0,5215,0,5221],[0,5222,0,5228],[0,5229,0,5235],[0,5236,0,5242],[0,5453,0,5459],[0,5460,0,5466],[0,5467,0,5473],[0,5474,0,5480],[0,5481,0,5487],[0,5418,0,5424],[0,5425,0,5431],[0,5432,0,5438],[0,5439,0,5445],[0,5446,0,5452],[0,5383,0,5389],[0,5390,0,5396],[0,5397,0,5403],[0,5404,0,5410],[0,5411,0,5417],[0,5348,0,5354],[0,5355,0,5361],[0,5362,0,5368],[0,5369,0,5375],[0,5376,0,5382],[0,5593,0,5599],[0,5600,0,5606],[0,5607,0,5613],[0,5614,0,5620],[0,5621,0,5627],[0,5558,0,5564],[0,5565,0,5571],[0,5572,0,5578],[0,5579,0,5585],[0,5586,0,5592],[0,5523,0,5529],[0,5530,0,5536],[0,5537,0,5543],[0,5544,0,5550],[0,5551,0,5557],[0,5488,0,5494],[0,5495,0,5501],[0,5502,0,5508],[0,5509,0,5515],[0,5516,0,5522],[0,5733,0,5739],[0,5740,0,5746],[0,5747,0,5753],[0,5754,0,5760],[0,5761,0,5767],[0,5698,0,5704],[0,5705,0,5711],[0,5712,0,5718],[0,5719,0,5725],[0,5726,0,5732],[0,5663,0,5669],[0,5670,0,5676],[0,5677,0,5683],[0,5684,0,5690],[0,5691,0,5697],[0,5628,0,5634],[0,5635,0,5641],[0,5642,0,5648],[0,5649,0,5655],[0,5656,0,5662],[0,5873,0,5879],[0,5880,0,5886],[0,5887,0,5893],[0,5894,0,5900],[0,5901,0,5907],[0,5838,0,5844],[0,5845,0,5851],[0,5852,0,5858],[0,5859,0,5865],[0,5866,0,5872],[0,5803,0,5809],[0,5810,0,5816],[0,5817,0,5823],[0,5824,0,5830],[0,5831,0,5837],[0,5768,0,5774],[0,5775,0,5781],[0,5782,0,5788],[0,5789,0,5795],[0,5796,0,5802],[0,6013,0,6019],[0,6020,0,6026],[0,6027,0,6033],[0,6034,0,6040],[0,6041,0,6047],[0,5978,0,5984],[0,5985,0,5991],[0,5992,0,5998],[0,5999,0,6005],[0,6006,0,6012],[0,5943,0,5949],[0,5950,0,5956],[0,5957,0,5963],[0,5964,0,5970],[0,5971,0,5977],[0,5908,0,5914],[0,5915,0,5921],[0,5922,0,5928],[0,5929,0,5935],[0,5936,0,5942],[0,6153,0,6159],[0,6160,0,6166],[0,6167,0,6173],[0,6174,0,6180],[0,6181,0,6187],[0,6118,0,6124],[0,6125,0,6131],[0,6132,0,6138],[0,6139,0,6145],[0,6146,0,6152],[0,6083,0,6089],[0,6090,0,6096],[0,6097,0,6103],[0,6104,0,6110],[0,6111,0,6117],[0,6048,0,6054],[0,6055,0,6061],[0,6062,0,6068],[0,6069,0,6075],[0,6076,0,6082],[0,6293,0,6299],[0,6300,0,6306],[0,6307,0,6313],[0,6314,0,6320],[0,6321,0,6327],[0,6258,0,6264],[0,6265,0,6271],[0,6272,0,6278],[0,6279,0,6285],[0,6286,0,6292],[0,6223,0,6229],[0,6230,0,6236],[0,6237,0,6243],[0,6244,0,6250],[0,6251,0,6257],[0,6188,0,6194],[0,6195,0,6201],[0,6202,0,6208],[0,6209,0,6215],[0,6216,0,6222],[0,6433,0,6439],[0,6440,0,6446],[0,6447,0,6453],[0,6454,0,6460],[0,6461,0,6467],[0,6398,0,6404],[0,6405,0,6411],[0,6412,0,6418],[0,6419,0,6425],[0,6426,0,6432],[0,6363,0,6369],[0,6370,0,6376],[0,6377,0,6383],[0,6384,0,6390],[0,6391,0,6397],[0,6328,0,6334],[0,6335,0,6341],[0,6342,0,6348],[0,6349,0,6355],[0,6356,0,6362],[0,6573,0,6579],[0,6580,0,6586],[0,6587,0,6593],[0,6594,0,6600],[0,6601,0,6607],[0,6538,0,6544],[0,6545,0,6551],[0,6552,0,6558],[0,6559,0,6565],[0,6566,0,6572],[0,6503,0,6509],[0,6510,0,6516],[0,6517,0,6523],[0,6524,0,6530],[0,6531,0,6537],[0,6468,0,6474],[0,6475,0,6481],[0,6482,0,6488],[0,6489,0,6495],[0,6496,0,6502],[0,6713,0,6719],[0,6720,0,6726],[0,6727,0,6733],[0,6734,0,6740],[0,6741,0,6747],[0,6678,0,6684],[0,6685,0,6691],[0,6692,0,6698],[0,6699,0,6705],[0,6706,0,6712],[0,6643,0,6649],[0,6650,0,6656],[0,6657,0,6663],[0,6664,0,6670],[0,6671,0,6677],[0,6608,0,6614],[0,6615,0,6621],[0,6622,0,6628],[0,6629,0,6635],[0,6636,0,6642],[0,6853,0,6859],[0,6860,0,6866],[0,6867,0,6873],[0,6874,0,6880],[0,6881,0,6887],[0,6818,0,6824],[0,6825,0,6831],[0,6832,0,6838],[0,6839,0,6845],[0,6846,0,6852],[0,6783,0,6789],[0,6790,0,6796]],"merged_total":7020,"flags":["merged_cut"]}
["CO2 capture combined with calcination driven by oxyfuel combustion of green hydrogen",null,null,null,null,null,null,null,null,null,null,null,null,null,null,null,null,null,null,null,null,"Week4",null,null,null,null,null,null,"Week5",null,null,null,null,null,null,"Week6",null,null,null,null,null,null,"Week7",null,null,null,null,null,null,"Week8",null,null,null,null,null,null,"Week9",null,null,null,null,null,null,"Week10",null,null,null,null,null,null,"Week11",null,null,null,null,null,null,"Week12",null,null,null,null,null,null,"Week13",null,null,null,null,null,null,"Week14",null,null,null,null,null,null,"Week15",null,null,null,null,null,null,"Week16",null,null,null,null,null,null,"Week17",null,null,null,null,null,null,"Week18",null,null,null,null,null,null,"Week19",null,null,null,null,null,null,"Week20",null,null,null,null,null,null,"Week18",null,null,null,null,null,null,"Week19",null,null,null,null,null,null,"Week20",null,null,null,null,null,null,"Week21",null,null,null,null,null,null,"Week22",null,null,null,null,null,null,"Week23",null,null,null,null,null,null,"Week24",null,null,null,null,null,null,"Week25",null,null,null,null,null,null,"Week26",null,null,null,null,null,null,"Week27",null,null,null,null,null,null,"Week28",null,null,null,null,null,null,"Week29",null,null,null,null,null,null,"Week30",null,null,null,null,null,null,"Week31",null,null,null,null,null,null,"Week32",null,null,null,null,null,null,"Week33",null,null,null,null,null,null,"Week34",null,null,null,null,null,null,"Week35",null,null,null,null,null,null,"Week36",null,null,null,null,null,null,"Week37",null,null,null,null,null,null,"Week38",null,null,null,null,null,null,"Week39",null,null,null,null,null,null,"Week40",null,null,null,null,null,null,"Week41",null,null,null,null,null,null,"Week42",null,null,null,null,null,null,"Week43",null,null,null,null,null,null,"Week44",null,null,null,null,null,null,"Week45",null,null,null,null,null,null,"Week46",null,null,null,null,null,null,"Week47",null,null,null,null,null,null,"Week48",null,null,null,null,null,null,"Week49",null,null,null,null,null,null,"Week50",null,null,null,null,null,null,"Week51",null,null,null,null,null,null,"Week52",null,null,null,null,null,null,"Week53",null,null,null,null,null,null,"Week54",null,null,null,null,null,null,"Week55",null,null,null,null,null,null,"Week56",null,null,null,null,null,null,"Week57",null,null,null,null,null,null,"Week58",null,null,null,null,null,null,"Week59",null,null,null,null,null,null,"Week60",null,null,null,null,null,null,"Week61",null,null,null,null,null,null,"Week62",null,null,null,null,null,null,"Week63",null,null,null,null,null,null,"Week64",null,null,null,null,null,null,"Week65",null,null,null,null,null,null,"Week66",null,null,null,null,null,null,"Week67",null,null,null,null,null,null,"Week68",null,null,null,null,null,null,"Week69",null,null,null,null,null,null,"Week70",null,null,null,null,null,null,"Week71",null,null,null,null,null,null,"Week72",null,null,null,null,null,null,"Week73",null,null,null,null,null,null,"Week74",null,null,null,null,null,null,"Week75",null,null,null,null,null,null,"Week76",null,null,null,null,null,null,"Week77",null,null,null,null,null,null,"Week78",null,null,null,null,null,null,"Week79",null,null,null,null,null,null,"Week80",null,null,null,null,null,null,"Week81",null,null,null,null,null,null,"Week82",null,null,null,null,null,null,"Week83",null,null,null,null,null,null,"Week84",null,null,null,null,null,null,"Week85",null,null,null,null,null,null,"Week86",null,null,null,null,null,null,"Week87",null,null,null,null,null,null,"Week88",null,null,null,null,null,null,"Week89",null,null,null,null,null,null,"Week90",null,null,null,null,null,null,"Week91",null,null,null,null,null,null,"Week92",null,null,null,null,null,null,"Week93",null,null,null,null,null,null,"Week94",null,null,null,null,null,null,"Week95",null,null,null,null,null,null,"Week96",null,null,null,null,null,null,"Week97",null,null,null,null,null,null,"Week98",null,null,null,null,null,null,"Week99",null,null,null,null,null,null,"Week100",null,null,null,null,null,null,"Week101",null,null,null,null,null,null,"Week102",null,null,null,null,null,null,"Week103",null,null,null,null,null,null,"Week104",null,null,null,null,null,null,"Week105",null,null,null,null,null,null,"Week106",null,null,null,null,null,null,"Week107",null,null,null,null,null,null,"Week108",null,null,null,null,null,null,"Week109",null,null,null,null,null,null,"Week110",null,null,null,null,null,null,"Week111",null,null,null,null,null,null,"Week112",null,null,null,null,null,null,"Week113",null,null,null,null,null,null,"Week114",null,null,null,null,null,null,"Week115",null,null,null,null,null,null,"Week116",null,null,null,null,null,null,"Week117",null,null,null,null,null,null,"Week118",null,null,null,null,null,null,"Week119",null,null,null,null,null,null,"Week120",null,null,null,null,null,null,"Week121",null,null,null,null,null,null,"Week122",null,null,null,null,null,null,"Week123",null,null,null,null,null,null,"Week124",null,null,null,null,null,null,"Week125",null,null,null,null,null,null,"Week126",null,null,null,null,null,null,"Week127",null,null,null,null,null,null,"Week128",null,null,null,null,null,null,"Week129",null,null,null,null,null,null,"Week130",null,null,null,null,null,null,"Week131",null,null,null,null,null,null,"Week132",null,null,null,null,null,null,"Week133",null,null,null,null,null,null,"Week134",null,null,null,null,null,null,"Week135",null,null,null,null,null,null,"Week136",null,null,null,null,null,null,"Week137",null,null,null,null,null,null,"Week138",null,null,null,null,null,null,"Week139",null,null,null,null,null,null,"Week140",null,null,null,null,null,null,"Week141",null,null,null,null,null,null,"Week142",null,null,null,null,null,null,"Week143",null,null,null,null,null,null,"Week144",null,null,null,null,null,null,"Week145",null,null,null,null,null,null,"Week146",null,null,null,null,null,null,"Week147",null,null,null,null,null,null,"Week148",null,null,null,null,null,null,"Week149",null,null,null,null,null,null,"Week150",null,null,null,null,null,null,"Week151",null,null,null,null,null,null,"Week152",null,null,null,null,null,null,"Week153",null,null,null,null,null,null,"Week154",null,null,null,null,null,null,"Week155",null,null,null,null,null,null,"Week156",null,null,null,null,null,null,"Week157",null,null,null,null,null,null,"Week158",null,null,null,null,null,null,"Week159",null,null,null,null,null,null,"Week160",null,null,null,null,null,null,"Week161",null,null,null,null,null,null,"Week162",null,null,null,null,null,null,"Week163",null,null,null,null,null,null,"Week164",null,null,null,null,null,null,"Week165",null,null,null,null,null,null,"Week166",null,null,null,null,null,null,"Week167",null,null,null,null,null,null,"Week168",null,null,null,null,null,null,"Week169",null,null,null,null,null,null,"Week170",null,null,null,null,null,null,"Week171",null,null,null,null,null,null,"Week172",null,null,null,null,null,null,"Week173",null,null,null,null,null,null,"Week174",null,null,null,null,null,null,"Week175",null,null,null,null,null,null,"Week176",null,null,null,null,null,null,"Week177",null,null,null,null,null,null,"Week178",null,null,null,null,null,null,"Week179",null,null,null,null,null,null,"Week180",null,null,null,null,null,null,"Week181",null,null,null,null,null,null,"Week182",null,null,null,null,null,null,"Week183",null,null,null,null,null,null,"Week184",null,null,null,null,null,null,"Week185",null,null,null,null,null,null,"Week186",null,null,null,null,null,null,"Week187",null,null,null,null,null,null,"Week188",null,null,null,null,null,null,"Week189",null,null,null,null,null,null,"Week190",null,null,null,null,null,null,"Week191",null,null,null,null,null,null,"Week192",null,null,null,null,null,null,"Week193",null,null,null,null,null,null,"Week194",null,null,null,null,null,null,"Week195",null,null,null,null,null,null,"Week196",null,null,null,null,null,null,"Week197",null,null,null,null,null,null,"Week198",null,null,null,null,null,null,"Week199",null,null,null,null,null,null,"Week200",null,null,null,null,null,null,"Week201",null,null,null,null,null,null,"Week202",null,null,null,null,null,null,"Week203",null,null,null,null,null,null,"Week204",null,null,null,null,null,null,"Week205",null,null,null,null,null,null,"Week206",null,null,null,null,null,null,"Week207",null,null,null,null,null,null,"Week208",null,null,null,null,null,null,"Week209",null,null,null,null,null,null,"Week210",null,null,null,null,null,null,"Week211",null,null,null,null,null,null,"Week212",null,null,null,null,null,null,"Week213",null,null,null,null,null,null,"Week214",null,null,null,null,null,null,"Week215",null,null,null,null,null,null,"Week216",null,null,null,null,null,null,"Week217",null,null,null,null,null,null,"Week218",null,null,null,null,null,null,"Week219",null,null,null,null,null,null,"Week220",null,null,null,null,null,null,"Week221",null,null,null,null,null,null,"Week222",null,null,null,null,null,null,"Week223",null,null,null,null,null,null,"Week224",null,null,null,null,null,null,"Week225",null,null,null,null,null,null,"Week226",null,null,null,null,null,null,"Week227",null,null,null,null,null,null,"Week228",null,null,null,null,null,null,"Week229",null,null,null,null,null,null,"Week230",null,null,null,null,null,null,"Week231",null,null,null,null,null,null,"Week232",null,null,null,null,null,null,"Week233",null,null,null,null,null,null,"Week234",null,null,null,null,null,null,"Week235",null,null,null,null,null,null,"Week236",null,null,null,null,null,null,"Week237",null,null,null,null,null,null,"Week238",null,null,null,null,null,null,"Week239",null,null,null,null,null,null,"Week240",null,null,null,null,null,null,"Week241",null,null,null,null,null,null,"Week242",null,null,null,null,null,null,"Week243",null,null,null,null,null,null,"Week244",null,null,null,null,null,null,"Week245",null,null,null,null,null,null,"Week246",null,null,null,null,null,null,"Week247",null,null,null,null,null,null,"Week248",null,null,null,null,null,null,"Week249",null,null,null,null,null,null,"Week250",null,null,null,null,null,null,"Week251",null,null,null,null,null,null,"Week252",null,null,null,null,null,null,"Week253",null,null,null,null,null,null,"Week254",null,null,null,null,null,null,"Week255",null,null,null,null,null,null,"Week256",null,null,null,null,null,null,"Week257",null,null,null,null,null,null,"Week258",null,null,null,null,null,null,"Week259",null,null,null,null,null,null,"Week260",null,null,null,null,null,null,"Week261",null,null,null,null,null,null,"Week262",null,null,null,null,null,null,"Week263",null,null,null,null,null,null,"Week264",null,null,null,null,null,null,"Week265",null,null,null,null,null,null,"Week266",null,null,null,null,null,null,"Week267",null,null,null,null,null,null,"Week268",null,null,null,null,null,null,"Week269",null,null,null,null,null,null,"Week270",null,null,null,null,null,null,"Week271",null,null,null,null,null,null,"Week272",null,null,null,null,null,null,"Week273",null,null,null,null,null,null,"Week274",null,null,null,null,null,null,"Week275",null,null,null,null,null,null,"Week276",null,null,null,null,null,null,"Week277",null,null,null,null,null,null,"Week278",null,null,null,null,null,null,"Week279",null,null,null,null,null,null,"Week280",null,null,null,null,null,null,"Week281",null,null,null,null,null,null,"Week282",null,null,null,null,null,null,"Week283",null,null,null,null,null,null,"Week284",null,null,null,null,null,null,"Week285",null,null,null,null,null,null,"Week286",null,null,null,null,null,null,"Week287",null,null,null,null,null,null,"Week288",null,null,null,null,null,null,"Week289",null,null,null,null,null,null,"Week290",null,null,null,null,null,null,"Week291",null,null,null,null,null,null,"Week292",null,null,null,null,null,null,"Week293",null,null,null,null,null,null,"Week294",null,null,null,null,null,null,"Week295",null,null,null,null,null,null,"Week296",null,null,null,null,null,null,"Week297",null,null,null,null,null,null,"Week298",null,null,null,null,null,null,"Week299",null,null,null,null,null,null,"Week300",null,null,null,null,null,null,"Week301",null,null,null,null,null,null,"Week302",null,null,null,null,null,null,"Week303",null,null,null,null,null,null,"Week304",null,null,null,null,null,null,"Week305",null,null,null,null,null,null,"Week306",null,null,null,null,null,null,"Week307",null,null,null,null,null,null,"Week308",null,null,null,null,null,null,"Week309",null,null,null,null,null,null,"Week310",null,null,null,null,null,null,"Week311",null,null,null,null,null,null,"Week312",null,null,null,null,null,null,"Week313",null,null,null,null,null,null,"Week314",null,null,null,null,null,null,"Week315",null,null,null,null,null,null,"Week316",null,null,null,null,null,null,"Week317",null,null,null,null,null,null,"Week318",null,null,null,null,null,null,"Week319",null,null,null,null,null,null,"Week320",null,null,null,null,null,null,"Week321",null,null,null,null,null,null,"Week322",null,null,null,null,null,null,"Week323",null,null,null,null,null,null,"Week324",null,null,null,null,null,null,"Week325",null,null,null,null,null,null,"Week326",null,null,null,null,null,null,"Week327",null,null,null,null,null,null,"Week328",null,null,null,null,null,null,"Week329",null,null,null,null,null,null,"Week330",null,null,null,null,null,null,"Week331",null,null,null,null,null,null,"Week332",null,null,null,null,null,null,"Week333",null,null,null,null,null,null,"Week334",null,null,null,null,null,null,"Week335",null,null,null,null,null,null,"Week336",null,null,null,null,null,null,"Week337",null,null,null,null,null,null,"Week338",null,null,null,null,null,null,"Week339",null,null,null,null,null,null,"Week340",null,null,null,null,null,null,"Week341",null,null,null,null,null,null,"Week342",null,null,null,null,null,null,"Week343",null,null,null,null,null,null,"Week344",null,null,null,null,null,null,"Week345",null,null,null,null,null,null,"Week346",null,null,null,null,null,null,"Week347",null,null,null,null,null,null,"Week348",null,null,null,null,null,null,"Week349",null,null,null,null,null,null,"Week350",null,null,null,null,null,null,"Week351",null,null,null,null,null,null,"Week352",null,null,null,null,null,null,"Week353",null,null,null,null,null,null,"Week354",null,null,null,null,null,null,"Week355",null,null,null,null,null,null,"Week356",null,null,null,null,null,null,"Week357",null,null,null,null,null,null,"Week358",null,null,null,null,null,null,"Week359",null,null,null,null,null,null,"Week360",null,null,null,null,null,null,"Week361",null,null,null,null,null,null,"Week362",null,null,null,null,null,null,"Week363",null,null,null,null,null,null,"Week364",null,null,null,null,null,null,"Week365",null,null,null,null,null,null,"Week366",null,null,null,null,null,null,"Week367",null,null,null,null,null,null,"Week368",null,null,null,null,null,null,"Week369",null,null,null,null,null,null,"Week370",null,null,null,null,null,null,"Week371",null,null,null,null,null,null,"Week372",null,null,null,null,null,null,"Week373",null,null,null,null,null,null,"Week374",null,null,null,null,null,null,"Week375",null,null,null,null,null,null,"Week376",null,null,null,null,null,null,"Week377",null,null,null,null,null,null,"Week378",null,null,null,null,null,null,"Week379",null,null,null,null,null,null,"Week380",null,null,null,null,null,null,"Week381",null,null,null,null,null,null,"Week382",null,null,null,null,null,null,"Week383",null,null,null,null,null,null,"Week384",null,null,null,null,null,null,"Week385",null,null,null,null,null,null,"Week386",null,null,null,null,null,null,"Week387",null,null,null,null,null,null,"Week388",null,null,null,null,null,null,"Week389",null,null,null,null,null,null,"Week390",null,null,null,null,null,null,"Week391",null,null,null,null,null,null,"Week392",null,null,null,null,null,null,"Week393",null,null,null,null,null,null,"Week394",null,null,null,null,null,null,"Week395",null,null,null,null,null,null,"Week396",null,null,null,null,null,null,"Week397",null,null,null,null,null,null,"Week398",null,null,null,null,null,null,"Week399",null,null,null,null,null,null,"Week400",null,null,null,null,null,null,"Week401",null,null,null,null,null,null,"Week402",null,null,null,null,null,null,"Week403",null,null,null,null,null,null,"Week404",null,null,null,null,null,null,"Week405",null,null,null,null,null,null,"Week406",null,null,null,null,null,null,"Week407",null,null,null,null,null,null,"Week408",null,null,null,null,null,null,"Week409",null,null,null,null,null,null,"Week410",null,null,null,null,null,null,"Week411",null,null,null,null,null,null,"Week412",null,null,null,null,null,null,"Week413",null,null,null,null,null,null,"Week414",null,null,null,null,null,null,"Week415",null,null,null,null,null,null,"Week416",null,null,null,null,null,null,"Week417",null,null,null,null,null,null,"Week418",null,null,null,null,null,null,"Week419",null,null,null,null,null,null,"Week420",null,null,null,null,null,null,"Week421",null,null,null,null,null,null,"Week422",null,null,null,null,null,null,"Week423",null,null,null,null,null,null,"Week424",null,null,null,null,null,null,"Week425",null,null,null,null,null,null,"Week426",null,null,null,null,null,null,"Week427",null,null,null,null,null,null,"Week428",null,null,null,null,null,null,"Week429",null,null,null,null,null,null,"Week430",null,null,null,null,null,null,"Week431",null,null,null,null,null,null,"Week432",null,null,null,null,null,null,"Week433",null,null,null,null,null,null,"Week434",null,null,null,null,null,null,"Week435",null,null,null,null,null,null,"Week436",null,null,null,null,null,null,"Week437",null,null,null,null,null,null,"Week438",null,null,null,null,null,null,"Week439",null,null,null,null,null,null,"Week440",null,null,null,null,null,null,"Week441",null,null,null,null,null,null,"Week442",null,null,null,null,null,null,"Week443",null,null,null,null,null,null,"Week444",null,null,null,null,null,null,"Week445",null,null,null,null,null,null,"Week446",null,null,null,null,null,null,"Week447",null,null,null,null,null,null,"Week448",null,null,null,null,null,null,"Week449",null,null,null,null,null,null,"Week450",null,null,null,null,null,null,"Week451",null,null,null,null,null,null,"Week452",null,null,null,null,null,null,"Week453",null,null,null,null,null,null,"Week454",null,null,null,null,null,null,"Week455",null,null,null,null,null,null,"Week456",null,null,null,null,null,null,"Week457",null,null,null,null,null,null,"Week458",null,null,null,null,null,null,"Week459",null,null,null,null,null,null,"Week460",null,null,null,null,null,null,"Week461",null,null,null,null,null,null,"Week462",null,null,null,null,null,null,"Week463",null,null,null,null,null,null,"Week464",null,null,null,null,null,null,"Week465",null,null,null,null,null,null,"Week466",null,null,null,null,null,null,"Week467",null,null,null,null,null,null,"Week468",null,null,null,null,null,null,"Week469",null,null,null,null,null,null,"Week470",null,null,null,null,null,null,"Week471",null,null,null,null,null,null,"Week472",null,null,null,null,null,null,"Week473",null,null,null,null,null,null,"Week474",null,null,null,null,null,null,"Week475",null,null,null,null,null,null,"Week476",null,null,null,null,null,null,"Week477",null,null,null,null,null,null,"Week478",null,null,null,null,null,null,"Week479",null,null,null,null,null,null,"Week480",null,null,null,null,null,null,"Week481",null,null,null,null,null,null,"Week482",null,null,null,null,null,null,"Week483",null,null,null,null,null,null,"Week484",null,null,null,null,null,null,"Week485",null,null,null,null,null,null,"Week486",null,null,null,null,null,null,"Week487",null,null,null,null,null,null,"Week488",null,null,null,null,null,null,"Week489",null,null,null,null,null,null,"Week490",null,null,null,null,null,null,"Week491",null,null,null,null,null,null,"Week492",null,null,null,null,null,null,"Week493",null,null,null,null,null,null,"Week494",null,null,null,null,null,null,"Week495",null,null,null,null,null,null,"Week496",null,null,null,null,null,null,"Week497",null,null,null,null,null,null,"Week498",null,null,null,null,null,null,"Week499",null,null,null,null,null,null,"Week500",null,null,null,null,null,null,"Week501",null,null,null,null,null,null,"Week502",null,null,null,null,null,null,"Week503",null,null,null,null,null,null,"Week504",null,null,null,null,null,null,"Week505",null,null,null,null,null,null,"Week506",null,null,null,null,null,null,"Week507",null,null,null,null,null,null,"Week508",null,null,null,null,null,null,"Week509",null,null,null,null,null,null,"Week510",null,null,null,null,null,null,"Week511",null,null,null,null,null,null,"Week512",null,null,null,null,null,null,"Week513",null,null,null,null,null,null,"Week514",null,null,null,null,null,null,"Week515",null,null,null,null,null,null,"Week516",null,null,null,null,null,null,"Week517",null,null,null,null,null,null,"Week518",null,null,null,null,null,null,"Week519",null,null,null,null,null,null,"Week520",null,null,null,null,null,null,"Week521",null,null,null,null,null,null,"Week522",null,null,null,null,null,null,"Week523",null,null,null,null,null,null,"Week524",null,null,null,null,null,null,"Week525",null,null,null,null,null,null,"Week526",null,null,null,null,null,null,"Week527",null,null,null,null,null,null,"Week528",null,null,null,null,null,null,"Week529",null,null,null,null,null,null,"Week530",null,null,null,null,null,null,"Week531",null,null,null,null,null,null,"Week532",null,null,null,null,null,null,"Week533",null,null,null,null,null,null,"Week534",null,null,null,null,null,null,"Week535",null,null,null,null,null,null,"Week536",null,null,null,null,null,null,"Week537",null,null,null,null,null,null,"Week538",null,null,null,null,null,null,"Week539",null,null,null,null,null,null,"Week540",null,null,null,null,null,null,"Week541",null,null,null,null,null,null,"Week542",null,null,null,null,null,null,"Week543",null,null,null,null,null,null,"Week544",null,null,null,null,null,null,"Week545",null,null,null,null,null,null,"Week546",null,null,null,null,null,null,"Week547",null,null,null,null,null,null,"Week548",null,null,null,null,null,null,"Week549",null,null,null,null,null,null,"Week550",null,null,null,null,null,null,"Week551",null,null,null,null,null,null,"Week552",null,null,null,null,null,null,"Week553",null,null,null,null,null,null,"Week554",null,null,null,null,null,null,"Week555",null,null,null,null,null,null,"Week556",null,null,null,null,null,null,"Week557",null,null,null,null,null,null,"Week558",null,null,null,null,null,null,"Week559",null,null,null,null,null,null,"Week560",null,null,null,null,null,null,"Week561",null,null,null,null,null,null,"Week562",null,null,null,null,null,null,"Week563",null,null,null,null,null,null,"Week564",null,null,null,null,null,null,"Week565",null,null,null,null,null,null,"Week566",null,null,null,null,null,null,"Week567",null,null,null,null,null,null,"Week568",null,null,null,null,null,null,"Week569",null,null,null,null,null,null,"Week570",null,null,null,null,null,null,"Week571",null,null,null,null,null,null,"Week572",null,null,null,null,null,null,"Week573",null,null,null,null,null,null,"Week574",null,null,null,null,null,null,"Week575",null,null,null,null,null,null,"Week576",null,null,null,null,null,null,"Week577",null,null,null,null,null,null,"Week578",null,null,null,null,null,null,"Week579",null,null,null,null,null,null,"Week580",null,null,null,null,null,null,"Week581",null,null,null,null,null,null,"Week582",null,null,null,null,null,null,"Week583",null,null,null,null,null,null,"Week584",null,null,null,null,null,null,"Week585",null,null,null,null,null,null,"Week586",null,null,null,null,null,null,"Week587",null,null,null,null,null,null,"Week588",null,null,null,null,null,null,"Week589",null,null,null,null,null,null,"Week590",null,null,null,null,null,null,"Week591",null,null,null,null,null,null,"Week592",null,null,null,null,null,null,"Week593",null,null,null,null,null,null,"Week594",null,null,null,null,null,null,"Week595",null,null,null,null,null,null,"Week596",null,null,null,null,null,null,"Week597",null,null,null,null,null,null,"Week598",null,null,null,null,null,null,"Week599",null,null,null,null,null,null,"Week600",null,null,null,null,null,null,"Week601",null,null,null,null,null,null,"Week602",null,null,null,null,null,null,"Week603",null,null,null,null,null,null,"Week604",null,null,null,null,null,null,"Week605",null,null,null,null,null,null,"Week606",null,null,null,null,null,null,"Week607",null,null,null,null,null,null,"Week608",null,null,null,null,null,null,"Week609",null,null,null,null,null,null,"Week610",null,null,null,null,null,null,"Week611",null,null,null,null,null,null,"Week612",null,null,null,null,null,null,"Week613",null,null,null,null,null,null,"Week614",null,null,null,null,null,null,"Week615",null,null,null,null,null,null,"Week616",null,null,null,null,null,null,"Week617",null,null,null,null,null,null,"Week618",null,null,null,null,null,null,"Week619",null,null,null,null,null,null,"Week620",null,null,null,null,null,null,"Week621",null,null,null,null,null,null,"Week622",null,null,null,null,null,null,"Week623",null,null,null,null,null,null,"Week624",null,null,null,null,null,null,"Week625",null,null,null,null,null,null,"Week626",null,null,null,null,null,null,"Week627",null,null,null,null,null,null,"Week628",null,null,null,null,null,null,"Week629",null,null,null,null,null,null,"Week630",null,null,null,null,null,null,"Week631",null,null,null,null,null,null,"Week632",null,null,null,null,null,null,"Week633",null,null,null,null,null,null,"Week634",null,null,null,null,null,null,"Week635",null,null,null,null,null,null,"Week636",null,null,null,null,null,null,"Week637",null,null,null,null,null,null,"Week638",null,null,null,null,null,null,"Week639",null,null,null,null,null,null,"Week640",null,null,null,null,null,null,"Week641",null,null,null,null,null,null,"Week642",null,null,null,null,null,null,"Week643",null,null,null,null,null,null,"Week644",null,null,null,null,null,null,"Week645",null,null,null,null,null,null,"Week646",null,null,null,null,null,null,"Week647",null,null,null,null,null,null,"Week648",null,null,null,null,null,null,"Week649",null,null,null,null,null,null,"Week650",null,null,null,null,null,null,"Week651",null,null,null,null,null,null,"Week652",null,null,null,null,null,null,"Week653",null,null,null,null,null,null,"Week654",null,null,null,null,null,null,"Week655",null,null,null,null,null,null,"Week656",null,null,null,null,null,null,"Week657",null,null,null,null,null,null,"Week658",null,null,null,null,null,null,"Week659",null,null,null,null,null,null,"Week660",null,null,null,null,null,null,"Week661",null,null,null,null,null,null,"Week662",null,null,null,null,null,null,"Week663",null,null,null,null,null,null,"Week664",null,null,null,null,null,null,"Week665",null,null,null,null,null,null,"Week666",null,null,null,null,null,null,"Week667",null,null,null,null,null,null,"Week668",null,null,null,null,null,null,"Week669",null,null,null,null,null,null,"Week670",null,null,null,null,null,null,"Week671",null,null,null,null,null,null,"Week672",null,null,null,null,null,null,"Week673",null,null,null,null,null,null,"Week674",null,null,null,null,null,null,"Week675",null,null,null,null,null,null,"Week676",null,null,null,null,null,null,"Week677",null,null,null,null,null,null,"Week678",null,null,null,null,null,null,"Week679",null,null,null,null,null,null,"Week680",null,null,null,null,null,null,"Week681",null,null,null,null,null,null,"Week682",null,null,null,null,null,null,"Week683",null,null,null,null,null,null,"Week684",null,null,null,null,null,null,"Week685",null,null,null,null,null,null,"Week686",null,null,null,null,null,null,"Week687",null,null,null,null,null,null,"Week688",null,null,null,null,null,null,"Week689",null,null,null,null,null,null,"Week690",null,null,null,null,null,null,"Week691",null,null,null,null,null,null,"Week692",null,null,null,null,null,null,"Week693",null,null,null,null,null,null,"Week694",null,null,null,null,null,null,"Week695",null,null,null,null,null,null,"Week696",null,null,null,null,null,null,"Week697",null,null,null,null,null,null,"Week698",null,null,null,null,null,null,"Week699",null,null,null,null,null,null,"Week700",null,null,null,null,null,null,"Week701",null,null,null,null,null,null,"Week702",null,null,null,null,null,null,"Week703",null,null,null,null,null,null,"Week704",null,null,null,null,null,null,"Week705",null,null,null,null,null,null,"Week706",null,null,null,null,null,null,"Week707",null,null,null,null,null,null,"Week708",null,null,null,null,null,null,"Week709",null,null,null,null,null,null,"Week710",null,null,null,null,null,null,"Week711",null,null,null,null,null,null,"Week712",null,null,null,null,null,null,"Week713",null,null,null,null,null,null,"Week714",null,null,null,null,null,null,"Week715",null,null,null,null,null,null,"Week716",null,null,null,null,null,null,"Week717",null,null,null,null,null,null,"Week718",null,null,null,null,null,null,"Week719",null,null,null,null,null,null,"Week720",null,null,null,null,null,null,"Week721",null,null,null,null,null,null,"Week722",null,null,null,null,null,null,"Week723",null,null,null,null,null,null,"Week724",null,null,null,null,null,null,"Week725",null,null,null,null,null,null,"Week726",null,null,null,null,null,null,"Week727",null,null,null,null,null,null,"Week728",null,null,null,null,null,null,"Week729",null,null,null,null,null,null,"Week730",null,null,null,null,null,null,"Week731",null,null,null,null,null,null,"Week732",null,null,null,null,null,null,"Week733",null,null,null,null,null,null,"Week734",null,null,null,null,null,null,"Week735",null,null,null,null,null,null,"Week736",null,null,null,null,null,null,"Week737",null,null,null,null,null,null,"Week738",null,null,null,null,null,null,"Week739",null,null,null,null,null,null,"Week740",null,null,null,null,null,null,"Week741",null,null,null,null,null,null,"Week742",null,null,null,null,null,null,"Week743",null,null,null,null,null,null,"Week744",null,null,null,null,null,null,"Week745",null,null,null,null,null,null,"Week746",null,null,null,null,null,null,"Week747",null,null,null,null,null,null,"Week748",null,null,null,null,null,null,"Week749",null,null,null,null,null,null,"Week750",null,null,null,null,null,null,"Week751",null,null,null,null,null,null,"Week752",null,null,null,null,null,null,"Week753",null,null,null,null,null,null,"Week754",null,null,null,null,null,null,"Week755",null,null,null,null,null,null,"Week756",null,null,null,null,null,null,"Week757",null,null,null,null,null,null,"Week758",null,null,null,null,null,null,"Week759",null,null,null,null,null,null,"Week760",null,null,null,null,null,null,"Week761",null,null,null,null,null,null,"Week762",null,null,null,null,null,null,"Week763",null,null,null,null,null,null,"Week764",null,null,null,null,null,null,"Week765",null,null,null,null,null,null,"Week766",null,null,null,null,null,null,"Week767",null,null,null,null,null,null,"Week768",null,null,null,null,null,null,"Week769",null,null,null,null,null,null,"Week770",null,null,null,null,null,null,"Week771",null,null,null,null,null,null,"Week772",null,null,null,null,null,null,"Week773",null,null,null,null,null,null,"Week774",null,null,null,null,null,null,"Week775",null,null,null,null,null,null,"Week776",null,null,null,null,null,null,"Week777",null,null,null,null,null,null,"Week778",null,null,null,null,null,null,"Week779",null,null,null,null,null,null,"Week780",null,null,null,null,null,null,"Week781",null,null,null,null,null,null,"Week782",null,null,null,null,null,null,"Week783",null,null,null,null,null,null,"Week784",null,null,null,null,null,null,"Week785",null,null,null,null,null,null,"Week786",null,null,null,null,null,null,"Week787",null,null,null,null,null,null,"Week788",null,null,null,null,null,null,"Week789",null,null,null,null,null,null,"Week790",null,null,null,null,null,null,"Week791",null,null,null,null,null,null,"Week792",null,null,null,null,null,null,"Week793",null,null,null,null,null,null,"Week794",null,null,null,null,null,null,"Week795",null,null,null,null,null,null,"Week796",null,null,null,null,null,null,"Week797",null,null,null,null,null,null,"Week798",null,null,null,null,null,null,"Week799",null,null,null,null,null,null,"Week800",null,null,null,null,null,null,"Week801",null,null,null,null,null,null,"Week802",null,null,null,null,null,null,"Week803",null,null,null,null,null,null,"Week804",null,null,null,null,null,null,"Week805",null,null,null,null,null,null,"Week806",null,null,null,null,null,null,"Week807",null,null,null,null,null,null,"Week808",null,null,null,null,null,null,"Week809",null,null,null,null,null,null,"Week810",null,null,null,null,null,null,"Week811",null,null,null,null,null,null,"Week812",null,null,null,null,null,null,"Week813",null,null,null,null,null,null,"Week814",null,null,null,null,null,null,"Week815",null,null,null,null,null,null,"Week816",null,null,null,null,null,null,"Week817",null,null,null,null,null,null,"Week818",null,null,null,null,null,null,"Week819",null,null,null,null,null,null,"Week820",null,null,null,null,null,null,"Week821",null,null,null,null,null,null,"Week822",null,null,null,null,null,null,"Week823",null,null,null,null,null,null,"Week824",null,null,null,null,null,null,"Week825",null,null,null,null,null,null,"Week826",null,null,null,null,null,null,"Week827",null,null,null,null,null,null,"Week828",null,null,null,null,null,null,"Week829",null,null,null,null,null,null,"Week830",null,null,null,null,null,null,"Week831",null,null,null,null,null,null,"Week832",null,null,null,null,null,null,"Week833",null,null,null,null,null,null,"Week834",null,null,null,null,null,null,"Week835",null,null,null,null,null,null,"Week836",null,null,null,null,null,null,"Week837",null,null,null,null,null,null,"Week838",null,null,null,null,null,null,"Week839",null,null,null,null,null,null,"Week840",null,null,null,null,null,null,"Week841",null,null,null,null,null,null,"Week842",null,null,null,null,null,null,"Week843",null,null,null,null,null,null,"Week844",null,null,null,null,null,null,"Week845",null,null,null,null,null,null,"Week846",null,null,null,null,null,null,"Week847",null,null,null,null,null,null,"Week848",null,null,null,null,null,null,"Week849",null,null,null,null,null,null,"Week850",null,null,null,null,null,null,"Week851",null,null,null,null,null,null,"Week852",null,null,null,null,null,null,"Week853",null,null,null,null,null,null,"Week854",null,null,null,null,null,null,"Week855",null,null,null,null,null,null,"Week856",null,null,null,null,null,null,"Week857",null,null,null,null,null,null,"Week858",null,null,null,null,null,null,"Week859",null,null,null,null,null,null,"Week860",null,null,null,null,null,null,"Week861",null,null,null,null,null,null,"Week862",null,null,null,null,null,null,"Week863",null,null,null,null,null,null,"Week864",null,null,null,null,null,null,"Week865",null,null,null,null,null,null,"Week866",null,null,null,null,null,null,"Week867",null,null,null,null,null,null,"Week868",null,null,null,null,null,null,"Week869",null,null,null,null,null,null,"Week870",null,null,null,null,null,null,"Week871",null,null,null,null,null,null,"Week872",null,null,null,null,null,null,"Week873",null,null,null,null,null,null,"Week874",null,null,null,null,null,null,"Week875",null,null,null,null,null,null,"Week876",null,null,null,null,null,null,"Week877",null,null,null,null,null,null,"Week878",null,null,null,null,null,null,"Week879",null,null,null,null,null,null,"Week880",null,null,null,null,null,null,"Week881",null,null,null,null,null,null,"Week882",null,null,null,null,null,null,"Week883",null,null,null,null,null,null,"Week884",null,null,null,null,null,null,"Week885",null,null,null,null,null,null,"Week886",null,null,null,null,null,null,"Week887",null,null,null,null,null,null,"Week888",null,null,null,null,null,null,"Week889",null,null,null,null,null,null,"Week890",null,null,null,null,null,null,"Week891",null,null,null,null,null,null,"Week892",null,null,null,null,null,null,"Week893",null,null,null,null,null,null,"Week894",null,null,null,null,null,null,"Week895",null,null,null,null,null,null,"Week896",null,null,null,null,null,null,"Week897",null,null,null,null,null,null,"Week898",null,null,null,null,null,null,"Week899",null,null,null,null,null,null,"Week900",null,null,null,null,null,null,"Week901",null,null,null,null,null,null,"Week902",null,null,null,null,null,null,"Week903",null,null,null,null,null,null,"Week904",null,null,null,null,null,null,"Week905",null,null,null,null,null,null,"Week906",null,null,null,null,null,null,"Week907",null,null,null,null,null,null,"Week908",null,null,null,null,null,null,"Week909",null,null,null,null,null,null,"Week910",null,null,null,null,null,null,"Week911",null,null,null,null,null,null,"Week912",null,null,null,null,null,null,"Week913",null,null,null,null,null,null,"Week914",null,null,null,null,null,null,"Week915",null,null,null,null,null,null,"Week916",null,null,null,null,null,null,"Week917",null,null,null,null,null,null,"Week918",null,null,null,null,null,null,"Week919",null,null,null,null,null,null,"Week920",null,null,null,null,null,null,"Week921",null,null,null,null,null,null,"Week922",null,null,null,null,null,null,"Week923",null,null,null,null,null,null,"Week924",null,null,null,null,null,null,"Week925",null,null,null,null,null,null,"Week926",null,null,null,null,null,null,"Week927",null,null,null,null,null,null,"Week928",null,null,null,null,null,null,"Week929",null,null,null,null,null,null,"Week930",null,null,null,null,null,null,"Week931",null,null,null,null,null,null,"Week932",null,null,null,null,null,null,"Week933",null,null,null,null,null,null,"Week934",null,null,null,null,null,null,"Week935",null,null,null,null,null,null,"Week936",null,null,null,null,null,null,"Week937",null,null,null,null,null,null,"Week938",null,null,null,null,null,null,"Week939",null,null,null,null,null,null,"Week940",null,null,null,null,null,null,"Week941",null,null,null,null,null,null,"Week942",null,null,null,null,null,null,"Week943",null,null,null,null,null,null,"Week944",null,null,null,null,null,null,"Week945",null,null,null,null,null,null,"Week946",null,null,null,null,null,null,"Week947",null,null,null,null,null,null,"Week948",null,null,null,null,null,null,"Week949",null,null,null,null,null,null,"Week950",null,null,null,null,null,null,"Week951",null,null,null,null,null,null,"Week952",null,null,null,null,null,null,"Week953",null,null,null,null,null,null,"Week954",null,null,null,null,null,null,"Week955",null,null,null,null,null,null,"Week956",null,null,null,null,null,null,"Week957",null,null,null,null,null,null,"Week958",null,null,null,null,null,null,"Week959",null,null,null,null,null,null,"Week960",null,null,null,null,null,null,"Week961",null,null,null,null,null,null,"Week962",null,null,null,null,null,null,"Week963",null,null,null,null,null,null,"Week964",null,null,null,null,null,null,"Week965",null,null,null,null,null,null,"Week966",null,null,null,null,null,null,"Week967",null,null,null,null,null,null,"Week968",null,null,null,null,null,null,"Week969",null,null,null,null,null,null,"Week970",null,null,null,null,null,null,"Week971",null,null,null,null,null,null,"Week972",null,null,null,null,null,null,"Week973",null,null,null,null,null,null,"Week974",null,null,null,null,null,null,"Week975",null,null,null,null,null,null,"Week976",null,null,null,null,null,null,"Week977",null,null,null,null,null,null,"Week978",null,null,null,null,null,null,"Week979",null,null,null,null,null,null,"Week980",null,null,null,null,null,null,"Week981",null,null,null,null,null,null,"Week982",null,null,null,null,null,null,"Week983",null,null,null,null,null,null,"Week984",null,null,null,null,null,null,"Week985",null,null,null,null,null,null,"Week986",null,null,null,null,null,null,"Week987",null,null,null,null,null,null,"Week988",null,null,null,null,null,null,"Week989",null,null,null,null,null,null,"Week990",null,null,null,null,null,null,"Week991",null,null,null,null,null,null,"Week992",null,null,null,null,null,null,"Week993",null,null,null,null,null,null,"Week994",null,null,null,null,null,null,"Week995",null,null,null,null,null,null,"Week996",null,null,null,null,null,null,"Week997",null,null,null,null,null,null,"Week998",null,null,null,null,null,null,"Week999",null,null,null,null,null,null,"Week1000",null,null,null,null,null,null,"Week1001",null,null,null,null,null,null,"Week1002",null,null,null,null,null,null,"Week1003",null,null,null,null,null,null,"Week1004",null,null,null,null,null,null,"Week1005",null,null,null,null,null,null,"Week1006",null,null,null,null,null,null,"Week1007",null,null,null,null,null,null,"Week1008",null,null,null,null,null,null,"Week1009",null,null,null,null,null,null,"Week1010",null,null,null,null,null,null,"Week1011",null,null,null,null,null,null,"Week1012",null,null,null,null,null,null,"Week1013",null,null,null,null,null,null,"Week1014",null,null,null,null,null,null,"Week1015",null,null,null,null,null,null,"Week1016",null,null,null,null,null,null,"Week1017",null,null,null,null,null,null,"Week1018",null,null,null,null,null,null,"Week1019",null,null,null,null,null,null,"Week1020",null,null,null,null,null,null,"Week1021",null,null,null,null,null,null,"Week1022",null,null,null,null,null,null,"Week1023",null,null,null,null,null,null,"Week1024",null,null,null,null,null,null,"Week1025",null,null,null,null,null,null,"Week1026",null,null,null,null,null,null,"Week1027",null,null,null,null,null,null,"Week1028",null,null,null,null,null,null,"Week1029",null,null,null,null,null,null,"Week1030",null,null,null,null,null,null,"Week1031",null,null,null,null,null,null,"Week1032",null,null,null,null,null,null,"Week1033",null,null,null,null,null,null,"Week1034",null,null,null,null,null,null,"Week1035",null,null,null,null,null,null,"Week1036",null,null,null,null,null,null,"Week1037",null,null,null,null,null,null,"Week1038",null,null,null,null,null,null,"Week1039",null,null,null,null,null,null,"Week1040",null,null,null,null,null,null,"Week1041",null,null,null,null,null,null,"Week1042",null,null,null,null,null,null,"Week1043",null,null,null,null,null,null,"Week1044",null,null,null,null,null,null,"Week1045",null,null,null,null,null,null,"Week1046",null,null,null,null,null,null,"Week1047",null,null,null,null,null,null,"Week1048",null,null,null,null,null,null,"Week1049",null,null,null,null,null,null,"Week1050",null,null,null,null,null,null,"Week1051",null,null,null,null,null,null,"Week1052",null,null,null,null,null,null,"Week1053",null,null,null,null,null,null,"Week1054",null,null,null,null,null,null,"Week1055",null,null,null,null,null,null,"Week1056",null,null,null,null,null,null,"Week1057",null,null,null,null,null,null,"Week1058",null,null,null,null,null,null,"Week1059",null,null,null,null,null,null,"Week1060",null,null,null,null,null,null,"Week1061",null,null,null,null,null,null,"Week1062",null,null,null,null,null,null,"Week1063",null,null,null,null,null,null,"Week1064",null,null,null,null,null,null,"Week1065",null,null,null,null,null,null,"Week1066",null,null,null,null,null,null,"Week1067",null,null,null,null,null,null,"Week1068",null,null,null,null,null,null,"Week1069",null,null,null,null,null,null,"Week1070",null,null,null,null,null,null,"Week1071",null,null,null,null,null,null,"Week1072",null,null,null,null,null,null,"Week1073",null,null,null,null,null,null,"Week1074",null,null,null,null,null,null,"Week1075",null,null,null,null,null,null,"Week1076",null,null,null,null,null,null,"Week1077",null,null,null,null,null,null,"Week1078",null,null,null,null,null,null,"Week1079",null,null,null,null,null,null,"Week1080",null,null,null,null,null,null,"Week1081",null,null,null,null,null,null,"Week1082",null,null,null,null,null,null,"Week1083",null,null,null,null,null,null,"Week1084",null,null,null,null,null,null,"Week1085",null,null,null,null,null,null,"Week1086",null,null,null,null,null,null,"Week1087",null,null,null,null,null,null,"Week1088",null,null,null,null,null,null,"Week1089",null,null,null,null,null,null,"Week1090",null,null,null,null,null,null,"Week1091",null,null,null,null,null,null,"Week1092",null,null,null,null,null,null,"Week1093",null,null,null,null,null,null,"Week1094",null,null,null,null,null,null,"Week1095",null,null,null,null,null,null,"Week1096",null,null,null,null,null,null,"Week1097",null,null,null,null,null,null,"Week1098",null,null,null,null,null,null,"Week1099",null,null,null,null,null,null,"Week1100",null,null,null,null,null,null,"Week1101",null,null,null,null,null,null,"Week1102",null,null,null,null,null,null,"Week1103",null,null,null,null,null,null,"Week1104",null,null,null,null,null,null,"Week1105",null,null,null,null,null,null,"Week1106",null,null,null,null,null,null,"Week1107",null,null,null,null,null,null,"Week1108",null,null,null,null,null,null,"Week1109",null,null,null,null,null,null,"Week1110",null,null,null,null,null,null,"Week1111",null,null,null,null,null,null,"Week1112",null,null,null,null,null,null,"Week1113",null,null,null,null,null,null,"Week1114",null,null,null,null,null,null,"Week1115",null,null,null,null,null,null,"Week1116",null,null,null,null,null,null,"Week1117",null,null,null,null,null,null,"Week1118",null,null,null,null,null,null,"Week1119",null,null,null,null,null,null,"Week1120",null,null,null,null,null,null,"Week1121",null,null,null,null,null,null,"Week1122",null,null,null,null,null,null,"Week1123",null,null,null,null,null,null,"Week1124",null,null,null,null,null,null,"Week1125",null,null,null,null,null,null,"Week1126",null,null,null,null,null,null,"Week1127",null,null,null,null,null,null,"Week1128",null,null,null,null,null,null,"Week1129",null,null,null,null,null,null,"Week1130",null,null,null,null,null,null,"Week1131",null,null,null,null,null,null,"Week1132",null,null,null,null,null,null,"Week1133",null,null,null,null,null,null,"Week1134",null,null,null,null,null,null,"Week1135",null,null,null,null,null,null,"Week1136",null,null,null,null,null,null,"Week1137",null,null,null,null,null,null,"Week1138",null,null,null,null,null,null,"Week1139",null,null,null,null,null,null,"Week1140",null,null,null,null,null,null,"Week1141",null,null,null,null,null,null,"Week1142",null,null,null,null,null,null,"Week1143",null,null,null,null,null,null,"Week1144",null,null,null,null,null,null,"Week1145",null,null,null,null,null,null,"Week1146",null,null,null,null,null,null,"Week1147",null,null,null,null,null,null,"Week1148",null,null,null,null,null,null,"Week1149",null,null,null,null,null,null,"Week1150",null,null,null,null,null,null,"Week1151",null,null,null,null,null,null,"Week1152",null,null,null,null,null,null,"Week1153",null,null,null,null,null,null,"Week1154",null,null,null,null,null,null,"Week1155",null,null,null,null,null,null,"Week1156",null,null,null,null,null,null,"Week1157",null,null,null,null,null,null,"Week1158",null,null,null,null,null,null,"Week1159",null,null,null,null,null,null,"Week1160",null,null,null,null,null,null,"Week1161",null,null,null,null,null,null,"Week1162",null,null,null,null,null,null,"Week1163",null,null,null,null,null,null,"Week1164",null,null,null,null,null,null,"Week1165",null,null,null,null,null,null,"Week1166",null,null,null,null,null,null,"Week1167",null,null,null,null,null,null,"Week1168",null,null,null,null,null,null,"Week1169",null,null,null,null,null,null,"Week1170",null,null,null,null,null,null,"Week1171",null,null,null,null,null,null,"Week1172",null,null,null,null,null,null,"Week1173",null,null,null,null,null,null,"Week1174",null,null,null,null,null,null,"Week1175",null,null,null,null,null,null,"Week1176",null,null,null,null,null,null,"Week1177",null,null,null,null,null,null,"Week1178",null,null,null,null,null,null,"Week1179",null,null,null,null,null,null,"Week1180",null,null,null,null,null,null,"Week1181",null,null,null,null,null,null,"Week1182",null,null,null,null,null,null,"Week1183",null,null,null,null,null,null,"Week1184",null,null,null,null,null,null,"Week1185",null,null,null,null,null,null,"Week1186",null,null,null,null,null,null,"Week1187",null,null,null,null,null,null,"Week1188",null,null,null,null,null,null,"Week1189",null,null,null,null,null,null,"Week1190",null,null,null,null,null,null,"Week1191",null,null,null,null,null,null,"Week1192",null,null,null,null,null,null,"Week1193",null,null,null,null,null,null,"Week1194",null,null,null,null,null,null,"Week1195",null,null,null,null,null,null,"Week1196",null,null,null,null,null,null,"Week1197",null,null,null,null,null,null,"Week1198",null,null,null,null,null,null,"Week1199",null,null,null,null,null,null,"Week1200",null,null,null,null,null,null,"Week1201",null,null,null,null,null,null,"Week1202",null,null,null,null,null,null,"Week1203",null,null,null,null,null,null,"Week1204",null,null,null,null,null,null,"Week1205",null,null,null,null,null,null,"Week1206",null,null,null,null,null,null,"Week1207",null,null,null,null,null,null,"Week1208",null,null,null,null,null,null,"Week1209",null,null,null,null,null,null,"Week1210",null,null,null,null,null,null,"Week1211",null,null,null,null,null,null,"Week1212",null,null,null,null,null,null,"Week1213",null,null,null,null,null,null,"Week1214",null,null,null,null,null,null,"Week1215",null,null,null,null,null,null,"Week1216",null,null,null,null,null,null,"Week1217",null,null,null,null,null,null,"Week1218",null,null,null,null,null,null,"Week1219",null,null,null,null,null,null,"Week1220",null,null,null,null,null,null,"Week1221",null,null,null,null,null,null,"Week1222",null,null,null,null,null,null,"Week1223",null,null,null,null,null,null,"Week1224",null,null,null,null,null,null,"Week1225",null,null,null,null,null,null,"Week1226",null,null,null,null,null,null,"Week1227",null,null,null,null,null,null,"Week1228",null,null,null,null,null,null,"Week1229",null,null,null,null,null,null,"Week1230",null,null,null,null,null,null,"Week1231",null,null,null,null,null,null,"Week1232",null,null,null,null,null,null,"Week1233",null,null,null,null,null,null,"Week1234",null,null,null,null,null,null,"Week1235",null,null,null,null,null,null,"Week1236",null,null,null,null,null,null,"Week1237",null,null,null,null,null,null,"Week1238",null,null,null,null,null,null,"Week1239",null,null,null,null,null,null,"Week1240",null,null,null,null,null,null,"Week1241",null,null,null,null,null,null,"Week1242",null,null,null,null,null,null,"Week1243",null,null,null,null,null,null,"Week1244",null,null,null,null,null,null,"Week1245",null,null,null,null,null,null,"Week1246",null,null,null,null,null,null,"Week1247",null,null,null,null,null,null,"Week1248",null,null,null,null,null,null,"Week1249",null,null,null,null,null,null,"Week1250",null,null,null,null,null,null,"Week1251",null,null,null,null,null,null,"Week1252",null,null,null,null,null,null,"Week1253",null,null,null,null,null,null,"Week1254",null,null,null,null,null,null,"Week1255",null,null,null,null,null,null,"Week1256",null,null,null,null,null,null,"Week1257",null,null,null,null,null,null,"Week1258",null,null,null,null,null,null,"Week1259",null,null,null,null,null,null,"Week1260",null,null,null,null,null,null,"Week1261",null,null,null,null,null,null,"Week1262",null,null,null,null,null,null,"Week1263",null,null,null,null,null,null,"Week1264",null,null,null,null,null,null,"Week1265",null,null,null,null,null,null,"Week1266",null,null,null,null,null,null,"Week1267",null,null,null,null,null,null,"Week1268",null,null,null,null,null,null,"Week1269",null,null,null,null,null,null,"Week1270",null,null,null,null,null,null,"Week1271",null,null,null,null,null,null,"Week1272",null,null,null,null,null,null,"Week1273",null,null,null,null,null,null,"Week1274",null,null,null,null,null,null,"Week1275",null,null,null,null,null,null,"Week1276",null,null,null,null,null,null,"Week1277",null,null,null,null,null,null,"Week1278",null,null,null,null,null,null,"Week1279",null,null,null,null,null,null,"Week1280",null,null,null,null,null,null,"Week1281",null,null,null,null,null,null,"Week1282",null,null,null,null,null,null,"Week1283",null,null,null,null,null,null,"Week1284",null,null,null,null,null,null,"Week1285",null,null,null,null,null,null,"Week1286",null,null,null,null,null,null,"Week1287",null,null,null,null,null,null,"Week1288",null,null,null,null,null,null,"Week1289",null,null,null,null,null,null,"Week1290",null,null,null,null,null,null,"Week1291",null,null,null,null,null,null,"Week1292",null,null,null,null,null,null,"Week1293",null,null,null,null,null,null,"Week1294",null,null,null,null,null,null,"Week1295",null,null,null,null,null,null,"Week1296",null,null,null,null,null,null,"Week1297",null,null,null,null,null,null,"Week1298",null,null,null,null,null,null,"Week1299",null,null,null,null,null,null,"Week1300",null,null,null,null,null,null,"Week1301",null,null,null,null,null,null,"Week1302",null,null,null,null,null,null,"Week1303",null,null,null,null,null,null,"Week1304",null,null,null,null,null,null,"Week1305",null,null,null,null,null,null,"Week1306",null,null,null,null,null,null,"Week1307",null,null,null,null,null,null,"Week1308",null,null,null,null,null,null,"Week1309",null,null,null,null,null,null,"Week1310",null,null,null,null,null,null,"Week1311",null,null,null,null,null,null,"Week1312",null,null,null,null,null,null,"Week1313",null,null,null,null,null,null,"Week1314",null,null,null,null,null,null,"Week1315",null,null,null,null,null,null,"Week1316",null,null,null,null,null,null,"Week1317",null,null,null,null,null,null,"Week1318",null,null,null,null,null,null,"Week1319",null,null,null,null,null,null,"Week1320",null,null,null,null,null,null,"Week1321",null,null,null,null,null,null,"Week1322",null,null,null,null,null,null,"Week1323",null,null,null,null,null,null,"Week1324",null,null,null,null,null,null,"Week1325",null,null,null,null,null,null,"Week1326",null,null,null,null,null,null,"Week1327",null,null,null,null,null,null,"Week1328",null,null,null,null,null,null,"Week1329",null,null,null,null,null,null,"Week1330",null,null,null,null,null,null,"Week1331",null,null,null,null,null,null,"Week1332",null,null,null,null,null,null,"Week1333",null,null,null,null,null,null,"Week1334",null,null,null,null,null,null,"Week1335",null,null,null,null,null,null,"Week1336",null,null,null,null,null,null,"Week1337",null,null,null,null,null,null,"Week1338",null,null,null,null,null,null,"Week1339",null,null,null,null,null,null,"Week1340",null,null,null,null,null,null,"Week1341",null,null,null,null,null,null,"Week1342",null,null,null,null,null,null,"Week1343",null,null,null,null,null,null,"Week1344",null,null,null,null,null,null,"Week1345",null,null,null,null,null,null,"Week1346",null,null,null,null,null,null,"Week1347",null,null,null,null,null,null,"Week1348",null,null,null,null,null,null,"Week1349",null,null,null,null,null,null,"Week1350",null,null,null,null,null,null,"Week1351",null,null,null,null,null,null,"Week1352",null,null,null,null,null,null,"Week1353",null,null,null,null,null,null,"Week1354",null,null,null,null,null,null,"Week1355",null,null,null,null,null,null,"Week1356",null,null,null,null,null,null,"Week1357",null,null,null,null,null,null,"Week1358",null,null,null,null,null,null,"Week1359",null,null,null,null,null,null,"Week1360",null,null,null,null,null,null,"Week1361",null,null,null,null,null,null,"Week1362",null,null,null,null,null,null,"Week1363",null,null,null,null,null,null,"Week1364",null,null,null,null,null,null,"Week1365",null,null,null,null,null,null,"Week1366",null,null,null,null,null,null,"Week1367",null,null,null,null,null,null,"Week1368",null,null,null,null,null,null,"Week1369",null,null,null,null,null,null,"Week1370",null,null,null,null,null,null,"Week1371",null,null,null,null,null,null,"Week1372",null,null,null,null,null,null,"Week1373",null,null,null,null,null,null,"Week1374",null,null,null,null,null,null,"Week1375",null,null,null,null,null,null,"Week1376",null,null,null,null,null,null,"Week1377",null,null,null,null,null,null,"Week1378",null,null,null,null,null,null,"Week1379",null,null,null,null,null,null,"Week1380",null,null,null,null,null,null,"Week1381",null,null,null,null,null,null,"Week1382",null,null,null,null,null,null,"Week1383",null,null,null,null,null,null,"Week1384",null,null,null,null,null,null,"Week1385",null,null,null,null,null,null,"Week1386",null,null,null,null,null,null,"Week1387",null,null,null,null,null,null,"Week1388",null,null,null,null,null,null,"Week1389",null,null,null,null,null,null,"Week1390",null,null,null,null,null,null,"Week1391",null,null,null,null,null,null,"Week1392",null,null,null,null,null,null,"Week1393",null,null,null,null,null,null,"Week1394",null,null,null,null,null,null,"Week1395",null,null,null,null,null,null,"Week1396",null,null,null,null,null,null,"Week1397",null,null,null,null,null,null,"Week1398",null,null,null,null,null,null,"Week1399",null,null,null,null,null,null,"Week1400",null,null,null,null,null,null,"Week1401",null,null,null,null,null,null,"Week1402",null,null,null,null,null,null,"Week1403",null,null,null,null,null,null,"Week1404",null,null,null,null,null,null,"Week1405",null,null,null,null,null,null,"Week1406",null,null,null,null,null,null,"Week1407",null,null,null,null,null,null,"Week1408",null,null,null,null,null,null,"Week1409",null,null,null,null,null,null,"Week1410",null,null,null,null,null,null,"Week1411",null,null,null,null,null,null,"Week1412",null,null,null,null,null,null,"Week1413",null,null,null,null,null,null,"Week1414",null,null,null,null,null,null,"Week1415",null,null,null,null,null,null,"Week1416",null,null,null,null,null,null,"Week1417",null,null,null,null,null,null,"Week1418",null,null,null,null,null,null,"Week1419",null,null,null,null,null,null,"Week1420",null,null,null,null,null,null,"Week1421",null,null,null,null,null,null,"Week1422",null,null,null,null,null,null,"Week1423",null,null,null,null,null,null,"Week1424",null,null,null,null,null,null,"Week1425",null,null,null,null,null,null,"Week1426",null,null,null,null,null,null,"Week1427",null,null,null,null,null,null,"Week1428",null,null,null,null,null,null,"Week1429",null,null,null,null,null,null,"Week1430",null,null,null,null,null,null,"Week1431",null,null,null,null,null,null,"Week1432",null,null,null,null,null,null,"Week1433",null,null,null,null,null,null,"Week1434",null,null,null,null,null,null,"Week1435",null,null,null,null,null,null,"Week1436",null,null,null,null,null,null,"Week1437",null,null,null,null,null,null,"Week1438",null,null,null,null,null,null,"Week1439",null,null,null,null,null,null,"Week1440",null,null,null,null,null,null,"Week1441",null,null,null,null,null,null,"Week1442",null,null,null,null,null,null,"Week1443",null,null,null,null,null,null,"Week1444",null,null,null,null,null,null,"Week1445",null,null,null,null,null,null,"Week1446",null,null,null,null,null,null,"Week1447",null,null,null,null,null,null,"Week1448",null,null,null,null,null,null,"Week1449",null,null,null,null,null,null,"Week1450",null,null,null,null,null,null,"Week1451",null,null,null,null,null,null,"Week1452",null,null,null,null,null,null,"Week1453",null,null,null,null,null,null,"Week1454",null,null,null,null,null,null,"Week1455",null,null,null,null,null,null,"Week1456",null,null,null,null,null,null,"Week1457",null,null,null,null,null,null,"Week1458",null,null,null,null,null,null,"Week1459",null,null,null,null,null,null,"Week1460",null,null,null,null,null,null,"Week1461",null,null,null,null,null,null,"Week1462",null,null,null,null,null,null,"Week1463",null,null,null,null,null,null,"Week1464",null,null,null,null,null,null,"Week1465",null,null,null,null,null,null,"Week1466",null,null,null,null,null,null,"Week1467",null,null,null,null,null,null,"Week1468",null,null,null,null,null,null,"Week1469",null,null,null,null,null,null,"Week1470",null,null,null,null,null,null,"Week1471",null,null,null,null,null,null,"Week1472",null,null,null,null,null,null,"Week1473",null,null,null,null,null,null,"Week1474",null,null,null,null,null,null,"Week1475",null,null,null,null,null,null,"Week1476",null,null,null,null,null,null,"Week1477",null,null,null,null,null,null,"Week1478",null,null,null,null,null,null,"Week1479",null,null,null,null,null,null,"Week1480",null,null,null,null,null,null,"Week1481",null,null,null,null,null,null,"Week1482",null,null,null,null,null,null,"Week1483",null,null,null,null,null,null,"Week1484",null,null,null,null,null,null,"Week1485",null,null,null,null,null,null,"Week1486",null,null,null,null,null,null,"Week1487",null,null,null,null,null,null,"Week1488",null,null,null,null,null,null,"Week1489",null,null,null,null,null,null,"Week1490",null,null,null,null,null,null,"Week1491",null,null,null,null,null,null,"Week1492",null,null,null,null,null,null,"Week1493",null,null,null,null,null,null,"Week1494",null,null,null,null,null,null,"Week1495",null,null,null,null,null,null,"Week1496",null,null,null,null,null,null,"Week1497",null,null,null,null,null,null,"Week1498",null,null,null,null,null,null,"Week1499",null,null,null,null,null,null,"Week1500",null,null,null,null,null,null,"Week1501",null,null,null,null,null,null,"Week1502",null,null,null,null,null,null,"Week1503",null,null,null,null,null,null,"Week1504",null,null,null,null,null,null,"Week1505",null,null,null,null,null,null,"Week1506",null,null,null,null,null,null,"Week1507",null,null,null,null,null,null,"Week1508",null,null,null,null,null,null,"Week1509",null,null,null,null,null,null,"Week1510",null,null,null,null,null,null,"Week1511",null,null,null,null,null,null,"Week1512",null,null,null,null,null,null,"Week1513",null,null,null,null,null,null,"Week1514",null,null,null,null,null,null,"Week1515",null,null,null,null,null,null,"Week1516",null,null,null,null,null,null,"Week1517",null,null,null,null,null,null,"Week1518",null,null,null,null,null,null,"Week1519",null,null,null,null,null,null,"Week1520",null,null,null,null,null,null,"Week1521",null,null,null,null,null,null,"Week1522",null,null,null,null,null,null,"Week1523",null,null,null,null,null,null,"Week1524",null,null,null,null,null,null,"Week1525",null,null,null,null,null,null,"Week1526",null,null,null,null,null,null,"Week1527",null,null,null,null,null,null,"Week1528",null,null,null,null,null,null,"Week1529",null,null,null,null,null,null,"Week1530",null,null,null,null,null,null,"Week1531",null,null,null,null,null,null,"Week1532",null,null,null,null,null,null,"Week1533",null,null,null,null,null,null,"Week1534",null,null,null,null,null,null,"Week1535",null,null,null,null,null,null,"Week1536",null,null,null,null,null,null,"Week1537",null,null,null,null,null,null,"Week1538",null,null,null,null,null,null,"Week1539",null,null,null,null,null,null,"Week1540",null,null,null,null,null,null,"Week1541",null,null,null,null,null,null,"Week1542",null,null,null,null,null,null,"Week1543",null,null,null,null,null,null,"Week1544",null,null,null,null,null,null,"Week1545",null,null,null,null,null,null,"Week1546",null,null,null,null,null,null,"Week1547",null,null,null,null,null,null,"Week1548",null,null,null,null,null,null,"Week1549",null,null,null,null,null,null,"Week1550",null,null,null,null,null,null,"Week1551",null,null,null,null,null,null,"Week1552",null,null,null,null,null,null,"Week1553",null,null,null,null,null,null,"Week1554",null,null,null,null,null,null,"Week1555",null,null,null,null,null,null,"Week1556",null,null,null,null,null,null,"Week1557",null,null,null,null,null,null,"Week1558",null,null,null,null,null,null,"Week1559",null,null,null,null,null,null,"Week1560",null,null,null,null,null,null,"Week1561",null,null,null,null,null,null,"Week1562",null,null,null,null,null,null,"Week1563",null,null,null,null,null,null,"Week1564",null,null,null,null,null,null,"Week1565",null,null,null,null,null,null,"Week1566",null,null,null,null,null,null,"Week1567",null,null,null,null,null,null,"Week1568",null,null,null,null,null,null,"Week1569",null,null,null,null,null,null,"Week1570",null,null,null,null,null,null,"Week1571",null,null,null,null,null,null,"Week1572",null,null,null,null,null,null,"Week1573",null,null,null,null,null,null,"Week1574",null,null,null,null,null,null,"Week1575",null,null,null,null,null,null,"Week1576",null,null,null,null,null,null,"Week1577",null,null,null,null,null,null,"Week1578",null,null,null,null,null,null,"Week1579",null,null,null,null,null,null,"Week1580",null,null,null,null,null,null,"Week1581",null,null,null,null,null,null,"Week1582",null,null,null,null,null,null,"Week1583",null,null,null,null,null,null,"Week1584",null,null,null,null,null,null,"Week1585",null,null,null,null,null,null,"Week1586",null,null,null,null,null,null,"Week1587",null,null,null,null,null,null,"Week1588",null,null,null,null,null,null,"Week1589",null,null,null,null,null,null,"Week1590",null,null,null,null,null,null,"Week1591",null,null,null,null,null,null,"Week1592",null,null,null,null,null,null,"Week1593",null,null,null,null,null,null,"Week1594",null,null,null,null,null,null,"Week1595",null,null,null,null,null,null,"Week1596",null,null,null,null,null,null,"Week1597",null,null,null,null,null,null,"Week1598",null,null,null,null,null,null,"Week1599",null,null,null,null,null,null,"Week1600",null,null,null,null,null,null,"Week1601",null,null,null,null,null,null,"Week1602",null,null,null,null,null,null,"Week1603",null,null,null,null,null,null,"Week1604",null,null,null,null,null,null,"Week1605",null,null,null,null,null,null,"Week1606",null,null,null,null,null,null,"Week1607",null,null,null,null,null,null,"Week1608",null,null,null,null,null,null,"Week1609",null,null,null,null,null,null,"Week1610",null,null,null,null,null,null,"Week1611",null,null,null,null,null,null,"Week1612",null,null,null,null,null,null,"Week1613",null,null,null,null,null,null,"Week1614",null,null,null,null,null,null,"Week1615",null,null,null,null,null,null,"Week1616",null,null,null,null,null,null,"Week1617",null,null,null,null,null,null,"Week1618",null,null,null,null,null,null,"Week1619",null,null,null,null,null,null,"Week1620",null,null,null,null,null,null,"Week1621",null,null,null,null,null,null,"Week1622",null,null,null,null,null,null,"Week1623",null,null,null,null,null,null,"Week1624",null,null,null,null,null,null,"Week1625",null,null,null,null,null,null,"Week1626",null,null,null,null,null,null,"Week1627",null,null,null,null,null,null,"Week1628",null,null,null,null,null,null,"Week1629",null,null,null,null,null,null,"Week1630",null,null,null,null,null,null,"Week1631",null,null,null,null,null,null,"Week1632",null,null,null,null,null,null,"Week1633",null,null,null,null,null,null,"Week1634",null,null,null,null,null,null,"Week1635",null,null,null,null,null,null,"Week1636",null,null,null,null,null,null,"Week1637",null,null,null,null,null,null,"Week1638",null,null,null,null,null,null,"Week1639",null,null,null,null,null,null,"Week1640",null,null,null,null,null,null,"Week1641",null,null,null,null,null,null,"Week1642",null,null,null,null,null,null,"Week1643",null,null,null,null,null,null,"Week1644",null,null,null,null,null,null,"Week1645",null,null,null,null,null,null,"Week1646",null,null,null,null,null,null,"Week1647",null,null,null,null,null,null,"Week1648",null,null,null,null,null,null,"Week1649",null,null,null,null,null,null,"Week1650",null,null,null,null,null,null,"Week1651",null,null,null,null,null,null,"Week1652",null,null,null,null,null,null,"Week1653",null,null,null,null,null,null,"Week1654",null,null,null,null,null,null,"Week1655",null,null,null,null,null,null,"Week1656",null,null,null,null,null,null,"Week1657",null,null,null,null,null,null,"Week1658",null,null,null,null,null,null,"Week1659",null,null,null,null,null,null,"Week1660",null,null,null,null,null,null,"Week1661",null,null,null,null,null,null,"Week1662",null,null,null,null,null,null,"Week1663",null,null,null,null,null,null,"Week1664",null,null,null,null,null,null,"Week1665",null,null,null,null,null,null,"Week1666",null,null,null,null,null,null,"Week1667",null,null,null,null,null,null,"Week1668",null,null,null,null,null,null,"Week1669",null,null,null,null,null,null,"Week1670",null,null,null,null,null,null,"Week1671",null,null,null,null,null,null,"Week1672",null,null,null,null,null,null,"Week1673",null,null,null,null,null,null,"Week1674",null,null,null,null,null,null,"Week1675",null,null,null,null,null,null,"Week1676",null,null,null,null,null,null,"Week1677",null,null,null,null,null,null,"Week1678",null,null,null,null,null,null,"Week1679",null,null,null,null,null,null,"Week1680",null,null,null,null,null,null,"Week1681",null,null,null,null,null,null,"Week1682",null,null,null,null,null,null,"Week1683",null,null,null,null,null,null,"Week1684",null,null,null,null,null,null,"Week1685",null,null,null,null,null,null,"Week1686",null,null,null,null,null,null,"Week1687",null,null,null,null,null,null,"Week1688",null,null,null,null,null,null,"Week1689",null,null,null,null,null,null,"Week1690",null,null,null,null,null,null,"Week1691",null,null,null,null,null,null,"Week1692",null,null,null,null,null,null,"Week1693",null,null,null,null,null,null,"Week1694",null,null,null,null,null,null,"Week1695",null,null,null,null,null,null,"Week1696",null,null,null,null,null,null,"Week1697",null,null,null,null,null,null,"Week1698",null,null,null,null,null,null,"Week1699",null,null,null,null,null,null,"Week1700",null,null,null,null,null,null,"Week1701",null,null,null,null,null,null,"Week1702",null,null,null,null,null,null,"Week1703",null,null,null,null,null,null,"Week1704",null,null,null,null,null,null,"Week1705",null,null,null,null,null,null,"Week1706",null,null,null,null,null,null,"Week1707",null,null,null,null,null,null,"Week1708",null,null,null,null,null,null,"Week1709",null,null,null,null,null,null,"Week1710",null,null,null,null,null,null,"Week1711",null,null,null,null,null,null,"Week1712",null,null,null,null,null,null,"Week1713",null,null,null,null,null,null,"Week1714",null,null,null,null,null,null,"Week1715",null,null,null,null,null,null,"Week1716",null,null,null,null,null,null,"Week1717",null,null,null,null,null,null,"Week1718",null,null,null,null,null,null,"Week1719",null,null,null,null,null,null,"Week1720",null,null,null,null,null,null,"Week1721",null,null,null,null,null,null,"Week1722",null,null,null,null,null,null,"Week1723",null,null,null,null,null,null,"Week1724",null,null,null,null,null,null,"Week1725",null,null,null,null,null,null,"Week1726",null,null,null,null,null,null,"Week1727",null,null,null,null,null,null,"Week1728",null,null,null,null,null,null,"Week1729",null,null,null,null,null,null,"Week1730",null,null,null,null,null,null,"Week1731",null,null,null,null,null,null,"Week1732",null,null,null,null,null,null,"Week1733",null,null,null,null,null,null,"Week1734",null,null,null,null,null,null,"Week1735",null,null,null,null,null,null,"Week1736",null,null,null,null,null,null,"Week1737",null,null,null,null,null,null,"Week1738",null,null,null,null,null,null,"Week1739",null,null,null,null,null,null,"Week1740",null,null,null,null,null,null,"Week1741",null,null,null,null,null,null,"Week1742",null,null,null,null,null,null,"Week1743",null,null,null,null,null,null,"Week1744",null,null,null,null,null,null,"Week1745",null,null,null,null,null,null,"Week1746",null,null,null,null,null,null,"Week1747",null,null,null,null,null,null,"Week1748",null,null,null,null,null,null,"Week1749",null,null,null,null,null,null,"Week1750",null,null,null,null,null,null,"Week1751",null,null,null,null,null,null,"Week1752",null,null,null,null,null,null,"Week1753",null,null,null,null,null,null,"Week1754",null,null,null,null,null,null,"Week1755",null,null,null,null,null,null,"Week1756",null,null,null,null,null,null,"Week1757",null,null,null,null,null,null,"Week1758",null,null,null,null,null,null,"Week1759",null,null,null,null,null,null,"Week1760",null,null,null,null,null,null,"Week1761",null,null,null,null,null,null,"Week1762",null,null,null,null,null,null,"Week1763",null,null,null,null,null,null,"Week1764",null,null,null,null,null,null,"Week1765",null,null,null,null,null,null,"Week1766",null,null,null,null,null,null,"Week1767",null,null,null,null,null,null,"Week1768",null,null,null,null,null,null,"Week1769",null,null,null,null,null,null,"Week1770",null,null,null,null,null,null,"Week1771",null,null,null,null,null,null,"Week1772",null,null,null,null,null,null,"Week1773",null,null,null,null,null,null,"Week1774",null,null,null,null,null,null,"Week1775",null,null,null,null,null,null,"Week1776",null,null,null,null,null,null,"Week1777",null,null,null,null,null,null,"Week1778",null,null,null,null,null,null,"Week1779",null,null,null,null,null,null,"Week1780",null,null,null,null,null,null,"Week1781",null,null,null,null,null,null,"Week1782",null,null,null,null,null,null,"Week1783",null,null,null,null,null,null,"Week1784",null,null,null,null,null,null,"Week1785",null,null,null,null,null,null,"Week1786",null,null,null,null,null,null,"Week1787",null,null,null,null,null,null,"Week1788",null,null,null,null,null,null,"Week1789",null,null,null,null,null,null,"Week1790",null,null,null,null,null,null,"Week1791",null,null,null,null,null,null,"Week1792",null,null,null,null,null,null,"Week1793",null,null,null,null,null,null,"Week1794",null,null,null,null,null,null,"Week1795",null,null,null,null,null,null,"Week1796",null,null,null,null,null,null,"Week1797",null,null,null,null,null,null,"Week1798",null,null,null,null,null,null,"Week1799",null,null,null,null,null,null,"Week1800",null,null,null,null,null,null,"Week1801",null,null,null,null,null,null,"Week1802",null,null,null,null,null,null,"Week1803",null,null,null,null,null,null,"Week1804",null,null,null,null,null,null,"Week1805",null,null,null,null,null,null,"Week1806",null,null,null,null,null,null,"Week1807",null,null,null,null,null,null,"Week1808",null,null,null,null,null,null,"Week1809",null,null,null,null,null,null,"Week1810",null,null,null,null,null,null,"Week1811",null,null,null,null,null,null,"Week1812",null,null,null,null,null,null,"Week1813",null,null,null,null,null,null,"Week1814",null,null,null,null,null,null,"Week1815",null,null,null,null,null,null,"Week1816",null,null,null,null,null,null,"Week1817",null,null,null,null,null,null,"Week1818",null,null,null,null,null,null,"Week1819",null,null,null,null,null,null,"Week1820",null,null,null,null,null,null,"Week1821",null,null,null,null,null,null,"Week1822",null,null,null,null,null,null,"Week1823",null,null,null,null,null,null,"Week1824",null,null,null,null,null,null,"Week1825",null,null,null,null,null,null,"Week1826",null,null,null,null,null,null,"Week1827",null,null,null,null,null,null,"Week1828",null,null,null,null,null,null,"Week1829",null,null,null,null,null,null,"Week1830",null,null,null,null,null,null,"Week1831",null,null,null,null,null,null,"Week1832",null,null,null,null,null,null,"Week1833",null,null,null,null,null,null,"Week1834",null,null,null,null,null,null,"Week1835",null,null,null,null,null,null,"Week1836",null,null,null,null,null,null,"Week1837",null,null,null,null,null,null,"Week1838",null,null,null,null,null,null,"Week1839",null,null,null,null,null,null,"Week1840",null,null,null,null,null,null,"Week1841",null,null,null,null,null,null,"Week1842",null,null,null,null,null,null,"Week1843",null,null,null,null,null,null,"Week1844",null,null,null,null,null,null,"Week1845",null,null,null,null,null,null,"Week1846",null,null,null,null,null,null,"Week1847",null,null,null,null,null,null,"Week1848",null,null,null,null,null,null,"Week1849",null,null,null,null,null,null,"Week1850",null,null,null,null,null,null,"Week1851",null,null,null,null,null,null,"Week1852",null,null,null,null,null,null,"Week1853",null,null,null,null,null,null,"Week1854",null,null,null,null,null,null,"Week1855",null,null,null,null,null,null,"Week1856",null,null,null,null,null,null,"Week1857",null,null,null,null,null,null,"Week1858",null,null,null,null,null,null,"Week1859",null,null,null,null,null,null,"Week1860",null,null,null,null,null,null,"Week1861",null,null,null,null,null,null,"Week1862",null,null,null,null,null,null,"Week1863",null,null,null,null,null,null,"Week1864",null,null,null,null,null,null,"Week1865",null,null,null,null,null,null,"Week1866",null,null,null,null,null,null,"Week1867",null,null,null,null,null,null,"Week1868",null,null,null,null,null,null,"Week1869",null,null,null,null,null,null,"Week1870",null,null,null,null,null,null,"Week1871",null,null,null,null,null,null,"Week1872",null,null,null,null,null,null,"Week1873",null,null,null,null,null,null,"Week1874",null,null,null,null,null,null,"Week1875",null,null,null,null,null,null,"Week1876",null,null,null,null,null,null,"Week1877",null,null,null,null,null,null,"Week1878",null,null,null,null,null,null,"Week1879",null,null,null,null,null,null,"Week1880",null,null,null,null,null,null,"Week1881",null,null,null,null,null,null,"Week1882",null,null,null,null,null,null,"Week1883",null,null,null,null,null,null,"Week1884",null,null,null,null,null,null,"Week1885",null,null,null,null,null,null,"Week1886",null,null,null,null,null,null,"Week1887",null,null,null,null,null,null,"Week1888",null,null,null,null,null,null,"Week1889",null,null,null,null,null,null,"Week1890",null,null,null,null,null,null,"Week1891",null,null,null,null,null,null,"Week1892",null,null,null,null,null,null,"Week1893",null,null,null,null,null,null,"Week1894",null,null,null,null,null,null,"Week1895",null,null,null,null,null,null,"Week1896",null,null,null,null,null,null,"Week1897",null,null,null,null,null,null,"Week1898",null,null,null,null,null,null,"Week1899",null,null,null,null,null,null,"Week1900",null,null,null,null,null,null,"Week1901",null,null,null,null,null,null,"Week1902",null,null,null,null,null,null,"Week1903",null,null,null,null,null,null,"Week1904",null,null,null,null,null,null,"Week1905",null,null,null,null,null,null,"Week1906",null,null,null,null,null,null,"Week1907",null,null,null,null,null,null,"Week1908",null,null,null,null,null,null,"Week1909",null,null,null,null,null,null,"Week1910",null,null,null,null,null,null,"Week1911",null,null,null,null,null,null,"Week1912",null,null,null,null,null,null,"Week1913",null,null,null,null,null,null,"Week1914",null,null,null,null,null,null,"Week1915",null,null,null,null,null,null,"Week1916",null,null,null,null,null,null,"Week1917",null,null,null,null,null,null,"Week1918",null,null,null,null,null,null,"Week1919",null,null,null,null,null,null,"Week1920",null,null,null,null,null,null,"Week1921",null,null,null,null,null,null,"Week1922",null,null,null,null,null,null,"Week1923",null,null,null,null,null,null,"Week1924",null,null,null,null,null,null,"Week1925",null,null,null,null,null,null,"Week1926",null,null,null,null,null,null,"Week1927",null,null,null,null,null,null,"Week1928",null,null,null,null,null,null,"Week1929",null,null,null,null,null,null,"Week1930",null,null,null,null,null,null,"Week1931",null,null,null,null,null,null,"Week1932",null,null,null,null,null,null,"Week1933",null,null,null,null,null,null,"Week1934",null,null,null,null,null,null,"Week1935",null,null,null,null,null,null,"Week1936",null,null,null,null,null,null,"Week1937",null,null,null,null,null,null,"Week1938",null,null,null,null,null,null,"Week1939",null,null,null,null,null,null,"Week1940",null,null,null,null,null,null,"Week1941",null,null,null,null,null,null,"Week1942",null,null,null,null,null,null,"Week1943",null,null,null,null,null,null,"Week1944",null,null,null,null,null,null,"Week1945",null,null,null,null,null,null,"Week1946",null,null,null,null,null,null,"Week1947",null,null,null,null,null,null,"Week1948",null,null,null,null,null,null,"Week1949",null,null,null,null,null,null,"Week1950",null,null,null,null,null,null,"Week1951",null,null,null,null,null,null,"Week1952",null,null,null,null,null,null,"Week1953",null,null,null,null,null,null,"Week1954",null,null,null,null,null,null,"Week1955",null,null,null,null,null,null,"Week1956",null,null,null,null,null,null,"Week1957",null,null,null,null,null,null,"Week1958",null,null,null,null,null,null,"Week1959",null,null,null,null,null,null,"Week1960",null,null,null,null,null,null,"Week1961",null,null,null,null,null,null,"Week1962",null,null,null,null,null,null,"Week1963",null,null,null,null,null,null,"Week1964",null,null,null,null,null,null,"Week1965",null,null,null,null,null,null,"Week1966",null,null,null,null,null,null,"Week1967",null,null,null,null,null,null,"Week1968",null,null,null,null,null,null,"Week1969",null,null,null,null,null,null,"Week1970",null,null,null,null,null,null,"Week1971",null,null,null,null,null,null,"Week1972",null,null,null,null,null,null,"Week1973",null,null,null,null,null,null,"Week1974",null,null,null,null,null,null,"Week1975",null,null,null,null,null,null,"Week1976",null,null,null,null,null,null,"Week1977",null,null,null,null,null,null,"Week1978",null,null,null,null,null,null,"Week1979",null,null,null,null,null,null,"Week1980",null,null,null,null,null,null,"Week1981",null,null,null,null,null,null,"Week1982",null,null,null,null,null,null,"Week1983",null,null,null,null,null,null,"Week1984",null,null,null,null,null,null,"Week1985",null,null,null,null,null,null,"Week1986",null,null,null,null,null,null,"Week1987",null,null,null,null,null,null,"Week1988",null,null,null,null,null,null,"Week1989",null,null,null,null,null,null,"Week1990",null,null,null,null,null,null,"Week1991",null,null,null,null,null,null,"Week1992",null,null,null,null,null,null,"Week1993",null,null,null,null,null,null,"Week1994",null,null,null,null,null,null,"Week1995",null,null,null,null,null,null,"Week1996",null,null,null,null,null,null,"Week1997",null,null,null,null,null,null,"Week1998",null,null,null,null,null,null,"Week1999",null,null,null,null,null,null,"Week2000",null,null,null,null,null,null,"Week2001",null,null,null,null,null,null,"Week2002",null,null,null,null,null,null,"Week2003",null,null,null,null,null,null,"Week2004",null,null,null,null,null,null,"Week2005",null,null,null,null,null,null,"Week2006",null,null,null,null,null,null,"Week2007",null,null,null,null,null,null,"Week2008",null,null,null,null,null,null,"Week2009",null,null,null,null,null,null,"Week2010",null,null,null,null,null,null,"Week2011",null,null,null,null,null,null,"Week2012",null,null,null,null,null,null,"Week2013",null,null,null,null,null,null,"Week2014",null,null,null,null,null,null,"Week2015",null,null,null,null,null,null,"Week2016",null,null,null,null,null,null,"Week2017",null,null,null,null,null,null,"Week2018",null,null,null,null,null,null,"Week2019",null,null,null,null,null,null,"Week2020",null,null,null,null,null,null,"Week2021",null,null,null,null,null,null,"Week2022",null,null,null,null,null,null,"Week2023",null,null,null,null,null,null,"Week2024",null,null,null,null,null,null,"Week2025",null,null,null,null,null,null,"Week2026",null,null,null,null,null,null,"Week2027",null,null,null,null,null,null,"Week2028",null,null,null,null,null,null,"Week2029",null,null,null,null,null,null,"Week2030",null,null,null,null,null,null,"Week2031",null,null,null,null,null,null,"Week2032",null,null,null,null,null,null,"Week2033",null,null,null,null,null,null,"Week2034",null,null,null,null,null,null,"Week2035",null,null,null,null,null,null,"Week2036",null,null,null,null,null,null,"Week2037",null,null,null,null,null,null,"Week2038",null,null,null,null,null,null,"Week2039",null,null,null,null,null,null,"Week2040",null,null,null,null,null,null,"Week2041",null,null,null,null,null,null,"Week2042",null,null,null,null,null,null,"Week2043",null,null,null,null,null,null,"Week2044",null,null,null,null,null,null,"Week2045",null,null,null,null,null,null,"Week2046",null,null,null,null,null,null,"Week2047",null,null,null,null,null,null,"Week2048",null,null,null,null,null,null,"Week2049",null,null,null,null,null,null,"Week2050",null,null,null,null,null,null,"Week2051",null,null,null,null,null,null,"Week2052",null,null,null,null,null,null,"Week2053",null,null,null,null,null,null,"Week2054",null,null,null,null,null,null,"Week2055",null,null,null,null,null,null,"Week2056",null,null,null,null,null,null,"Week2057",null,null,null,null,null,null,"Week2058",null,null,null,null,null,null,"Week2059",null,null,null,null,null,null,"Week2060",null,null,null,null,null,null,"Week2061",null,null,null,null,null,null,"Week2062",null,null,null,null,null,null,"Week2063",null,null,null,null,null,null,"Week2064",null,null,null,null,null,null,"Week2065",null,null,null,null,null,null,"Week2066",null,null,null,null,null,null,"Week2067",null,null,null,null,null,null,"Week2068",null,null,null,null,null,null,"Week2069",null,null,null,null,null,null,"Week2070",null,null,null,null,null,null,"Week2071",null,null,null,null,null,null,"Week2072",null,null,null,null,null,null,"Week2073",null,null,null,null,null,null,"Week2074",null,null,null,null,null,null,"Week2075",null,null,null,null,null,null,"Week2076",null,null,null,null,null,null,"Week2077",null,null,null,null,null,null,"Week2078",null,null,null,null,null,null,"Week2079",null,null,null,null,null,null,"Week2080",null,null,null,null,null,null,"Week2081",null,null,null,null,null,null,"Week2082",null,null,null,null,null,null,"Week2083",null,null,null,null,null,null,"Week2084",null,null,null,null,null,null,"Week2085",null,null,null,null,null,null,"Week2086",null,null,null,null,null,null,"Week2087",null,null,null,null,null,null,"Week2088",null,null,null,null,null,null,"Week2089",null,null,null,null,null,null,"Week2090",null,null,null,null,null,null,"Week2091",null,null,null,null,null,null,"Week2092",null,null,null,null,null,null,"Week2093",null,null,null,null,null,null,"Week2094",null,null,null,null,null,null,"Week2095",null,null,null,null,null,null,"Week2096",null,null,null,null,null,null,"Week2097",null,null,null,null,null,null,"Week2098",null,null,null,null,null,null,"Week2099",null,null,null,null,null,null,"Week2100",null,null,null,null,null,null,"Week2101",null,null,null,null,null,null,"Week2102",null,null,null,null,null,null,"Week2103",null,null,null,null,null,null,"Week2104",null,null,null,null,null,null,"Week2105",null,null,null,null,null,null,"Week2106",null,null,null,null,null,null,"Week2107",null,null,null,null,null,null,"Week2108",null,null,null,null,null,null,"Week2109",null,null,null,null,null,null,"Week2110",null,null,null,null,null,null,"Week2111",null,null,null,null,null,null,"Week2112",null,null,null,null,null,null,"Week2113",null,null,null,null,null,null,"Week2114",null,null,null,null,null,null,"Week2115",null,null,null,null,null,null,"Week2116",null,null,null,null,null,null,"Week2117",null,null,null,null,null,null,"Week2118",null,null,null,null,null,null,"Week2119",null,null,null,null,null,null,"Week2120",null,null,null,null,null,null,"Week2121",null,null,null,null,null,null,"Week2122",null,null,null,null,null,null,"Week2123",null,null,null,null,null,null,"Week2124",null,null,null,null,null,null,"Week2125",null,null,null,null,null,null,"Week2126",null,null,null,null,null,null,"Week2127",null,null,null,null,null,null,"Week2128",null,null,null,null,null,null,"Week2129",null,null,null,null,null,null,"Week2130",null,null,null,null,null,null,"Week2131",null,null,null,null,null,null,"Week2132",null,null,null,null,null,null,"Week2133",null,null,null,null,null,null,"Week2134",null,null,null,null,null,null,"Week2135",null,null,null,null,null,null,"Week2136",null,null,null,null,null,null,"Week2137",null,null,null,null,null,null,"Week2138",null,null,null,null,null,null,"Week2139",null,null,null,null,null,null,"Week2140",null,null,null,null,null,null,"Week2141",null,null,null,null,null,null,"Week2142",null,null,null,null,null,null,"Week2143",null,null,null,null,null,null,"Week2144",null,null,null,null,null,null,"Week2145",null,null,null,null,null,null,"Week2146",null,null,null,null,null,null,"Week2147",null,null,null,null,null,null,"Week2148",null,null,null,null,null,null,"Week2149",null,null,null,null,null,null,"Week2150",null,null,null,null,null,null,"Week2151",null,null,null,null,null,null,"Week2152",null,null,null,null,null,null,"Week2153",null,null,null,null,null,null,"Week2154",null,null,null,null,null,null,"Week2155",null,null,null,null,null,null,"Week2156",null,null,null,null,null,null,"Week2157",null,null,null,null,null,null,"Week2158",null,null,null,null,null,null,"Week2159",null,null,null,null,null,null,"Week2160",null,null,null,null,null,null,"Week2161",null,null,null,null,null,null,"Week2162",null,null,null,null,null,null,"Week2163",null,null,null,null,null,null,"Week2164",null,null,null,null,null,null,"Week2165",null,null,null,null,null,null,"Week2166",null,null,null,null,null,null,"Week2167",null,null,null,null,null,null,"Week2168",null,null,null,null,null,null,"Week2169",null,null,null,null,null,null,"Week2170",null,null,null,null,null,null,"Week2171",null,null,null,null,null,null,"Week2172",null,null,null,null,null,null,"Week2173",null,null,null,null,null,null,"Week2174",null,null,null,null,null,null,"Week2175",null,null,null,null,null,null,"Week2176",null,null,null,null,null,null,"Week2177",null,null,null,null,null,null,"Week2178",null,null,null,null,null,null,"Week2179",null,null,null,null,null,null,"Week2180",null,null,null,null,null,null,"Week2181",null,null,null,null,null,null,"Week2182",null,null,null,null,null,null,"Week2183",null,null,null,null,null,null,"Week2184",null,null,null,null,null,null,"Week2185",null,null,null,null,null,null,"Week2186",null,null,null,null,null,null,"Week2187",null,null,null,null,null,null,"Week2188",null,null,null,null,null,null,"Week2189",null,null,null,null,null,null,"Week2190",null,null,null,null,null,null,"Week2191",null,null,null,null,null,null,"Week2192",null,null,null,null,null,null,"Week2193",null,null,null,null,null,null,"Week2194",null,null,null,null,null,null,"Week2195",null,null,null,null,null,null,"Week2196",null,null,null,null,null,null,"Week2197",null,null,null,null,null,null,"Week2198",null,null,null,null,null,null,"Week2199",null,null,null,null,null,null,"Week2200",null,null,null,null,null,null,"Week2201",null,null,null,null,null,null,"Week2202",null,null,null,null,null,null,"Week2203",null,null,null,null,null,null,"Week2204",null,null,null,null,null,null,"Week2205",null,null,null,null,null,null,"Week2206",null,null,null,null,null,null,"Week2207",null,null,null,null,null,null,"Week2208",null,null,null,null,null,null,"Week2209",null,null,null,null,null,null,"Week2210",null,null,null,null,null,null,"Week2211",null,null,null,null,null,null,"Week2212",null,null,null,null,null,null,"Week2213",null,null,null,null,null,null,"Week2214",null,null,null,null,null,null,"Week2215",null,null,null,null,null,null,"Week2216",null,null,null,null,null,null,"Week2217",null,null,null,null,null,null,"Week2218",null,null,null,null,null,null,"Week2219",null,null,null,null,null,null,"Week2220",null,null,null,null,null,null,"Week2221",null,null,null,null,null,null,"Week2222",null,null,null,null,null,null,"Week2223",null,null,null,null,null,null,"Week2224",null,null,null,null,null,null,"Week2225",null,null,null,null,null,null,"Week2226",null,null,null,null,null,null,"Week2227",null,null,null,null,null,null,"Week2228",null,null,null,null,null,null,"Week2229",null,null,null,null,null,null,"Week2230",null,null,null,null,null,null,"Week2231",null,null,null,null,null,null,"Week2232",null,null,null,null,null,null,"Week2233",null,null,null,null,null,null,"Week2234",null,null,null,null,null,null,"Week2235",null,null,null,null,null,null,"Week2236",null,null,null,null,null,null,"Week2237",null,null,null,null,null,null,"Week2238",null,null,null,null,null,null,"Week2239",null,null,null,null,null,null,"Week2240",null,null,null,null,null,null,"Week2241",null,null,null,null,null,null,"Week2242",null,null,null,null,null,null,"Week2243",null,null,null,null,null,null,"Week2244",null,null,null,null,null,null,"Week2245",null,null,null,null,null,null,"Week2246",null,null,null,null,null,null,"Week2247",null,null,null,null,null,null,"Week2248",null,null,null,null,null,null,"Week2249",null,null,null,null,null,null,"Week2250",null,null,null,null,null,null,"Week2251",null,null,null,null,null,null,"Week2252",null,null,null,null,null,null,"Week2253",null,null,null,null,null,null,"Week2254",null,null,null,null,null,null,"Week2255",null,null,null,null,null,null,"Week2256",null,null,null,null,null,null,"Week2257",null,null,null,null,null,null,"Week2258",null,null,null,null,null,null,"Week2259",null,null,null,null,null,null,"Week2260",null,null,null,null,null,null,"Week2261",null,null,null,null,null,null,"Week2262",null,null,null,null,null,null,"Week2263",null,null,null,null,null,null,"Week2264",null,null,null,null,null,null,"Week2265",null,null,null,null,null,null,"Week2266",null,null,null,null,null,null,"Week2267",null,null,null,null,null,null,"Week2268",null,null,null,null,null,null,"Week2269",null,null,null,null,null,null,"Week2270",null,null,null,null,null,null,"Week2271",null,null,null,null,null,null,"Week2272",null,null,null,null,null,null,"Week2273",null,null,null,null,null,null,"Week2274",null,null,null,null,null,null,"Week2275",null,null,null,null,null,null,"Week2276",null,null,null,null,null,null,"Week2277",null,null,null,null,null,null,"Week2278",null,null,null,null,null,null,"Week2279",null,null,null,null,null,null,"Week2280",null,null,null,null,null,null,"Week2281",null,null,null,null,null,null,"Week2282",null,null,null,null,null,null,"Week2283",null,null,null,null,null,null,"Week2284",null,null,null,null,null,null,"Week2285",null,null,null,null,null,null,"Week2286",null,null,null,null,null,null,"Week2287",null,null,null,null,null,null,"Week2288",null,null,null,null,null,null,"Week2289",null,null,null,null,null,null,"Week2290",null,null,null,null,null,null,"Week2291",null,null,null,null,null,null,"Week2292",null,null,null,null,null,null,"Week2293",null,null,null,null,null,null,"Week2294",null,null,null,null,null,null,"Week2295",null,null,null,null,null,null,"Week2296",null,null,null,null,null,null,"Week2297",null,null,null,null,null,null,"Week2298",null,null,null,null,null,null,"Week2299",null,null,null,null,null,null,"Week2300",null,null,null,null,null,null,"Week2301",null,null,null,null,null,null,"Week2302",null,null,null,null,null,null,"Week2303",null,null,null,null,null,null,"Week2304",null,null,null,null,null,null,"Week2305",null,null,null,null,null,null,"Week2306",null,null,null,null,null,null,"Week2307",null,null,null,null,null,null,"Week2308",null,null,null,null,null,null,"Week2309",null,null,null,null,null,null,"Week2310",null,null,null,null,null,null,"Week2311",null,null,null,null,null,null,"Week2312",null,null,null,null,null,null,"Week2313",null,null,null,null,null,null,"Week2314",null,null,null,null,null,null,"Week2315",null,null,null,null,null,null,"Week2316",null,null,null,null,null,null,"Week2317",null,null,null,null,null,null,"Week2318",null,null,null,null,null,null,"Week2319",null,null,null,null,null,null,"Week2320",null,null,null,null,null,null,"Week2321",null,null,null,null,null,null,"Week2322",null,null,null,null,null,null,"Week2323",null,null,null,null,null,null,"Week2324",null,null,null,null,null,null,"Week2325",null,null,null,null,null,null,"Week2326",null,null,null,null,null,null,"Week2327",null,null,null,null,null,null,"Week2328",null,null,null,null,null,null,"Week2329",null,null,null,null,null,null,"Week2330",null,null,null,null,null,null,"Week2331",null,null,null,null,null,null,"Week2332",null,null,null,null,null,null,"Week2333",null,null,null,null,null,null,"Week2334",null,null,null,null,null,null,"Week2335",null,null,null,null,null,null,"Week2336",null,null,null,null,null,null,"Week2337"]
[null,null,null,null,null,null,null,null,null,null,null,null,null,null,null,null,null,null,null,null,null,{"$f":"V4","v":"2023-01-23"},null,null,null,null,null,null,{"$f":"AC4","v":"2023-01-30"},null,null,null,null,null,null,{"$f":"AJ4","v":"2023-02-06"},null,null,null,null,null,null,{"$f":"AQ4","v":"2023-02-13"},null,null,null,null,null,null,{"$f":"AX4","v":"2023-02-20"},null,null,null,null,null,null,{"$f":"BE4","v":"2023-02-27"},null,null,null,null,null,null,{"$f":"BL4","v":"2023-03-06"},null,null,null,null,null,null,{"$f":"BS4","v":"2023-03-13"},null,null,null,null,null,null,{"$f":"BZ4","v":"2023-03-20"},null,null,null,null,null,null,{"$f":"CG4","v":"2023-03-27"},null,null,null,null,null,null,{"$f":"CN4","v":"2023-04-03"},null,null,null,null,null,null,{"$f":"CU4","v":"2023-04-10"},null,null,null,null,null,null,{"$f":"DB4","v":"2023-04-17"},null,null,null,null,null,null,{"$f":"DI4","v":"2023-04-24"},null,null,null,null,null,null,{"$f":"DP4","v":"2023-05-01"},null,null,null,null,null,null,{"$f":"DW4","v":"2023-05-08"},null,null,null,null,null,null,{"$f":"ED4","v":"2023-05-15"},null,null,null,null,null,null,{"$f":"EK4","v":"2023-05-22"},null,null,null,null,null,null,{"$f":"ER4","v":"2023-05-29"},null,null,null,null,null,null,{"$f":"EY4","v":"2023-06-05"},null,null,null,null,null,null,{"$f":"FF4","v":"2023-06-12"},null,null,null,null,null,null,{"$f":"FM4","v":"2023-06-19"},null,null,null,null,null,null,{"$f":"FT4","v":"2023-06-26"},null,null,null,null,null,null,{"$f":"GA4","v":"2023-07-03"},null,null,null,null,null,null,{"$f":"GH4","v":"2023-07-10"},null,null,null,null,null,null,{"$f":"GO4","v":"2023-07-17"},null,null,null,null,null,null,{"$f":"GV4","v":"2023-07-24"},null,null,null,null,null,null,{"$f":"HC4","v":"2023-07-31"},null,null,null,null,null,null,{"$f":"HJ4","v":"2023-08-07"},null,null,null,null,null,null,{"$f":"HQ4","v":"2023-08-14"},null,null,null,null,null,null,{"$f":"HX4","v":"2023-08-21"},null,null,null,null,null,null,{"$f":"IE4","v":"2023-08-28"},null,null,null,null,null,null,{"$f":"IL4","v":"2023-09-04"},null,null,null,null,null,null,{"$f":"IS4","v":"2023-09-11"},null,null,null,null,null,null,{"$f":"IZ4","v":"2023-09-18"},null,null,null,null,null,null,{"$f":"JG4","v":"2023-09-25"},null,null,null,null,null,null,{"$f":"JN4","v":"2023-10-02"},null,null,null,null,null,null,{"$f":"JU4","v":"2023-10-09"},null,null,null,null,null,null,{"$f":"KB4","v":"2023-10-16"},null,null,null,null,null,null,{"$f":"KI4","v":"2023-10-23"},null,null,null,null,null,null,{"$f":"KP4","v":"2023-10-30"},null,null,null,null,null,null,{"$f":"KW4","v":"2023-11-06"},null,null,null,null,null,null,{"$f":"LD4","v":"2023-11-13"},null,null,null,null,null,null,{"$f":"LK4","v":"2023-11-20"},null,null,null,null,null,null,{"$f":"LR4","v":"2023-11-27"},null,null,null,null,null,null,{"$f":"LY4","v":"2023-12-04"},null,null,null,null,null,null,{"$f":"MF4","v":"2023-12-11"},null,null,null,null,null,null,{"$f":"MM4","v":"2023-12-18"},null,null,null,null,null,null,{"$f":"MT4","v":"2023-12-25"},null,null,null,null,null,null,{"$f":"NA4","v":"2024-01-01"},null,null,null,null,null,null,{"$f":"NH4","v":"2024-01-08"},null,null,null,null,null,null,{"$f":"NO4","v":"2024-01-15"},null,null,null,null,null,null,{"$f":"NV4","v":"2024-01-22"},null,null,null,null,null,null,{"$f":"OC4","v":"2024-01-29"},null,null,null,null,null,null,{"$f":"OJ4","v":"2024-02-05"},null,null,null,null,null,null,{"$f":"OQ4","v":"2024-02-12"},null,null,null,null,null,null,{"$f":"OX4","v":"2024-02-19"},null,null,null,null,null,null,{"$f":"PE4","v":"2024-02-26"},null,null,null,null,null,null,{"$f":"PL4","v":"2024-03-04"},null,null,null,null,null,null,{"$f":"PS4","v":"2024-03-11"},null,null,null,null,null,null,{"$f":"PZ4","v":"2024-03-18"},null,null,null,null,null,null,{"$f":"QG4","v":"2024-03-25"},null,null,null,null,null,null,{"$f":"QN4","v":"2024-04-01"},null,null,null,null,null,null,{"$f":"QU4","v":"2024-04-08"},null,null,null,null,null,null,{"$f":"RB4","v":"2024-04-15"},null,null,null,null,null,null,{"$f":"RI4","v":"2024-04-22"},null,null,null,null,null,null,{"$f":"RP4","v":"2024-04-29"},null,null,null,null,null,null,{"$f":"RW4","v":"2024-05-06"},null,null,null,null,null,null,{"$f":"SD4","v":"2024-05-13"},null,null,null,null,null,null,{"$f":"SK4","v":"2024-05-20"},null,null,null,null,null,null,{"$f":"SR4","v":"2024-05-27"},null,null,null,null,null,null,{"$f":"SY4","v":"2024-06-03"},null,null,null,null,null,null,{"$f":"TF4","v":"2024-06-10"},null,null,null,null,null,null,{"$f":"TM4","v":"2024-06-17"},null,null,null,null,null,null,{"$f":"TT4","v":"2024-06-24"},null,null,null,null,null,null,{"$f":"UA4","v":"2024-07-01"},null,null,null,null,null,null,{"$f":"UH4","v":"2024-07-08"},null,null,null,null,null,null,{"$f":"UO4","v":"2024-07-15"},null,null,null,null,null,null,{"$f":"UV4","v":"2024-07-22"},null,null,null,null,null,null,{"$f":"VC4","v":"2024-07-29"},null,null,null,null,null,null,{"$f":"VJ4","v":"2024-08-05"},null,null,null,null,null,null,{"$f":"VQ4","v":"2024-08-12"},null,null,null,null,null,null,{"$f":"VX4","v":"2024-08-19"},null,null,null,null,null,null,{"$f":"WE4","v":"2024-08-26"},null,null,null,null,null,null,{"$f":"WL4","v":"2024-09-02"},null,null,null,null,null,null,{"$f":"WS4","v":"2024-09-09"},null,null,null,null,null,null,{"$f":"WZ4","v":"2024-09-16"},null,null,null,null,null,null,{"$f":"XG4","v":"2024-09-23"},null,null,null,null,null,null,{"$f":"XN4","v":"2024-09-30"},null,null,null,null,null,null,{"$f":"XU4","v":"2024-10-07"},null,null,null,null,null,null,{"$f":"YB4","v":"2024-10-14"},null,null,null,null,null,null,{"$f":"YI4","v":"2024-10-21"},null,null,null,null,null,null,{"$f":"YP4","v":"2024-10-28"},null,null,null,null,null,null,{"$f":"YW4","v":"2024-11-04"},null,null,null,null,null,null,{"$f":"ZD4","v":"2024-11-11"},null,null,null,null,null,null,{"$f":"ZK4","v":"2024-11-18"},null,null,null,null,null,null,{"$f":"ZR4","v":"2024-11-25"},null,null,null,null,null,null,{"$f":"ZY4","v":"2024-12-02"},null,null,null,null,null,null,{"$f":"AAF4","v":"2024-12-09"},null,null,null,null,null,null,{"$f":"AAM4","v":"2024-12-16"},null,null,null,null,null,null,{"$f":"AAT4","v":"2024-12-23"},null,null,null,null,null,null,{"$f":"ABA4","v":"2024-12-30"},null,null,null,null,null,null,{"$f":"ABH4","v":"2025-01-06"},null,null,null,null,null,null,{"$f":"ABO4","v":"2025-01-13"},null,null,null,null,null,null,{"$f":"ABV4","v":"2025-01-20"},null,null,null,null,null,null,{"$f":"ACC4","v":"2025-01-27"},null,null,null,null,null,null,{"$f":"ACJ4","v":"2025-02-03"},null,null,null,null,null,null,{"$f":"ACQ4","v":"2025-02-10"},null,null,null,null,null,null,{"$f":"ACX4","v":"2025-02-17"},null,null,null,null,null,null,{"$f":"ADE4","v":"2025-02-24"},null,null,null,null,null,null,{"$f":"ADL4","v":"2025-03-03"},null,null,null,null,null,null,{"$f":"ADS4","v":"2025-03-10"},null,null,null,null,null,null,{"$f":"ADZ4","v":"2025-03-17"},null,null,null,null,null,null,{"$f":"AEG4","v":"2025-03-24"},null,null,null,null,null,null,{"$f":"AEN4","v":"2025-03-31"},null,null,null,null,null,null,{"$f":"AEU4","v":"2025-04-07"},null,null,null,null,null,null,{"$f":"AFB4","v":"2025-04-14"},null,null,null,null,null,null,{"$f":"AFI4","v":"2025-04-21"},null,null,null,null,null,null,{"$f":"AFP4","v":"2025-04-28"},null,null,null,null,null,null,{"$f":"AFW4","v":"2025-05-05"},null,null,null,null,null,null,{"$f":"AGD4","v":"2025-05-12"},null,null,null,null,null,null,{"$f":"AGK4","v":"2025-05-19"},null,null,null,null,null,null,{"$f":"AGR4","v":"2025-05-26"},null,null,null,null,null,null,{"$f":"AGY4","v":"2025-06-02"},null,null,null,null,null,null,{"$f":"AHF4","v":"2025-06-09"},null,null,null,null,null,null,{"$f":"AHM4","v":"2025-06-16"},null,null,null,null,null,null,{"$f":"AHT4","v":"2025-06-23"},null,null,null,null,null,null,{"$f":"AIA4","v":"2025-06-30"},null,null,null,null,null,null,{"$f":"AIH4","v":"2025-07-07"},null,null,null,null,null,null,{"$f":"AIO4","v":"2025-07-14"},null,null,null,null,null,null,{"$f":"AIV4","v":"2025-07-21"},null,null,null,null,null,null,{"$f":"AJC4","v":"2025-07-28"},null,null,null,null,null,null,{"$f":"AJJ4","v":"2025-08-04"},null,null,null,null,null,null,{"$f":"AJQ4","v":"2025-08-11"},null,null,null,null,null,null,{"$f":"AJX4","v":"2025-08-18"},null,null,null,null,null,null,{"$f":"AKE4","v":"2025-08-25"},null,null,null,null,null,null,{"$f":"AKL4","v":"2025-09-01"},null,null,null,null,null,null,{"$f":"AKS4","v":"2025-09-08"},null,null,null,null,null,null,{"$f":"AKZ4","v":"2025-09-15"},null,null,null,null,null,null,{"$f":"ALG4","v":"2025-09-22"},null,null,null,null,null,null,{"$f":"ALN4","v":"2025-09-29"},null,null,null,null,null,null,{"$f":"ALU4","v":"2025-10-06"},null,null,null,null,null,null,{"$f":"AMB4","v":"2025-10-13"},null,null,null,null,null,null,{"$f":"AMI4","v":"2025-10-20"},null,null,null,null,null,null,{"$f":"AMP4","v":"2025-10-27"},null,null,null,null,null,null,{"$f":"AMW4","v":"2025-11-03"},null,null,null,null,null,null,{"$f":"AND4","v":"2025-11-10"},null,null,null,null,null,null,{"$f":"ANK4","v":"2025-11-17"},null,null,null,null,null,null,{"$f":"ANR4","v":"2025-11-24"},null,null,null,null,null,null,{"$f":"ANY4","v":"2025-12-01"},null,null,null,null,null,null,{"$f":"AOF4","v":"2025-12-08"},null,null,null,null,null,null,{"$f":"AOM4","v":"2025-12-15"},null,null,null,null,null,null,{"$f":"AOT4","v":"2025-12-22"},null,null,null,null,null,null,{"$f":"APA4","v":"2025-12-29"},null,null,null,null,null,null,{"$f":"APH4","v":"2026-01-05"},null,null,null,null,null,null,{"$f":"APO4","v":"2026-01-12"},null,null,null,null,null,null,{"$f":"APV4","v":"2026-01-19"},null,null,null,null,null,null,{"$f":"AQC4","v":"2026-01-26"},null,null,null,null,null,null,{"$f":"AQJ4","v":"2026-02-02"},null,null,null,null,null,null,{"$f":"AQQ4","v":"2026-02-09"},null,null,null,null,null,null,{"$f":"AQX4","v":"2026-02-16"},null,null,null,null,null,null,{"$f":"ARE4","v":"2026-02-23"},null,null,null,null,null,null,{"$f":"ARL4","v":"2026-03-02"},null,null,null,null,null,null,{"$f":"ARS4","v":"2026-03-09"},null,null,null,null,null,null,{"$f":"ARZ4","v":"2026-03-16"},null,null,null,null,null,null,{"$f":"ASG4","v":"2026-03-23"},null,null,null,null,null,null,{"$f":"ASN4","v":"2026-03-30"},null,null,null,null,null,null,{"$f":"ASU4","v":"2026-04-06"},null,null,null,null,null,null,{"$f":"ATB4","v":"2026-04-13"},null,null,null,null,null,null,{"$f":"ATI4","v":"2026-04-20"},null,null,null,null,null,null,{"$f":"ATP4","v":"2026-04-27"},null,null,null,null,null,null,{"$f":"ATW4","v":"2026-05-04"},null,null,null,null,null,null,{"$f":"AUD4","v":"2026-05-11"},null,null,null,null,null,null,{"$f":"AUK4","v":"2026-05-18"},null,null,null,null,null,null,{"$f":"AUR4","v":"2026-05-25"},null,null,null,null,null,null,{"$f":"AUY4","v":"2026-06-01"},null,null,null,null,null,null,{"$f":"AVF4","v":"2026-06-08"},null,null,null,null,null,null,{"$f":"AVM4","v":"2026-06-15"},null,null,null,null,null,null,{"$f":"AVT4","v":"2026-06-22"},null,null,null,null,null,null,{"$f":"AWA4","v":"2026-06-29"},null,null,null,null,null,null,{"$f":"AWH4","v":"2026-07-06"},null,null,null,null,null,null,{"$f":"AWO4","v":"2026-07-13"},null,null,null,null,null,null,{"$f":"AWV4","v":"2026-07-20"},null,null,null,null,null,null,{"$f":"AXC4","v":"2026-07-27"},null,null,null,null,null,null,{"$f":"AXJ4","v":"2026-08-03"},null,null,null,null,null,null,{"$f":"AXQ4","v":"2026-08-10"},null,null,null,null,null,null,{"$f":"AXX4","v":"2026-08-17"},null,null,null,null,null,null,{"$f":"AYE4","v":"2026-08-24"},null,null,null,null,null,null,{"$f":"AYL4","v":"2026-08-31"},null,null,null,null,null,null,{"$f":"AYS4","v":"2026-09-07"},null,null,null,null,null,null,{"$f":"AYZ4","v":"2026-09-14"},null,null,null,null,null,null,{"$f":"AZG4","v":"2026-09-21"},null,null,null,null,null,null,{"$f":"AZN4","v":"2026-09-28"},null,null,null,null,null,null,{"$f":"AZU4","v":"2026-10-05"},null,null,null,null,null,null,{"$f":"BAB4","v":"2026-10-12"},null,null,null,null,null,null,{"$f":"BAI4","v":"2026-10-19"},null,null,null,null,null,null,{"$f":"BAP4","v":"2026-10-26"},null,null,null,null,null,null,{"$f":"BAW4","v":"2026-11-02"},null,null,null,null,null,null,{"$f":"BBD4","v":"2026-11-09"},null,null,null,null,null,null,{"$f":"BBK4","v":"2026-11-16"},null,null,null,null,null,null,{"$f":"BBR4","v":"2026-11-23"},null,null,null,null,null,null,{"$f":"BBY4","v":"2026-11-30"},null,null,null,null,null,null,{"$f":"BCF4","v":"2026-12-07"},null,null,null,null,null,null,{"$f":"BCM4","v":"2026-12-14"},null,null,null,null,null,null,{"$f":"BCT4","v":"2026-12-21"},null,null,null,null,null,null,{"$f":"BDA4","v":"2026-12-28"},null,null,null,null,null,null,{"$f":"BDH4","v":"2027-01-04"},null,null,null,null,null,null,{"$f":"BDO4","v":"2027-01-11"},null,null,null,null,null,null,{"$f":"BDV4","v":"2027-01-18"},null,null,null,null,null,null,{"$f":"BEC4","v":"2027-01-25"},null,null,null,null,null,null,{"$f":"BEJ4","v":"2027-02-01"},null,null,null,null,null,null,{"$f":"BEQ4","v":"2027-02-08"},null,null,null,null,null,null,{"$f":"BEX4","v":"2027-02-15"},null,null,null,null,null,null,{"$f":"BFE4","v":"2027-02-22"},null,null,null,null,null,null,{"$f":"BFL4","v":"2027-03-01"},null,null,null,null,null,null,{"$f":"BFS4","v":"2027-03-08"},null,null,null,null,null,null,{"$f":"BFZ4","v":"2027-03-15"},null,null,null,null,null,null,{"$f":"BGG4","v":"2027-03-22"},null,null,null,null,null,null,{"$f":"BGN4","v":"2027-03-29"},null,null,null,null,null,null,{"$f":"BGU4","v":"2027-04-05"},null,null,null,null,null,null,{"$f":"BHB4","v":"2027-04-12"},null,null,null,null,null,null,{"$f":"BHI4","v":"2027-04-19"},null,null,null,null,null,null,{"$f":"BHP4","v":"2027-04-26"},null,null,null,null,null,null,{"$f":"BHW4","v":"2027-05-03"},null,null,null,null,null,null,{"$f":"BID4","v":"2027-05-10"},null,null,null,null,null,null,{"$f":"BIK4","v":"2027-05-17"},null,null,null,null,null,null,{"$f":"BIR4","v":"2027-05-24"},null,null,null,null,null,null,{"$f":"BIY4","v":"2027-05-31"},null,null,null,null,null,null,{"$f":"BJF4","v":"2027-06-07"},null,null,null,null,null,null,{"$f":"BJM4","v":"2027-06-14"},null,null,null,null,null,null,{"$f":"BJT4","v":"2027-06-21"},null,null,null,null,null,null,{"$f":"BKA4","v":"2027-06-28"},null,null,null,null,null,null,{"$f":"BKH4","v":"2027-07-05"},null,null,null,null,null,null,{"$f":"BKO4","v":"2027-07-12"},null,null,null,null,null,null,{"$f":"BKV4","v":"2027-07-19"},null,null,null,null,null,null,{"$f":"BLC4","v":"2027-07-26"},null,null,null,null,null,null,{"$f":"BLJ4","v":"2027-08-02"},null,null,null,null,null,null,{"$f":"BLQ4","v":"2027-08-09"},null,null,null,null,null,null,{"$f":"BLX4","v":"2027-08-16"},null,null,null,null,null,null,{"$f":"BME4","v":"2027-08-23"},null,null,null,null,null,null,{"$f":"BML4","v":"2027-08-30"},null,null,null,null,null,null,{"$f":"BMS4","v":"2027-09-06"},null,null,null,null,null,null,{"$f":"BMZ4","v":"2027-09-13"},null,null,null,null,null,null,{"$f":"BNG4","v":"2027-09-20"},null,null,null,null,null,null,{"$f":"BNN4","v":"2027-09-27"},null,null,null,null,null,null,{"$f":"BNU4","v":"2027-10-04"},null,null,null,null,null,null,{"$f":"BOB4","v":"2027-10-11"},null,null,null,null,null,null,{"$f":"BOI4","v":"2027-10-18"},null,null,null,null,null,null,{"$f":"BOP4","v":"2027-10-25"},null,null,null,null,null,null,{"$f":"BOW4","v":"2027-11-01"},null,null,null,null,null,null,{"$f":"BPD4","v":"2027-11-08"},null,null,null,null,null,null,{"$f":"BPK4","v":"2027-11-15"},null,null,null,null,null,null,{"$f":"BPR4","v":"2027-11-22"},null,null,null,null,null,null,{"$f":"BPY4","v":"2027-11-29"},null,null,null,null,null,null,{"$f":"BQF4","v":"2027-12-06"},null,null,null,null,null,null,{"$f":"BQM4","v":"2027-12-13"},null,null,null,null,null,null,{"$f":"BQT4","v":"2027-12-20"},null,null,null,null,null,null,{"$f":"BRA4","v":"2027-12-27"},null,null,null,null,null,null,{"$f":"BRH4","v":"2028-01-03"},null,null,null,null,null,null,{"$f":"BRO4","v":"2028-01-10"},null,null,null,null,null,null,{"$f":"BRV4","v":"2028-01-17"},null,null,null,null,null,null,{"$f":"BSC4","v":"2028-01-24"},null,null,null,null,null,null,{"$f":"BSJ4","v":"2028-01-31"},null,null,null,null,null,null,{"$f":"BSQ4","v":"2028-02-07"},null,null,null,null,null,null,{"$f":"BSX4","v":"2028-02-14"},null,null,null,null,null,null,{"$f":"BTE4","v":"2028-02-21"},null,null,null,null,null,null,{"$f":"BTL4","v":"2028-02-28"},null,null,null,null,null,null,{"$f":"BTS4","v":"2028-03-06"},null,null,null,null,null,null,{"$f":"BTZ4","v":"2028-03-13"},null,null,null,null,null,null,{"$f":"BUG4","v":"2028-03-20"},null,null,null,null,null,null,{"$f":"BUN4","v":"2028-03-27"},null,null,null,null,null,null,{"$f":"BUU4","v":"2028-04-03"},null,null,null,null,null,null,{"$f":"BVB4","v":"2028-04-10"},null,null,null,null,null,null,{"$f":"BVI4","v":"2028-04-17"},null,null,null,null,null,null,{"$f":"BVP4","v":"2028-04-24"},null,null,null,null,null,null,{"$f":"BVW4","v":"2028-05-01"},null,null,null,null,null,null,{"$f":"BWD4","v":"2028-05-08"},null,null,null,null,null,null,{"$f":"BWK4","v":"2028-05-15"},null,null,null,null,null,null,{"$f":"BWR4","v":"2028-05-22"},null,null,null,null,null,null,{"$f":"BWY4","v":"2028-05-29"},null,null,null,null,null,null,{"$f":"BXF4","v":"2028-06-05"},null,null,null,null,null,null,{"$f":"BXM4","v":"2028-06-12"},null,null,null,null,null,null,{"$f":"BXT4","v":"2028-06-19"},null,null,null,null,null,null,{"$f":"BYA4","v":"2028-06-26"},null,null,null,null,null,null,{"$f":"BYH4","v":"2028-07-03"},null,null,null,null,null,null,{"$f":"BYO4","v":"2028-07-10"},null,null,null,null,null,null,{"$f":"BYV4","v":"2028-07-17"},null,null,null,null,null,null,{"$f":"BZC4","v":"2028-07-24"},null,null,null,null,null,null,{"$f":"BZJ4","v":"2028-07-31"},null,null,null,null,null,null,{"$f":"BZQ4","v":"2028-08-07"},null,null,null,null,null,null,{"$f":"BZX4","v":"2028-08-14"},null,null,null,null,null,null,{"$f":"CAE4","v":"2028-08-21"},null,null,null,null,null,null,{"$f":"CAL4","v":"2028-08-28"},null,null,null,null,null,null,{"$f":"CAS4","v":"2028-09-04"},null,null,null,null,null,null,{"$f":"CAZ4","v":"2028-09-11"},null,null,null,null,null,null,{"$f":"CBG4","v":"2028-09-18"},null,null,null,null,null,null,{"$f":"CBN4","v":"2028-09-25"},null,null,null,null,null,null,{"$f":"CBU4","v":"2028-10-02"},null,null,null,null,null,null,{"$f":"CCB4","v":"2028-10-09"},null,null,null,null,null,null,{"$f":"CCI4","v":"2028-10-16"},null,null,null,null,null,null,{"$f":"CCP4","v":"2028-10-23"},null,null,null,null,null,null,{"$f":"CCW4","v":"2028-10-30"},null,null,null,null,null,null,{"$f":"CDD4","v":"2028-11-06"},null,null,null,null,null,null,{"$f":"CDK4","v":"2028-11-13"},null,null,null,null,null,null,{"$f":"CDR4","v":"2028-11-20"},null,null,null,null,null,null,{"$f":"CDY4","v":"2028-11-27"},null,null,null,null,null,null,{"$f":"CEF4","v":"2028-12-04"},null,null,null,null,null,null,{"$f":"CEM4","v":"2028-12-11"},null,null,null,null,null,null,{"$f":"CET4","v":"2028-12-18"},null,null,null,null,null,null,{"$f":"CFA4","v":"2028-12-25"},null,null,null,null,null,null,{"$f":"CFH4","v":"2029-01-01"},null,null,null,null,null,null,{"$f":"CFO4","v":"2029-01-08"},null,null,null,null,null,null,{"$f":"CFV4","v":"2029-01-15"},null,null,null,null,null,null,{"$f":"CGC4","v":"2029-01-22"},null,null,null,null,null,null,{"$f":"CGJ4","v":"2029-01-29"},null,null,null,null,null,null,{"$f":"CGQ4","v":"2029-02-05"},null,null,null,null,null,null,{"$f":"CGX4","v":"2029-02-12"},null,null,null,null,null,null,{"$f":"CHE4","v":"2029-02-19"},null,null,null,null,null,null,{"$f":"CHL4","v":"2029-02-26"},null,null,null,null,null,null,{"$f":"CHS4","v":"2029-03-05"},null,null,null,null,null,null,{"$f":"CHZ4","v":"2029-03-12"},null,null,null,null,null,null,{"$f":"CIG4","v":"2029-03-19"},null,null,null,null,null,null,{"$f":"CIN4","v":"2029-03-26"},null,null,null,null,null,null,{"$f":"CIU4","v":"2029-04-02"},null,null,null,null,null,null,{"$f":"CJB4","v":"2029-04-09"},null,null,null,null,null,null,{"$f":"CJI4","v":"2029-04-16"},null,null,null,null,null,null,{"$f":"CJP4","v":"2029-04-23"},null,null,null,null,null,null,{"$f":"CJW4","v":"2029-04-30"},null,null,null,null,null,null,{"$f":"CKD4","v":"2029-05-07"},null,null,null,null,null,null,{"$f":"CKK4","v":"2029-05-14"},null,null,null,null,null,null,{"$f":"CKR4","v":"2029-05-21"},null,null,null,null,null,null,{"$f":"CKY4","v":"2029-05-28"},null,null,null,null,null,null,{"$f":"CLF4","v":"2029-06-04"},null,null,null,null,null,null,{"$f":"CLM4","v":"2029-06-11"},null,null,null,null,null,null,{"$f":"CLT4","v":"2029-06-18"},null,null,null,null,null,null,{"$f":"CMA4","v":"2029-06-25"},null,null,null,null,null,null,{"$f":"CMH4","v":"2029-07-02"},null,null,null,null,null,null,{"$f":"CMO4","v":"2029-07-09"},null,null,null,null,null,null,{"$f":"CMV4","v":"2029-07-16"},null,null,null,null,null,null,{"$f":"CNC4","v":"2029-07-23"},null,null,null,null,null,null,{"$f":"CNJ4","v":"2029-07-30"},null,null,null,null,null,null,{"$f":"CNQ4","v":"2029-08-06"},null,null,null,null,null,null,{"$f":"CNX4","v":"2029-08-13"},null,null,null,null,null,null,{"$f":"COE4","v":"2029-08-20"},null,null,null,null,null,null,{"$f":"COL4","v":"2029-08-27"},null,null,null,null,null,null,{"$f":"COS4","v":"2029-09-03"},null,null,null,null,null,null,{"$f":"COZ4","v":"2029-09-10"},null,null,null,null,null,null,{"$f":"CPG4","v":"2029-09-17"},null,null,null,null,null,null,{"$f":"CPN4","v":"2029-09-24"},null,null,null,null,null,null,{"$f":"CPU4","v":"2029-10-01"},null,null,null,null,null,null,{"$f":"CQB4","v":"2029-10-08"},null,null,null,null,null,null,{"$f":"CQI4","v":"2029-10-15"},null,null,null,null,null,null,{"$f":"CQP4","v":"2029-10-22"},null,null,null,null,null,null,{"$f":"CQW4","v":"2029-10-29"},null,null,null,null,null,null,{"$f":"CRD4","v":"2029-11-05"},null,null,null,null,null,null,{"$f":"CRK4","v":"2029-11-12"},null,null,null,null,null,null,{"$f":"CRR4","v":"2029-11-19"},null,null,null,null,null,null,{"$f":"CRY4","v":"2029-11-26"},null,null,null,null,null,null,{"$f":"CSF4","v":"2029-12-03"},null,null,null,null,null,null,{"$f":"CSM4","v":"2029-12-10"},null,null,null,null,null,null,{"$f":"CST4","v":"2029-12-17"},null,null,null,null,null,null,{"$f":"CTA4","v":"2029-12-24"},null,null,null,null,null,null,{"$f":"CTH4","v":"2029-12-31"},null,null,null,null,null,null,{"$f":"CTO4","v":"2030-01-07"},null,null,null,null,null,null,{"$f":"CTV4","v":"2030-01-14"},null,null,null,null,null,null,{"$f":"CUC4","v":"2030-01-21"},null,null,null,null,null,null,{"$f":"CUJ4","v":"2030-01-28"},null,null,null,null,null,null,{"$f":"CUQ4","v":"2030-02-04"},null,null,null,null,null,null,{"$f":"CUX4","v":"2030-02-11"},null,null,null,null,null,null,{"$f":"CVE4","v":"2030-02-18"},null,null,null,null,null,null,{"$f":"CVL4","v":"2030-02-25"},null,null,null,null,null,null,{"$f":"CVS4","v":"2030-03-04"},null,null,null,null,null,null,{"$f":"CVZ4","v":"2030-03-11"},null,null,null,null,null,null,{"$f":"CWG4","v":"2030-03-18"},null,null,null,null,null,null,{"$f":"CWN4","v":"2030-03-25"},null,null,null,null,null,null,{"$f":"CWU4","v":"2030-04-01"},null,null,null,null,null,null,{"$f":"CXB4","v":"2030-04-08"},null,null,null,null,null,null,{"$f":"CXI4","v":"2030-04-15"},null,null,null,null,null,null,{"$f":"CXP4","v":"2030-04-22"},null,null,null,null,null,null,{"$f":"CXW4","v":"2030-04-29"},null,null,null,null,null,null,{"$f":"CYD4","v":"2030-05-06"},null,null,null,null,null,null,{"$f":"CYK4","v":"2030-05-13"},null,null,null,null,null,null,{"$f":"CYR4","v":"2030-05-20"},null,null,null,null,null,null,{"$f":"CYY4","v":"2030-05-27"},null,null,null,null,null,null,{"$f":"CZF4","v":"2030-06-03"},null,null,null,null,null,null,{"$f":"CZM4","v":"2030-06-10"},null,null,null,null,null,null,{"$f":"CZT4","v":"2030-06-17"},null,null,null,null,null,null,{"$f":"DAA4","v":"2030-06-24"},null,null,null,null,null,null,{"$f":"DAH4","v":"2030-07-01"},null,null,null,null,null,null,{"$f":"DAO4","v":"2030-07-08"},null,null,null,null,null,null,{"$f":"DAV4","v":"2030-07-15"},null,null,null,null,null,null,{"$f":"DBC4","v":"2030-07-22"},null,null,null,null,null,null,{"$f":"DBJ4","v":"2030-07-29"},null,null,null,null,null,null,{"$f":"DBQ4","v":"2030-08-05"},null,null,null,null,null,null,{"$f":"DBX4","v":"2030-08-12"},null,null,null,null,null,null,{"$f":"DCE4","v":"2030-08-19"},null,null,null,null,null,null,{"$f":"DCL4","v":"2030-08-26"},null,null,null,null,null,null,{"$f":"DCS4","v":"2030-09-02"},null,null,null,null,null,null,{"$f":"DCZ4","v":"2030-09-09"},null,null,null,null,null,null,{"$f":"DDG4","v":"2030-09-16"},null,null,null,null,null,null,{"$f":"DDN4","v":"2030-09-23"},null,null,null,null,null,null,{"$f":"DDU4","v":"2030-09-30"},null,null,null,null,null,null,{"$f":"DEB4","v":"2030-10-07"},null,null,null,null,null,null,{"$f":"DEI4","v":"2030-10-14"},null,null,null,null,null,null,{"$f":"DEP4","v":"2030-10-21"},null,null,null,null,null,null,{"$f":"DEW4","v":"2030-10-28"},null,null,null,null,null,null,{"$f":"DFD4","v":"2030-11-04"},null,null,null,null,null,null,{"$f":"DFK4","v":"2030-11-11"},null,null,null,null,null,null,{"$f":"DFR4","v":"2030-11-18"},null,null,null,null,null,null,{"$f":"DFY4","v":"2030-11-25"},null,null,null,null,null,null,{"$f":"DGF4","v":"2030-12-02"},null,null,null,null,null,null,{"$f":"DGM4","v":"2030-12-09"},null,null,null,null,null,null,{"$f":"DGT4","v":"2030-12-16"},null,null,null,null,null,null,{"$f":"DHA4","v":"2030-12-23"},null,null,null,null,null,null,{"$f":"DHH4","v":"2030-12-30"},null,null,null,null,null,null,{"$f":"DHO4","v":"2031-01-06"},null,null,null,null,null,null,{"$f":"DHV4","v":"2031-01-13"},null,null,null,null,null,null,{"$f":"DIC4","v":"2031-01-20"},null,null,null,null,null,null,{"$f":"DIJ4","v":"2031-01-27"},null,null,null,null,null,null,{"$f":"DIQ4","v":"2031-02-03"},null,null,null,null,null,null,{"$f":"DIX4","v":"2031-02-10"},null,null,null,null,null,null,{"$f":"DJE4","v":"2031-02-17"},null,null,null,null,null,null,{"$f":"DJL4","v":"2031-02-24"},null,null,null,null,null,null,{"$f":"DJS4","v":"2031-03-03"},null,null,null,null,null,null,{"$f":"DJZ4","v":"2031-03-10"},null,null,null,null,null,null,{"$f":"DKG4","v":"2031-03-17"},null,null,null,null,null,null,{"$f":"DKN4","v":"2031-03-24"},null,null,null,null,null,null,{"$f":"DKU4","v":"2031-03-31"},null,null,null,null,null,null,{"$f":"DLB4","v":"2031-04-07"},null,null,null,null,null,null,{"$f":"DLI4","v":"2031-04-14"},null,null,null,null,null,null,{"$f":"DLP4","v":"2031-04-21"},null,null,null,null,null,null,{"$f":"DLW4","v":"2031-04-28"},null,null,null,null,null,null,{"$f":"DMD4","v":"2031-05-05"},null,null,null,null,null,null,{"$f":"DMK4","v":"2031-05-12"},null,null,null,null,null,null,{"$f":"DMR4","v":"2031-05-19"},null,null,null,null,null,null,{"$f":"DMY4","v":"2031-05-26"},null,null,null,null,null,null,{"$f":"DNF4","v":"2031-06-02"},null,null,null,null,null,null,{"$f":"DNM4","v":"2031-06-09"},null,null,null,null,null,null,{"$f":"DNT4","v":"2031-06-16"},null,null,null,null,null,null,{"$f":"DOA4","v":"2031-06-23"},null,null,null,null,null,null,{"$f":"DOH4","v":"2031-06-30"},null,null,null,null,null,null,{"$f":"DOO4","v":"2031-07-07"},null,null,null,null,null,null,{"$f":"DOV4","v":"2031-07-14"},null,null,null,null,null,null,{"$f":"DPC4","v":"2031-07-21"},null,null,null,null,null,null,{"$f":"DPJ4","v":"2031-07-28"},null,null,null,null,null,null,{"$f":"DPQ4","v":"2031-08-04"},null,null,null,null,null,null,{"$f":"DPX4","v":"2031-08-11"},null,null,null,null,null,null,{"$f":"DQE4","v":"2031-08-18"},null,null,null,null,null,null,{"$f":"DQL4","v":"2031-08-25"},null,null,null,null,null,null,{"$f":"DQS4","v":"2031-09-01"},null,null,null,null,null,null,{"$f":"DQZ4","v":"2031-09-08"},null,null,null,null,null,null,{"$f":"DRG4","v":"2031-09-15"},null,null,null,null,null,null,{"$f":"DRN4","v":"2031-09-22"},null,null,null,null,null,null,{"$f":"DRU4","v":"2031-09-29"},null,null,null,null,null,null,{"$f":"DSB4","v":"2031-10-06"},null,null,null,null,null,null,{"$f":"DSI4","v":"2031-10-13"},null,null,null,null,null,null,{"$f":"DSP4","v":"2031-10-20"},null,null,null,null,null,null,{"$f":"DSW4","v":"2031-10-27"},null,null,null,null,null,null,{"$f":"DTD4","v":"2031-11-03"},null,null,null,null,null,null,{"$f":"DTK4","v":"2031-11-10"},null,null,null,null,null,null,{"$f":"DTR4","v":"2031-11-17"},null,null,null,null,null,null,{"$f":"DTY4","v":"2031-11-24"},null,null,null,null,null,null,{"$f":"DUF4","v":"2031-12-01"},null,null,null,null,null,null,{"$f":"DUM4","v":"2031-12-08"},null,null,null,null,null,null,{"$f":"DUT4","v":"2031-12-15"},null,null,null,null,null,null,{"$f":"DVA4","v":"2031-12-22"},null,null,null,null,null,null,{"$f":"DVH4","v":"2031-12-29"},null,null,null,null,null,null,{"$f":"DVO4","v":"2032-01-05"},null,null,null,null,null,null,{"$f":"DVV4","v":"2032-01-12"},null,null,null,null,null,null,{"$f":"DWC4","v":"2032-01-19"},null,null,null,null,null,null,{"$f":"DWJ4","v":"2032-01-26"},null,null,null,null,null,null,{"$f":"DWQ4","v":"2032-02-02"},null,null,null,null,null,null,{"$f":"DWX4","v":"2032-02-09"},null,null,null,null,null,null,{"$f":"DXE4","v":"2032-02-16"},null,null,null,null,null,null,{"$f":"DXL4","v":"2032-02-23"},null,null,null,null,null,null,{"$f":"DXS4","v":"2032-03-01"},null,null,null,null,null,null,{"$f":"DXZ4","v":"2032-03-08"},null,null,null,null,null,null,{"$f":"DYG4","v":"2032-03-15"},null,null,null,null,null,null,{"$f":"DYN4","v":"2032-03-22"},null,null,null,null,null,null,{"$f":"DYU4","v":"2032-03-29"},null,null,null,null,null,null,{"$f":"DZB4","v":"2032-04-05"},null,null,null,null,null,null,{"$f":"DZI4","v":"2032-04-12"},null,null,null,null,null,null,{"$f":"DZP4","v":"2032-04-19"},null,null,null,null,null,null,{"$f":"DZW4","v":"2032-04-26"},null,null,null,null,null,null,{"$f":"EAD4","v":"2032-05-03"},null,null,null,null,null,null,{"$f":"EAK4","v":"2032-05-10"},null,null,null,null,null,null,{"$f":"EAR4","v":"2032-05-17"},null,null,null,null,null,null,{"$f":"EAY4","v":"2032-05-24"},null,null,null,null,null,null,{"$f":"EBF4","v":"2032-05-31"},null,null,null,null,null,null,{"$f":"EBM4","v":"2032-06-07"},null,null,null,null,null,null,{"$f":"EBT4","v":"2032-06-14"},null,null,null,null,null,null,{"$f":"ECA4","v":"2032-06-21"},null,null,null,null,null,null,{"$f":"ECH4","v":"2032-06-28"},null,null,null,null,null,null,{"$f":"ECO4","v":"2032-07-05"},null,null,null,null,null,null,{"$f":"ECV4","v":"2032-07-12"},null,null,null,null,null,null,{"$f":"EDC4","v":"2032-07-19"},null,null,null,null,null,null,{"$f":"EDJ4","v":"2032-07-26"},null,null,null,null,null,null,{"$f":"EDQ4","v":"2032-08-02"},null,null,null,null,null,null,{"$f":"EDX4","v":"2032-08-09"},null,null,null,null,null,null,{"$f":"EEE4","v":"2032-08-16"},null,null,null,null,null,null,{"$f":"EEL4","v":"2032-08-23"},null,null,null,null,null,null,{"$f":"EES4","v":"2032-08-30"},null,null,null,null,null,null,{"$f":"EEZ4","v":"2032-09-06"},null,null,null,null,null,null,{"$f":"EFG4","v":"2032-09-13"},null,null,null,null,null,null,{"$f":"EFN4","v":"2032-09-20"},null,null,null,null,null,null,{"$f":"EFU4","v":"2032-09-27"},null,null,null,null,null,null,{"$f":"EGB4","v":"2032-10-04"},null,null,null,null,null,null,{"$f":"EGI4","v":"2032-10-11"},null,null,null,null,null,null,{"$f":"EGP4","v":"2032-10-18"},null,null,null,null,null,null,{"$f":"EGW4","v":"2032-10-25"},null,null,null,null,null,null,{"$f":"EHD4","v":"2032-11-01"},null,null,null,null,null,null,{"$f":"EHK4","v":"2032-11-08"},null,null,null,null,null,null,{"$f":"EHR4","v":"2032-11-15"},null,null,null,null,null,null,{"$f":"EHY4","v":"2032-11-22"},null,null,null,null,null,null,{"$f":"EIF4","v":"2032-11-29"},null,null,null,null,null,null,{"$f":"EIM4","v":"2032-12-06"},null,null,null,null,null,null,{"$f":"EIT4","v":"2032-12-13"},null,null,null,null,null,null,{"$f":"EJA4","v":"2032-12-20"},null,null,null,null,null,null,{"$f":"EJH4","v":"2032-12-27"},null,null,null,null,null,null,{"$f":"EJO4","v":"2033-01-03"},null,null,null,null,null,null,{"$f":"EJV4","v":"2033-01-10"},null,null,null,null,null,null,{"$f":"EKC4","v":"2033-01-17"},null,null,null,null,null,null,{"$f":"EKJ4","v":"2033-01-24"},null,null,null,null,null,null,{"$f":"EKQ4","v":"2033-01-31"},null,null,null,null,null,null,{"$f":"EKX4","v":"2033-02-07"},null,null,null,null,null,null,{"$f":"ELE4","v":"2033-02-14"},null,null,null,null,null,null,{"$f":"ELL4","v":"2033-02-21"},null,null,null,null,null,null,{"$f":"ELS4","v":"2033-02-28"},null,null,null,null,null,null,{"$f":"ELZ4","v":"2033-03-07"},null,null,null,null,null,null,{"$f":"EMG4","v":"2033-03-14"},null,null,null,null,null,null,{"$f":"EMN4","v":"2033-03-21"},null,null,null,null,null,null,{"$f":"EMU4","v":"2033-03-28"},null,null,null,null,null,null,{"$f":"ENB4","v":"2033-04-04"},null,null,null,null,null,null,{"$f":"ENI4","v":"2033-04-11"},null,null,null,null,null,null,{"$f":"ENP4","v":"2033-04-18"},null,null,null,null,null,null,{"$f":"ENW4","v":"2033-04-25"},null,null,null,null,null,null,{"$f":"EOD4","v":"2033-05-02"},null,null,null,null,null,null,{"$f":"EOK4","v":"2033-05-09"},null,null,null,null,null,null,{"$f":"EOR4","v":"2033-05-16"},null,null,null,null,null,null,{"$f":"EOY4","v":"2033-05-23"},null,null,null,null,null,null,{"$f":"EPF4","v":"2033-05-30"},null,null,null,null,null,null,{"$f":"EPM4","v":"2033-06-06"},null,null,null,null,null,null,{"$f":"EPT4","v":"2033-06-13"},null,null,null,null,null,null,{"$f":"EQA4","v":"2033-06-20"},null,null,null,null,null,null,{"$f":"EQH4","v":"2033-06-27"},null,null,null,null,null,null,{"$f":"EQO4","v":"2033-07-04"},null,null,null,null,null,null,{"$f":"EQV4","v":"2033-07-11"},null,null,null,null,null,null,{"$f":"ERC4","v":"2033-07-18"},null,null,null,null,null,null,{"$f":"ERJ4","v":"2033-07-25"},null,null,null,null,null,null,{"$f":"ERQ4","v":"2033-08-01"},null,null,null,null,null,null,{"$f":"ERX4","v":"2033-08-08"},null,null,null,null,null,null,{"$f":"ESE4","v":"2033-08-15"},null,null,null,null,null,null,{"$f":"ESL4","v":"2033-08-22"},null,null,null,null,null,null,{"$f":"ESS4","v":"2033-08-29"},null,null,null,null,null,null,{"$f":"ESZ4","v":"2033-09-05"},null,null,null,null,null,null,{"$f":"ETG4","v":"2033-09-12"},null,null,null,null,null,null,{"$f":"ETN4","v":"2033-09-19"},null,null,null,null,null,null,{"$f":"ETU4","v":"2033-09-26"},null,null,null,null,null,null,{"$f":"EUB4","v":"2033-10-03"},null,null,null,null,null,null,{"$f":"EUI4","v":"2033-10-10"},null,null,null,null,null,null,{"$f":"EUP4","v":"2033-10-17"},null,null,null,null,null,null,{"$f":"EUW4","v":"2033-10-24"},null,null,null,null,null,null,{"$f":"EVD4","v":"2033-10-31"},null,null,null,null,null,null,{"$f":"EVK4","v":"2033-11-07"},null,null,null,null,null,null,{"$f":"EVR4","v":"2033-11-14"},null,null,null,null,null,null,{"$f":"EVY4","v":"2033-11-21"},null,null,null,null,null,null,{"$f":"EWF4","v":"2033-11-28"},null,null,null,null,null,null,{"$f":"EWM4","v":"2033-12-05"},null,null,null,null,null,null,{"$f":"EWT4","v":"2033-12-12"},null,null,null,null,null,null,{"$f":"EXA4","v":"2033-12-19"},null,null,null,null,null,null,{"$f":"EXH4","v":"2033-12-26"},null,null,null,null,null,null,{"$f":"EXO4","v":"2034-01-02"},null,null,null,null,null,null,{"$f":"EXV4","v":"2034-01-09"},null,null,null,null,null,null,{"$f":"EYC4","v":"2034-01-16"},null,null,null,null,null,null,{"$f":"EYJ4","v":"2034-01-23"},null,null,null,null,null,null,{"$f":"EYQ4","v":"2034-01-30"},null,null,null,null,null,null,{"$f":"EYX4","v":"2034-02-06"},null,null,null,null,null,null,{"$f":"EZE4","v":"2034-02-13"},null,null,null,null,null,null,{"$f":"EZL4","v":"2034-02-20"},null,null,null,null,null,null,{"$f":"EZS4","v":"2034-02-27"},null,null,null,null,null,null,{"$f":"EZZ4","v":"2034-03-06"},null,null,null,null,null,null,{"$f":"FAG4","v":"2034-03-13"},null,null,null,null,null,null,{"$f":"FAN4","v":"2034-03-20"},null,null,null,null,null,null,{"$f":"FAU4","v":"2034-03-27"},null,null,null,null,null,null,{"$f":"FBB4","v":"2034-04-03"},null,null,null,null,null,null,{"$f":"FBI4","v":"2034-04-10"},null,null,null,null,null,null,{"$f":"FBP4","v":"2034-04-17"},null,null,null,null,null,null,{"$f":"FBW4","v":"2034-04-24"},null,null,null,null,null,null,{"$f":"FCD4","v":"2034-05-01"},null,null,null,null,null,null,{"$f":"FCK4","v":"2034-05-08"},null,null,null,null,null,null,{"$f":"FCR4","v":"2034-05-15"},null,null,null,null,null,null,{"$f":"FCY4","v":"2034-05-22"},null,null,null,null,null,null,{"$f":"FDF4","v":"2034-05-29"},null,null,null,null,null,null,{"$f":"FDM4","v":"2034-06-05"},null,null,null,null,null,null,{"$f":"FDT4","v":"2034-06-12"},null,null,null,null,null,null,{"$f":"FEA4","v":"2034-06-19"},null,null,null,null,null,null,{"$f":"FEH4","v":"2034-06-26"},null,null,null,null,null,null,{"$f":"FEO4","v":"2034-07-03"},null,null,null,null,null,null,{"$f":"FEV4","v":"2034-07-10"},null,null,null,null,null,null,{"$f":"FFC4","v":"2034-07-17"},null,null,null,null,null,null,{"$f":"FFJ4","v":"2034-07-24"},null,null,null,null,null,null,{"$f":"FFQ4","v":"2034-07-31"},null,null,null,null,null,null,{"$f":"FFX4","v":"2034-08-07"},null,null,null,null,null,null,{"$f":"FGE4","v":"2034-08-14"},null,null,null,null,null,null,{"$f":"FGL4","v":"2034-08-21"},null,null,null,null,null,null,{"$f":"FGS4","v":"2034-08-28"},null,null,null,null,null,null,{"$f":"FGZ4","v":"2034-09-04"},null,null,null,null,null,null,{"$f":"FHG4","v":"2034-09-11"},null,null,null,null,null,null,{"$f":"FHN4","v":"2034-09-18"},null,null,null,null,null,null,{"$f":"FHU4","v":"2034-09-25"},null,null,null,null,null,null,{"$f":"FIB4","v":"2034-10-02"},null,null,null,null,null,null,{"$f":"FII4","v":"2034-10-09"},null,null,null,null,null,null,{"$f":"FIP4","v":"2034-10-16"},null,null,null,null,null,null,{"$f":"FIW4","v":"2034-10-23"},null,null,null,null,null,null,{"$f":"FJD4","v":"2034-10-30"},null,null,null,null,null,null,{"$f":"FJK4","v":"2034-11-06"},null,null,null,null,null,null,{"$f":"FJR4","v":"2034-11-13"},null,null,null,null,null,null,{"$f":"FJY4","v":"2034-11-20"},null,null,null,null,null,null,{"$f":"FKF4","v":"2034-11-27"},null,null,null,null,null,null,{"$f":"FKM4","v":"2034-12-04"},null,null,null,null,null,null,{"$f":"FKT4","v":"2034-12-11"},null,null,null,null,null,null,{"$f":"FLA4","v":"2034-12-18"},null,null,null,null,null,null,{"$f":"FLH4","v":"2034-12-25"},null,null,null,null,null,null,{"$f":"FLO4","v":"2035-01-01"},null,null,null,null,null,null,{"$f":"FLV4","v":"2035-01-08"},null,null,null,null,null,null,{"$f":"FMC4","v":"2035-01-15"},null,null,null,null,null,null,{"$f":"FMJ4","v":"2035-01-22"},null,null,null,null,null,null,{"$f":"FMQ4","v":"2035-01-29"},null,null,null,null,null,null,{"$f":"FMX4","v":"2035-02-05"},null,null,null,null,null,null,{"$f":"FNE4","v":"2035-02-12"},null,null,null,null,null,null,{"$f":"FNL4","v":"2035-02-19"},null,null,null,null,null,null,{"$f":"FNS4","v":"2035-02-26"},null,null,null,null,null,null,{"$f":"FNZ4","v":"2035-03-05"},null,null,null,null,null,null,{"$f":"FOG4","v":"2035-03-12"},null,null,null,null,null,null,{"$f":"FON4","v":"2035-03-19"},null,null,null,null,null,null,{"$f":"FOU4","v":"2035-03-26"},null,null,null,null,null,null,{"$f":"FPB4","v":"2035-04-02"},null,null,null,null,null,null,{"$f":"FPI4","v":"2035-04-09"},null,null,null,null,null,null,{"$f":"FPP4","v":"2035-04-16"},null,null,null,null,null,null,{"$f":"FPW4","v":"2035-04-23"},null,null,null,null,null,null,{"$f":"FQD4","v":"2035-04-30"},null,null,null,null,null,null,{"$f":"FQK4","v":"2035-05-07"},null,null,null,null,null,null,{"$f":"FQR4","v":"2035-05-14"},null,null,null,null,null,null,{"$f":"FQY4","v":"2035-05-21"},null,null,null,null,null,null,{"$f":"FRF4","v":"2035-05-28"},null,null,null,null,null,null,{"$f":"FRM4","v":"2035-06-04"},null,null,null,null,null,null,{"$f":"FRT4","v":"2035-06-11"},null,null,null,null,null,null,{"$f":"FSA4","v":"2035-06-18"},null,null,null,null,null,null,{"$f":"FSH4","v":"2035-06-25"},null,null,null,null,null,null,{"$f":"FSO4","v":"2035-07-02"},null,null,null,null,null,null,{"$f":"FSV4","v":"2035-07-09"},null,null,null,null,null,null,{"$f":"FTC4","v":"2035-07-16"},null,null,null,null,null,null,{"$f":"FTJ4","v":"2035-07-23"},null,null,null,null,null,null,{"$f":"FTQ4","v":"2035-07-30"},null,null,null,null,null,null,{"$f":"FTX4","v":"2035-08-06"},null,null,null,null,null,null,{"$f":"FUE4","v":"2035-08-13"},null,null,null,null,null,null,{"$f":"FUL4","v":"2035-08-20"},null,null,null,null,null,null,{"$f":"FUS4","v":"2035-08-27"},null,null,null,null,null,null,{"$f":"FUZ4","v":"2035-09-03"},null,null,null,null,null,null,{"$f":"FVG4","v":"2035-09-10"},null,null,null,null,null,null,{"$f":"FVN4","v":"2035-09-17"},null,null,null,null,null,null,{"$f":"FVU4","v":"2035-09-24"},null,null,null,null,null,null,{"$f":"FWB4","v":"2035-10-01"},null,null,null,null,null,null,{"$f":"FWI4","v":"2035-10-08"},null,null,null,null,null,null,{"$f":"FWP4","v":"2035-10-15"},null,null,null,null,null,null,{"$f":"FWW4","v":"2035-10-22"},null,null,null,null,null,null,{"$f":"FXD4","v":"2035-10-29"},null,null,null,null,null,null,{"$f":"FXK4","v":"2035-11-05"},null,null,null,null,null,null,{"$f":"FXR4","v":"2035-11-12"},null,null,null,null,null,null,{"$f":"FXY4","v":"2035-11-19"},null,null,null,null,null,null,{"$f":"FYF4","v":"2035-11-26"},null,null,null,null,null,null,{"$f":"FYM4","v":"2035-12-03"},null,null,null,null,null,null,{"$f":"FYT4","v":"2035-12-10"},null,null,null,null,null,null,{"$f":"FZA4","v":"2035-12-17"},null,null,null,null,null,null,{"$f":"FZH4","v":"2035-12-24"},null,null,null,null,null,null,{"$f":"FZO4","v":"2035-12-31"},null,null,null,null,null,null,{"$f":"FZV4","v":"2036-01-07"},null,null,null,null,null,null,{"$f":"GAC4","v":"2036-01-14"},null,null,null,null,null,null,{"$f":"GAJ4","v":"2036-01-21"},null,null,null,null,null,null,{"$f":"GAQ4","v":"2036-01-28"},null,null,null,null,null,null,{"$f":"GAX4","v":"2036-02-04"},null,null,null,null,null,null,{"$f":"GBE4","v":"2036-02-11"},null,null,null,null,null,null,{"$f":"GBL4","v":"2036-02-18"},null,null,null,null,null,null,{"$f":"GBS4","v":"2036-02-25"},null,null,null,null,null,null,{"$f":"GBZ4","v":"2036-03-03"},null,null,null,null,null,null,{"$f":"GCG4","v":"2036-03-10"},null,null,null,null,null,null,{"$f":"GCN4","v":"2036-03-17"},null,null,null,null,null,null,{"$f":"GCU4","v":"2036-03-24"},null,null,null,null,null,null,{"$f":"GDB4","v":"2036-03-31"},null,null,null,null,null,null,{"$f":"GDI4","v":"2036-04-07"},null,null,null,null,null,null,{"$f":"GDP4","v":"2036-04-14"},null,null,null,null,null,null,{"$f":"GDW4","v":"2036-04-21"},null,null,null,null,null,null,{"$f":"GED4","v":"2036-04-28"},null,null,null,null,null,null,{"$f":"GEK4","v":"2036-05-05"},null,null,null,null,null,null,{"$f":"GER4","v":"2036-05-12"},null,null,null,null,null,null,{"$f":"GEY4","v":"2036-05-19"},null,null,null,null,null,null,{"$f":"GFF4","v":"2036-05-26"},null,null,null,null,null,null,{"$f":"GFM4","v":"2036-06-02"},null,null,null,null,null,null,{"$f":"GFT4","v":"2036-06-09"},null,null,null,null,null,null,{"$f":"GGA4","v":"2036-06-16"},null,null,null,null,null,null,{"$f":"GGH4","v":"2036-06-23"},null,null,null,null,null,null,{"$f":"GGO4","v":"2036-06-30"},null,null,null,null,null,null,{"$f":"GGV4","v":"2036-07-07"},null,null,null,null,null,null,{"$f":"GHC4","v":"2036-07-14"},null,null,null,null,null,null,{"$f":"GHJ4","v":"2036-07-21"},null,null,null,null,null,null,{"$f":"GHQ4","v":"2036-07-28"},null,null,null,null,null,null,{"$f":"GHX4","v":"2036-08-04"},null,null,null,null,null,null,{"$f":"GIE4","v":"2036-08-11"},null,null,null,null,null,null,{"$f":"GIL4","v":"2036-08-18"},null,null,null,null,null,null,{"$f":"GIS4","v":"2036-08-25"},null,null,null,null,null,null,{"$f":"GIZ4","v":"2036-09-01"},null,null,null,null,null,null,{"$f":"GJG4","v":"2036-09-08"},null,null,null,null,null,null,{"$f":"GJN4","v":"2036-09-15"},null,null,null,null,null,null,{"$f":"GJU4","v":"2036-09-22"},null,null,null,null,null,null,{"$f":"GKB4","v":"2036-09-29"},null,null,null,null,null,null,{"$f":"GKI4","v":"2036-10-06"},null,null,null,null,null,null,{"$f":"GKP4","v":"2036-10-13"},null,null,null,null,null,null,{"$f":"GKW4","v":"2036-10-20"},null,null,null,null,null,null,{"$f":"GLD4","v":"2036-10-27"},null,null,null,null,null,null,{"$f":"GLK4","v":"2036-11-03"},null,null,null,null,null,null,{"$f":"GLR4","v":"2036-11-10"},null,null,null,null,null,null,{"$f":"GLY4","v":"2036-11-17"},null,null,null,null,null,null,{"$f":"GMF4","v":"2036-11-24"},null,null,null,null,null,null,{"$f":"GMM4","v":"2036-12-01"},null,null,null,null,null,null,{"$f":"GMT4","v":"2036-12-08"},null,null,null,null,null,null,{"$f":"GNA4","v":"2036-12-15"},null,null,null,null,null,null,{"$f":"GNH4","v":"2036-12-22"},null,null,null,null,null,null,{"$f":"GNO4","v":"2036-12-29"},null,null,null,null,null,null,{"$f":"GNV4","v":"2037-01-05"},null,null,null,null,null,null,{"$f":"GOC4","v":"2037-01-12"},null,null,null,null,null,null,{"$f":"GOJ4","v":"2037-01-19"},null,null,null,null,null,null,{"$f":"GOQ4","v":"2037-01-26"},null,null,null,null,null,null,{"$f":"GOX4","v":"2037-02-02"},null,null,null,null,null,null,{"$f":"GPE4","v":"2037-02-09"},null,null,null,null,null,null,{"$f":"GPL4","v":"2037-02-16"},null,null,null,null,null,null,{"$f":"GPS4","v":"2037-02-23"},null,null,null,null,null,null,{"$f":"GPZ4","v":"2037-03-02"},null,null,null,null,null,null,{"$f":"GQG4","v":"2037-03-09"},null,null,null,null,null,null,{"$f":"GQN4","v":"2037-03-16"},null,null,null,null,null,null,{"$f":"GQU4","v":"2037-03-23"},null,null,null,null,null,null,{"$f":"GRB4","v":"2037-03-30"},null,null,null,null,null,null,{"$f":"GRI4","v":"2037-04-06"},null,null,null,null,null,null,{"$f":"GRP4","v":"2037-04-13"},null,null,null,null,null,null,{"$f":"GRW4","v":"2037-04-20"},null,null,null,null,null,null,{"$f":"GSD4","v":"2037-04-27"},null,null,null,null,null,null,{"$f":"GSK4","v":"2037-05-04"},null,null,null,null,null,null,{"$f":"GSR4","v":"2037-05-11"},null,null,null,null,null,null,{"$f":"GSY4","v":"2037-05-18"},null,null,null,null,null,null,{"$f":"GTF4","v":"2037-05-25"},null,null,null,null,null,null,{"$f":"GTM4","v":"2037-06-01"},null,null,null,null,null,null,{"$f":"GTT4","v":"2037-06-08"},null,null,null,null,null,null,{"$f":"GUA4","v":"2037-06-15"},null,null,null,null,null,null,{"$f":"GUH4","v":"2037-06-22"},null,null,null,null,null,null,{"$f":"GUO4","v":"2037-06-29"},null,null,null,null,null,null,{"$f":"GUV4","v":"2037-07-06"},null,null,null,null,null,null,{"$f":"GVC4","v":"2037-07-13"},null,null,null,null,null,null,{"$f":"GVJ4","v":"2037-07-20"},null,null,null,null,null,null,{"$f":"GVQ4","v":"2037-07-27"},null,null,null,null,null,null,{"$f":"GVX4","v":"2037-08-03"},null,null,null,null,null,null,{"$f":"GWE4","v":"2037-08-10"},null,null,null,null,null,null,{"$f":"GWL4","v":"2037-08-17"},null,null,null,null,null,null,{"$f":"GWS4","v":"2037-08-24"},null,null,null,null,null,null,{"$f":"GWZ4","v":"2037-08-31"},null,null,null,null,null,null,{"$f":"GXG4","v":"2037-09-07"},null,null,null,null,null,null,{"$f":"GXN4","v":"2037-09-14"},null,null,null,null,null,null,{"$f":"GXU4","v":"2037-09-21"},null,null,null,null,null,null,{"$f":"GYB4","v":"2037-09-28"},null,null,null,null,null,null,{"$f":"GYI4","v":"2037-10-05"},null,null,null,null,null,null,{"$f":"GYP4","v":"2037-10-12"},null,null,null,null,null,null,{"$f":"GYW4","v":"2037-10-19"},null,null,null,null,null,null,{"$f":"GZD4","v":"2037-10-26"},null,null,null,null,null,null,{"$f":"GZK4","v":"2037-11-02"},null,null,null,null,null,null,{"$f":"GZR4","v":"2037-11-09"},null,null,null,null,null,null,{"$f":"GZY4","v":"2037-11-16"},null,null,null,null,null,null,{"$f":"HAF4","v":"2037-11-23"},null,null,null,null,null,null,{"$f":"HAM4","v":"2037-11-30"},null,null,null,null,null,null,{"$f":"HAT4","v":"2037-12-07"},null,null,null,null,null,null,{"$f":"HBA4","v":"2037-12-14"},null,null,null,null,null,null,{"$f":"HBH4","v":"2037-12-21"},null,null,null,null,null,null,{"$f":"HBO4","v":"2037-12-28"},null,null,null,null,null,null,{"$f":"HBV4","v":"2038-01-04"},null,null,null,null,null,null,{"$f":"HCC4","v":"2038-01-11"},null,null,null,null,null,null,{"$f":"HCJ4","v":"2038-01-18"},null,null,null,null,null,null,{"$f":"HCQ4","v":"2038-01-25"},null,null,null,null,null,null,{"$f":"HCX4","v":"2038-02-01"},null,null,null,null,null,null,{"$f":"HDE4","v":"2038-02-08"},null,null,null,null,null,null,{"$f":"HDL4","v":"2038-02-15"},null,null,null,null,null,null,{"$f":"HDS4","v":"2038-02-22"},null,null,null,null,null,null,{"$f":"HDZ4","v":"2038-03-01"},null,null,null,null,null,null,{"$f":"HEG4","v":"2038-03-08"},null,null,null,null,null,null,{"$f":"HEN4","v":"2038-03-15"},null,null,null,null,null,null,{"$f":"HEU4","v":"2038-03-22"},null,null,null,null,null,null,{"$f":"HFB4","v":"2038-03-29"},null,null,null,null,null,null,{"$f":"HFI4","v":"2038-04-05"},null,null,null,null,null,null,{"$f":"HFP4","v":"2038-04-12"},null,null,null,null,null,null,{"$f":"HFW4","v":"2038-04-19"},null,null,null,null,null,null,{"$f":"HGD4","v":"2038-04-26"},null,null,null,null,null,null,{"$f":"HGK4","v":"2038-05-03"},null,null,null,null,null,null,{"$f":"HGR4","v":"2038-05-10"},null,null,null,null,null,null,{"$f":"HGY4","v":"2038-05-17"},null,null,null,null,null,null,{"$f":"HHF4","v":"2038-05-24"},null,null,null,null,null,null,{"$f":"HHM4","v":"2038-05-31"},null,null,null,null,null,null,{"$f":"HHT4","v":"2038-06-07"},null,null,null,null,null,null,{"$f":"HIA4","v":"2038-06-14"},null,null,null,null,null,null,{"$f":"HIH4","v":"2038-06-21"},null,null,null,null,null,null,{"$f":"HIO4","v":"2038-06-28"},null,null,null,null,null,null,{"$f":"HIV4","v":"2038-07-05"},null,null,null,null,null,null,{"$f":"HJC4","v":"2038-07-12"},null,null,null,null,null,null,{"$f":"HJJ4","v":"2038-07-19"},null,null,null,null,null,null,{"$f":"HJQ4","v":"2038-07-26"},null,null,null,null,null,null,{"$f":"HJX4","v":"2038-08-02"},null,null,null,null,null,null,{"$f":"HKE4","v":"2038-08-09"},null,null,null,null,null,null,{"$f":"HKL4","v":"2038-08-16"},null,null,null,null,null,null,{"$f":"HKS4","v":"2038-08-23"},null,null,null,null,null,null,{"$f":"HKZ4","v":"2038-08-30"},null,null,null,null,null,null,{"$f":"HLG4","v":"2038-09-06"},null,null,null,null,null,null,{"$f":"HLN4","v":"2038-09-13"},null,null,null,null,null,null,{"$f":"HLU4","v":"2038-09-20"},null,null,null,null,null,null,{"$f":"HMB4","v":"2038-09-27"},null,null,null,null,null,null,{"$f":"HMI4","v":"2038-10-04"},null,null,null,null,null,null,{"$f":"HMP4","v":"2038-10-11"},null,null,null,null,null,null,{"$f":"HMW4","v":"2038-10-18"},null,null,null,null,null,null,{"$f":"HND4","v":"2038-10-25"},null,null,null,null,null,null,{"$f":"HNK4","v":"2038-11-01"},null,null,null,null,null,null,{"$f":"HNR4","v":"2038-11-08"},null,null,null,null,null,null,{"$f":"HNY4","v":"2038-11-15"},null,null,null,null,null,null,{"$f":"HOF4","v":"2038-11-22"},null,null,null,null,null,null,{"$f":"HOM4","v":"2038-11-29"},null,null,null,null,null,null,{"$f":"HOT4","v":"2038-12-06"},null,null,null,null,null,null,{"$f":"HPA4","v":"2038-12-13"},null,null,null,null,null,null,{"$f":"HPH4","v":"2038-12-20"},null,null,null,null,null,null,{"$f":"HPO4","v":"2038-12-27"},null,null,null,null,null,null,{"$f":"HPV4","v":"2039-01-03"},null,null,null,null,null,null,{"$f":"HQC4","v":"2039-01-10"},null,null,null,null,null,null,{"$f":"HQJ4","v":"2039-01-17"},null,null,null,null,null,null,{"$f":"HQQ4","v":"2039-01-24"},null,null,null,null,null,null,{"$f":"HQX4","v":"2039-01-31"},null,null,null,null,null,null,{"$f":"HRE4","v":"2039-02-07"},null,null,null,null,null,null,{"$f":"HRL4","v":"2039-02-14"},null,null,null,null,null,null,{"$f":"HRS4","v":"2039-02-21"},null,null,null,null,null,null,{"$f":"HRZ4","v":"2039-02-28"},null,null,null,null,null,null,{"$f":"HSG4","v":"2039-03-07"},null,null,null,null,null,null,{"$f":"HSN4","v":"2039-03-14"},null,null,null,null,null,null,{"$f":"HSU4","v":"2039-03-21"},null,null,null,null,null,null,{"$f":"HTB4","v":"2039-03-28"},null,null,null,null,null,null,{"$f":"HTI4","v":"2039-04-04"},null,null,null,null,null,null,{"$f":"HTP4","v":"2039-04-11"},null,null,null,null,null,null,{"$f":"HTW4","v":"2039-04-18"},null,null,null,null,null,null,{"$f":"HUD4","v":"2039-04-25"},null,null,null,null,null,null,{"$f":"HUK4","v":"2039-05-02"},null,null,null,null,null,null,{"$f":"HUR4","v":"2039-05-09"},null,null,null,null,null,null,{"$f":"HUY4","v":"2039-05-16"},null,null,null,null,null,null,{"$f":"HVF4","v":"2039-05-23"},null,null,null,null,null,null,{"$f":"HVM4","v":"2039-05-30"},null,null,null,null,null,null,{"$f":"HVT4","v":"2039-06-06"},null,null,null,null,null,null,{"$f":"HWA4","v":"2039-06-13"},null,null,null,null,null,null,{"$f":"HWH4","v":"2039-06-20"},null,null,null,null,null,null,{"$f":"HWO4","v":"2039-06-27"},null,null,null,null,null,null,{"$f":"HWV4","v":"2039-07-04"},null,null,null,null,null,null,{"$f":"HXC4","v":"2039-07-11"},null,null,null,null,null,null,{"$f":"HXJ4","v":"2039-07-18"},null,null,null,null,null,null,{"$f":"HXQ4","v":"2039-07-25"},null,null,null,null,null,null,{"$f":"HXX4","v":"2039-08-01"},null,null,null,null,null,null,{"$f":"HYE4","v":"2039-08-08"},null,null,null,null,null,null,{"$f":"HYL4","v":"2039-08-15"},null,null,null,null,null,null,{"$f":"HYS4","v":"2039-08-22"},null,null,null,null,null,null,{"$f":"HYZ4","v":"2039-08-29"},null,null,null,null,null,null,{"$f":"HZG4","v":"2039-09-05"},null,null,null,null,null,null,{"$f":"HZN4","v":"2039-09-12"},null,null,null,null,null,null,{"$f":"HZU4","v":"2039-09-19"},null,null,null,null,null,null,{"$f":"IAB4","v":"2039-09-26"},null,null,null,null,null,null,{"$f":"IAI4","v":"2039-10-03"},null,null,null,null,null,null,{"$f":"IAP4","v":"2039-10-10"},null,null,null,null,null,null,{"$f":"IAW4","v":"2039-10-17"},null,null,null,null,null,null,{"$f":"IBD4","v":"2039-10-24"},null,null,null,null,null,null,{"$f":"IBK4","v":"2039-10-31"},null,null,null,null,null,null,{"$f":"IBR4","v":"2039-11-07"},null,null,null,null,null,null,{"$f":"IBY4","v":"2039-11-14"},null,null,null,null,null,null,{"$f":"ICF4","v":"2039-11-21"},null,null,null,null,null,null,{"$f":"ICM4","v":"2039-11-28"},null,null,null,null,null,null,{"$f":"ICT4","v":"2039-12-05"},null,null,null,null,null,null,{"$f":"IDA4","v":"2039-12-12"},null,null,null,null,null,null,{"$f":"IDH4","v":"2039-12-19"},null,null,null,null,null,null,{"$f":"IDO4","v":"2039-12-26"},null,null,null,null,null,null,{"$f":"IDV4","v":"2040-01-02"},null,null,null,null,null,null,{"$f":"IEC4","v":"2040-01-09"},null,null,null,null,null,null,{"$f":"IEJ4","v":"2040-01-16"},null,null,null,null,null,null,{"$f":"IEQ4","v":"2040-01-23"},null,null,null,null,null,null,{"$f":"IEX4","v":"2040-01-30"},null,null,null,null,null,null,{"$f":"IFE4","v":"2040-02-06"},null,null,null,null,null,null,{"$f":"IFL4","v":"2040-02-13"},null,null,null,null,null,null,{"$f":"IFS4","v":"2040-02-20"},null,null,null,null,null,null,{"$f":"IFZ4","v":"2040-02-27"},null,null,null,null,null,null,{"$f":"IGG4","v":"2040-03-05"},null,null,null,null,null,null,{"$f":"IGN4","v":"2040-03-12"},null,null,null,null,null,null,{"$f":"IGU4","v":"2040-03-19"},null,null,null,null,null,null,{"$f":"IHB4","v":"2040-03-26"},null,null,null,null,null,null,{"$f":"IHI4","v":"2040-04-02"},null,null,null,null,null,null,{"$f":"IHP4","v":"2040-04-09"},null,null,null,null,null,null,{"$f":"IHW4","v":"2040-04-16"},null,null,null,null,null,null,{"$f":"IID4","v":"2040-04-23"},null,null,null,null,null,null,{"$f":"IIK4","v":"2040-04-30"},null,null,null,null,null,null,{"$f":"IIR4","v":"2040-05-07"},null,null,null,null,null,null,{"$f":"IIY4","v":"2040-05-14"},null,null,null,null,null,null,{"$f":"IJF4","v":"2040-05-21"},null,null,null,null,null,null,{"$f":"IJM4","v":"2040-05-28"},null,null,null,null,null,null,{"$f":"IJT4","v":"2040-06-04"},null,null,null,null,null,null,{"$f":"IKA4","v":"2040-06-11"},null,null,null,null,null,null,{"$f":"IKH4","v":"2040-06-18"},null,null,null,null,null,null,{"$f":"IKO4","v":"2040-06-25"},null,null,null,null,null,null,{"$f":"IKV4","v":"2040-07-02"},null,null,null,null,null,null,{"$f":"ILC4","v":"2040-07-09"},null,null,null,null,null,null,{"$f":"ILJ4","v":"2040-07-16"},null,null,null,null,null,null,{"$f":"ILQ4","v":"2040-07-23"},null,null,null,null,null,null,{"$f":"ILX4","v":"2040-07-30"},null,null,null,null,null,null,{"$f":"IME4","v":"2040-08-06"},null,null,null,null,null,null,{"$f":"IML4","v":"2040-08-13"},null,null,null,null,null,null,{"$f":"IMS4","v":"2040-08-20"},null,null,null,null,null,null,{"$f":"IMZ4","v":"2040-08-27"},null,null,null,null,null,null,{"$f":"ING4","v":"2040-09-03"},null,null,null,null,null,null,{"$f":"INN4","v":"2040-09-10"},null,null,null,null,null,null,{"$f":"INU4","v":"2040-09-17"},null,null,null,null,null,null,{"$f":"IOB4","v":"2040-09-24"},null,null,null,null,null,null,{"$f":"IOI4","v":"2040-10-01"},null,null,null,null,null,null,{"$f":"IOP4","v":"2040-10-08"},null,null,null,null,null,null,{"$f":"IOW4","v":"2040-10-15"},null,null,null,null,null,null,{"$f":"IPD4","v":"2040-10-22"},null,null,null,null,null,null,{"$f":"IPK4","v":"2040-10-29"},null,null,null,null,null,null,{"$f":"IPR4","v":"2040-11-05"},null,null,null,null,null,null,{"$f":"IPY4","v":"2040-11-12"},null,null,null,null,null,null,{"$f":"IQF4","v":"2040-11-19"},null,null,null,null,null,null,{"$f":"IQM4","v":"2040-11-26"},null,null,null,null,null,null,{"$f":"IQT4","v":"2040-12-03"},null,null,null,null,null,null,{"$f":"IRA4","v":"2040-12-10"},null,null,null,null,null,null,{"$f":"IRH4","v":"2040-12-17"},null,null,null,null,null,null,{"$f":"IRO4","v":"2040-12-24"},null,null,null,null,null,null,{"$f":"IRV4","v":"2040-12-31"},null,null,null,null,null,null,{"$f":"ISC4","v":"2041-01-07"},null,null,null,null,null,null,{"$f":"ISJ4","v":"2041-01-14"},null,null,null,null,null,null,{"$f":"ISQ4","v":"2041-01-21"},null,null,null,null,null,null,{"$f":"ISX4","v":"2041-01-28"},null,null,null,null,null,null,{"$f":"ITE4","v":"2041-02-04"},null,null,null,null,null,null,{"$f":"ITL4","v":"2041-02-11"},null,null,null,null,null,null,{"$f":"ITS4","v":"2041-02-18"},null,null,null,null,null,null,{"$f":"ITZ4","v":"2041-02-25"},null,null,null,null,null,null,{"$f":"IUG4","v":"2041-03-04"},null,null,null,null,null,null,{"$f":"IUN4","v":"2041-03-11"},null,null,null,null,null,null,{"$f":"IUU4","v":"2041-03-18"},null,null,null,null,null,null,{"$f":"IVB4","v":"2041-03-25"},null,null,null,null,null,null,{"$f":"IVI4","v":"2041-04-01"},null,null,null,null,null,null,{"$f":"IVP4","v":"2041-04-08"},null,null,null,null,null,null,{"$f":"IVW4","v":"2041-04-15"},null,null,null,null,null,null,{"$f":"IWD4","v":"2041-04-22"},null,null,null,null,null,null,{"$f":"IWK4","v":"2041-04-29"},null,null,null,null,null,null,{"$f":"IWR4","v":"2041-05-06"},null,null,null,null,null,null,{"$f":"IWY4","v":"2041-05-13"},null,null,null,null,null,null,{"$f":"IXF4","v":"2041-05-20"},null,null,null,null,null,null,{"$f":"IXM4","v":"2041-05-27"},null,null,null,null,null,null,{"$f":"IXT4","v":"2041-06-03"},null,null,null,null,null,null,{"$f":"IYA4","v":"2041-06-10"},null,null,null,null,null,null,{"$f":"IYH4","v":"2041-06-17"},null,null,null,null,null,null,{"$f":"IYO4","v":"2041-06-24"},null,null,null,null,null,null,{"$f":"IYV4","v":"2041-07-01"},null,null,null,null,null,null,{"$f":"IZC4","v":"2041-07-08"},null,null,null,null,null,null,{"$f":"IZJ4","v":"2041-07-15"},null,null,null,null,null,null,{"$f":"IZQ4","v":"2041-07-22"},null,null,null,null,null,null,{"$f":"IZX4","v":"2041-07-29"},null,null,null,null,null,null,{"$f":"JAE4","v":"2041-08-05"},null,null,null,null,null,null,{"$f":"JAL4","v":"2041-08-12"},null,null,null,null,null,null,{"$f":"JAS4","v":"2041-08-19"},null,null,null,null,null,null,{"$f":"JAZ4","v":"2041-08-26"},null,null,null,null,null,null,{"$f":"JBG4","v":"2041-09-02"},null,null,null,null,null,null,{"$f":"JBN4","v":"2041-09-09"},null,null,null,null,null,null,{"$f":"JBU4","v":"2041-09-16"},null,null,null,null,null,null,{"$f":"JCB4","v":"2041-09-23"},null,null,null,null,null,null,{"$f":"JCI4","v":"2041-09-30"},null,null,null,null,null,null,{"$f":"JCP4","v":"2041-10-07"},null,null,null,null,null,null,{"$f":"JCW4","v":"2041-10-14"},null,null,null,null,null,null,{"$f":"JDD4","v":"2041-10-21"},null,null,null,null,null,null,{"$f":"JDK4","v":"2041-10-28"},null,null,null,null,null,null,{"$f":"JDR4","v":"2041-11-04"},null,null,null,null,null,null,{"$f":"JDY4","v":"2041-11-11"},null,null,null,null,null,null,{"$f":"JEF4","v":"2041-11-18"},null,null,null,null,null,null,{"$f":"JEM4","v":"2041-11-25"},null,null,null,null,null,null,{"$f":"JET4","v":"2041-12-02"},null,null,null,null,null,null,{"$f":"JFA4","v":"2041-12-09"},null,null,null,null,null,null,{"$f":"JFH4","v":"2041-12-16"},null,null,null,null,null,null,{"$f":"JFO4","v":"2041-12-23"},null,null,null,null,null,null,{"$f":"JFV4","v":"2041-12-30"},null,null,null,null,null,null,{"$f":"JGC4","v":"2042-01-06"},null,null,null,null,null,null,{"$f":"JGJ4","v":"2042-01-13"},null,null,null,null,null,null,{"$f":"JGQ4","v":"2042-01-20"},null,null,null,null,null,null,{"$f":"JGX4","v":"2042-01-27"},null,null,null,null,null,null,{"$f":"JHE4","v":"2042-02-03"},null,null,null,null,null,null,{"$f":"JHL4","v":"2042-02-10"},null,null,null,null,null,null,{"$f":"JHS4","v":"2042-02-17"},null,null,null,null,null,null,{"$f":"JHZ4","v":"2042-02-24"},null,null,null,null,null,null,{"$f":"JIG4","v":"2042-03-03"},null,null,null,null,null,null,{"$f":"JIN4","v":"2042-03-10"},null,null,null,null,null,null,{"$f":"JIU4","v":"2042-03-17"},null,null,null,null,null,null,{"$f":"JJB4","v":"2042-03-24"},null,null,null,null,null,null,{"$f":"JJI4","v":"2042-03-31"},null,null,null,null,null,null,{"$f":"JJP4","v":"2042-04-07"},null,null,null,null,null,null,{"$f":"JJW4","v":"2042-04-14"},null,null,null,null,null,null,{"$f":"JKD4","v":"2042-04-21"},null,null,null,null,null,null,{"$f":"JKK4","v":"2042-04-28"},null,null,null,null,null,null,{"$f":"JKR4","v":"2042-05-05"},null,null,null,null,null,null,{"$f":"JKY4","v":"2042-05-12"},null,null,null,null,null,null,{"$f":"JLF4","v":"2042-05-19"},null,null,null,null,null,null,{"$f":"JLM4","v":"2042-05-26"},null,null,null,null,null,null,{"$f":"JLT4","v":"2042-06-02"},null,null,null,null,null,null,{"$f":"JMA4","v":"2042-06-09"},null,null,null,null,null,null,{"$f":"JMH4","v":"2042-06-16"},null,null,null,null,null,null,{"$f":"JMO4","v":"2042-06-23"},null,null,null,null,null,null,{"$f":"JMV4","v":"2042-06-30"},null,null,null,null,null,null,{"$f":"JNC4","v":"2042-07-07"},null,null,null,null,null,null,{"$f":"JNJ4","v":"2042-07-14"},null,null,null,null,null,null,{"$f":"JNQ4","v":"2042-07-21"},null,null,null,null,null,null,{"$f":"JNX4","v":"2042-07-28"},null,null,null,null,null,null,{"$f":"JOE4","v":"2042-08-04"},null,null,null,null,null,null,{"$f":"JOL4","v":"2042-08-11"},null,null,null,null,null,null,{"$f":"JOS4","v":"2042-08-18"},null,null,null,null,null,null,{"$f":"JOZ4","v":"2042-08-25"},null,null,null,null,null,null,{"$f":"JPG4","v":"2042-09-01"},null,null,null,null,null,null,{"$f":"JPN4","v":"2042-09-08"},null,null,null,null,null,null,{"$f":"JPU4","v":"2042-09-15"},null,null,null,null,null,null,{"$f":"JQB4","v":"2042-09-22"},null,null,null,null,null,null,{"$f":"JQI4","v":"2042-09-29"},null,null,null,null,null,null,{"$f":"JQP4","v":"2042-10-06"},null,null,null,null,null,null,{"$f":"JQW4","v":"2042-10-13"},null,null,null,null,null,null,{"$f":"JRD4","v":"2042-10-20"},null,null,null,null,null,null,{"$f":"JRK4","v":"2042-10-27"},null,null,null,null,null,null,{"$f":"JRR4","v":"2042-11-03"},null,null,null,null,null,null,{"$f":"JRY4","v":"2042-11-10"},null,null,null,null,null,null,{"$f":"JSF4","v":"2042-11-17"},null,null,null,null,null,null,{"$f":"JSM4","v":"2042-11-24"},null,null,null,null,null,null,{"$f":"JST4","v":"2042-12-01"},null,null,null,null,null,null,{"$f":"JTA4","v":"2042-12-08"},null,null,null,null,null,null,{"$f":"JTH4","v":"2042-12-15"},null,null,null,null,null,null,{"$f":"JTO4","v":"2042-12-22"},null,null,null,null,null,null,{"$f":"JTV4","v":"2042-12-29"},null,null,null,null,null,null,{"$f":"JUC4","v":"2043-01-05"},null,null,null,null,null,null,{"$f":"JUJ4","v":"2043-01-12"},null,null,null,null,null,null,{"$f":"JUQ4","v":"2043-01-19"},null,null,null,null,null,null,{"$f":"JUX4","v":"2043-01-26"},null,null,null,null,null,null,{"$f":"JVE4","v":"2043-02-02"},null,null,null,null,null,null,{"$f":"JVL4","v":"2043-02-09"},null,null,null,null,null,null,{"$f":"JVS4","v":"2043-02-16"},null,null,null,null,null,null,{"$f":"JVZ4","v":"2043-02-23"},null,null,null,null,null,null,{"$f":"JWG4","v":"2043-03-02"},null,null,null,null,null,null,{"$f":"JWN4","v":"2043-03-09"},null,null,null,null,null,null,{"$f":"JWU4","v":"2043-03-16"},null,null,null,null,null,null,{"$f":"JXB4","v":"2043-03-23"},null,null,null,null,null,null,{"$f":"JXI4","v":"2043-03-30"},null,null,null,null,null,null,{"$f":"JXP4","v":"2043-04-06"},null,null,null,null,null,null,{"$f":"JXW4","v":"2043-04-13"},null,null,null,null,null,null,{"$f":"JYD4","v":"2043-04-20"},null,null,null,null,null,null,{"$f":"JYK4","v":"2043-04-27"},null,null,null,null,null,null,{"$f":"JYR4","v":"2043-05-04"},null,null,null,null,null,null,{"$f":"JYY4","v":"2043-05-11"},null,null,null,null,null,null,{"$f":"JZF4","v":"2043-05-18"},null,null,null,null,null,null,{"$f":"JZM4","v":"2043-05-25"},null,null,null,null,null,null,{"$f":"JZT4","v":"2043-06-01"},null,null,null,null,null,null,{"$f":"KAA4","v":"2043-06-08"},null,null,null,null,null,null,{"$f":"KAH4","v":"2043-06-15"},null,null,null,null,null,null,{"$f":"KAO4","v":"2043-06-22"},null,null,null,null,null,null,{"$f":"KAV4","v":"2043-06-29"},null,null,null,null,null,null,{"$f":"KBC4","v":"2043-07-06"},null,null,null,null,null,null,{"$f":"KBJ4","v":"2043-07-13"},null,null,null,null,null,null,{"$f":"KBQ4","v":"2043-07-20"},null,null,null,null,null,null,{"$f":"KBX4","v":"2043-07-27"},null,null,null,null,null,null,{"$f":"KCE4","v":"2043-08-03"},null,null,null,null,null,null,{"$f":"KCL4","v":"2043-08-10"},null,null,null,null,null,null,{"$f":"KCS4","v":"2043-08-17"},null,null,null,null,null,null,{"$f":"KCZ4","v":"2043-08-24"},null,null,null,null,null,null,{"$f":"KDG4","v":"2043-08-31"},null,null,null,null,null,null,{"$f":"KDN4","v":"2043-09-07"},null,null,null,null,null,null,{"$f":"KDU4","v":"2043-09-14"},null,null,null,null,null,null,{"$f":"KEB4","v":"2043-09-21"},null,null,null,null,null,null,{"$f":"KEI4","v":"2043-09-28"},null,null,null,null,null,null,{"$f":"KEP4","v":"2043-10-05"},null,null,null,null,null,null,{"$f":"KEW4","v":"2043-10-12"},null,null,null,null,null,null,{"$f":"KFD4","v":"2043-10-19"},null,null,null,null,null,null,{"$f":"KFK4","v":"2043-10-26"},null,null,null,null,null,null,{"$f":"KFR4","v":"2043-11-02"},null,null,null,null,null,null,{"$f":"KFY4","v":"2043-11-09"},null,null,null,null,null,null,{"$f":"KGF4","v":"2043-11-16"},null,null,null,null,null,null,{"$f":"KGM4","v":"2043-11-23"},null,null,null,null,null,null,{"$f":"KGT4","v":"2043-11-30"},null,null,null,null,null,null,{"$f":"KHA4","v":"2043-12-07"},null,null,null,null,null,null,{"$f":"KHH4","v":"2043-12-14"},null,null,null,null,null,null,{"$f":"KHO4","v":"2043-12-21"},null,null,null,null,null,null,{"$f":"KHV4","v":"2043-12-28"},null,null,null,null,null,null,{"$f":"KIC4","v":"2044-01-04"},null,null,null,null,null,null,{"$f":"KIJ4","v":"2044-01-11"},null,null,null,null,null,null,{"$f":"KIQ4","v":"2044-01-18"},null,null,null,null,null,null,{"$f":"KIX4","v":"2044-01-25"},null,null,null,null,null,null,{"$f":"KJE4","v":"2044-02-01"},null,null,null,null,null,null,{"$f":"KJL4","v":"2044-02-08"},null,null,null,null,null,null,{"$f":"KJS4","v":"2044-02-15"},null,null,null,null,null,null,{"$f":"KJZ4","v":"2044-02-22"},null,null,null,null,null,null,{"$f":"KKG4","v":"2044-02-29"},null,null,null,null,null,null,{"$f":"KKN4","v":"2044-03-07"},null,null,null,null,null,null,{"$f":"KKU4","v":"2044-03-14"},null,null,null,null,null,null,{"$f":"KLB4","v":"2044-03-21"},null,null,null,null,null,null,{"$f":"KLI4","v":"2044-03-28"},null,null,null,null,null,null,{"$f":"KLP4","v":"2044-04-04"},null,null,null,null,null,null,{"$f":"KLW4","v":"2044-04-11"},null,null,null,null,null,null,{"$f":"KMD4","v":"2044-04-18"},null,null,null,null,null,null,{"$f":"KMK4","v":"2044-04-25"},null,null,null,null,null,null,{"$f":"KMR4","v":"2044-05-02"},null,null,null,null,null,null,{"$f":"KMY4","v":"2044-05-09"},null,null,null,null,null,null,{"$f":"KNF4","v":"2044-05-16"},null,null,null,null,null,null,{"$f":"KNM4","v":"2044-05-23"},null,null,null,null,null,null,{"$f":"KNT4","v":"2044-05-30"},null,null,null,null,null,null,{"$f":"KOA4","v":"2044-06-06"},null,null,null,null,null,null,{"$f":"KOH4","v":"2044-06-13"},null,null,null,null,null,null,{"$f":"KOO4","v":"2044-06-20"},null,null,null,null,null,null,{"$f":"KOV4","v":"2044-06-27"},null,null,null,null,null,null,{"$f":"KPC4","v":"2044-07-04"},null,null,null,null,null,null,{"$f":"KPJ4","v":"2044-07-11"},null,null,null,null,null,null,{"$f":"KPQ4","v":"2044-07-18"},null,null,null,null,null,null,{"$f":"KPX4","v":"2044-07-25"},null,null,null,null,null,null,{"$f":"KQE4","v":"2044-08-01"},null,null,null,null,null,null,{"$f":"KQL4","v":"2044-08-08"},null,null,null,null,null,null,{"$f":"KQS4","v":"2044-08-15"},null,null,null,null,null,null,{"$f":"KQZ4","v":"2044-08-22"},null,null,null,null,null,null,{"$f":"KRG4","v":"2044-08-29"},null,null,null,null,null,null,{"$f":"KRN4","v":"2044-09-05"},null,null,null,null,null,null,{"$f":"KRU4","v":"2044-09-12"},null,null,null,null,null,null,{"$f":"KSB4","v":"2044-09-19"},null,null,null,null,null,null,{"$f":"KSI4","v":"2044-09-26"},null,null,null,null,null,null,{"$f":"KSP4","v":"2044-10-03"},null,null,null,null,null,null,{"$f":"KSW4","v":"2044-10-10"},null,null,null,null,null,null,{"$f":"KTD4","v":"2044-10-17"},null,null,null,null,null,null,{"$f":"KTK4","v":"2044-10-24"},null,null,null,null,null,null,{"$f":"KTR4","v":"2044-10-31"},null,null,null,null,null,null,{"$f":"KTY4","v":"2044-11-07"},null,null,null,null,null,null,{"$f":"KUF4","v":"2044-11-14"},null,null,null,null,null,null,{"$f":"KUM4","v":"2044-11-21"},null,null,null,null,null,null,{"$f":"KUT4","v":"2044-11-28"},null,null,null,null,null,null,{"$f":"KVA4","v":"2044-12-05"},null,null,null,null,null,null,{"$f":"KVH4","v":"2044-12-12"},null,null,null,null,null,null,{"$f":"KVO4","v":"2044-12-19"},null,null,null,null,null,null,{"$f":"KVV4","v":"2044-12-26"},null,null,null,null,null,null,{"$f":"KWC4","v":"2045-01-02"},null,null,null,null,null,null,{"$f":"KWJ4","v":"2045-01-09"},null,null,null,null,null,null,{"$f":"KWQ4","v":"2045-01-16"},null,null,null,null,null,null,{"$f":"KWX4","v":"2045-01-23"},null,null,null,null,null,null,{"$f":"KXE4","v":"2045-01-30"},null,null,null,null,null,null,{"$f":"KXL4","v":"2045-02-06"},null,null,null,null,null,null,{"$f":"KXS4","v":"2045-02-13"},null,null,null,null,null,null,{"$f":"KXZ4","v":"2045-02-20"},null,null,null,null,null,null,{"$f":"KYG4","v":"2045-02-27"},null,null,null,null,null,null,{"$f":"KYN4","v":"2045-03-06"},null,null,null,null,null,null,{"$f":"KYU4","v":"2045-03-13"},null,null,null,null,null,null,{"$f":"KZB4","v":"2045-03-20"},null,null,null,null,null,null,{"$f":"KZI4","v":"2045-03-27"},null,null,null,null,null,null,{"$f":"KZP4","v":"2045-04-03"},null,null,null,null,null,null,{"$f":"KZW4","v":"2045-04-10"},null,null,null,null,null,null,{"$f":"LAD4","v":"2045-04-17"},null,null,null,null,null,null,{"$f":"LAK4","v":"2045-04-24"},null,null,null,null,null,null,{"$f":"LAR4","v":"2045-05-01"},null,null,null,null,null,null,{"$f":"LAY4","v":"2045-05-08"},null,null,null,null,null,null,{"$f":"LBF4","v":"2045-05-15"},null,null,null,null,null,null,{"$f":"LBM4","v":"2045-05-22"},null,null,null,null,null,null,{"$f":"LBT4","v":"2045-05-29"},null,null,null,null,null,null,{"$f":"LCA4","v":"2045-06-05"},null,null,null,null,null,null,{"$f":"LCH4","v":"2045-06-12"},null,null,null,null,null,null,{"$f":"LCO4","v":"2045-06-19"},null,null,null,null,null,null,{"$f":"LCV4","v":"2045-06-26"},null,null,null,null,null,null,{"$f":"LDC4","v":"2045-07-03"},null,null,null,null,null,null,{"$f":"LDJ4","v":"2045-07-10"},null,null,null,null,null,null,{"$f":"LDQ4","v":"2045-07-17"},null,null,null,null,null,null,{"$f":"LDX4","v":"2045-07-24"},null,null,null,null,null,null,{"$f":"LEE4","v":"2045-07-31"},null,null,null,null,null,null,{"$f":"LEL4","v":"2045-08-07"},null,null,null,null,null,null,{"$f":"LES4","v":"2045-08-14"},null,null,null,null,null,null,{"$f":"LEZ4","v":"2045-08-21"},null,null,null,null,null,null,{"$f":"LFG4","v":"2045-08-28"},null,null,null,null,null,null,{"$f":"LFN4","v":"2045-09-04"},null,null,null,null,null,null,{"$f":"LFU4","v":"2045-09-11"},null,null,null,null,null,null,{"$f":"LGB4","v":"2045-09-18"},null,null,null,null,null,null,{"$f":"LGI4","v":"2045-09-25"},null,null,null,null,null,null,{"$f":"LGP4","v":"2045-10-02"},null,null,null,null,null,null,{"$f":"LGW4","v":"2045-10-09"},null,null,null,null,null,null,{"$f":"LHD4","v":"2045-10-16"},null,null,null,null,null,null,{"$f":"LHK4","v":"2045-10-23"},null,null,null,null,null,null,{"$f":"LHR4","v":"2045-10-30"},null,null,null,null,null,null,{"$f":"LHY4","v":"2045-11-06"},null,null,null,null,null,null,{"$f":"LIF4","v":"2045-11-13"},null,null,null,null,null,null,{"$f":"LIM4","v":"2045-11-20"},null,null,null,null,null,null,{"$f":"LIT4","v":"2045-11-27"},null,null,null,null,null,null,{"$f":"LJA4","v":"2045-12-04"},null,null,null,null,null,null,{"$f":"LJH4","v":"2045-12-11"},null,null,null,null,null,null,{"$f":"LJO4","v":"2045-12-18"},null,null,null,null,null,null,{"$f":"LJV4","v":"2045-12-25"},null,null,null,null,null,null,{"$f":"LKC4","v":"2046-01-01"},null,null,null,null,null,null,{"$f":"LKJ4","v":"2046-01-08"},null,null,null,null,null,null,{"$f":"LKQ4","v":"2046-01-15"},null,null,null,null,null,null,{"$f":"LKX4","v":"2046-01-22"},null,null,null,null,null,null,{"$f":"LLE4","v":"2046-01-29"},null,null,null,null,null,null,{"$f":"LLL4","v":"2046-02-05"},null,null,null,null,null,null,{"$f":"LLS4","v":"2046-02-12"},null,null,null,null,null,null,{"$f":"LLZ4","v":"2046-02-19"},null,null,null,null,null,null,{"$f":"LMG4","v":"2046-02-26"},null,null,null,null,null,null,{"$f":"LMN4","v":"2046-03-05"},null,null,null,null,null,null,{"$f":"LMU4","v":"2046-03-12"},null,null,null,null,null,null,{"$f":"LNB4","v":"2046-03-19"},null,null,null,null,null,null,{"$f":"LNI4","v":"2046-03-26"},null,null,null,null,null,null,{"$f":"LNP4","v":"2046-04-02"},null,null,null,null,null,null,{"$f":"LNW4","v":"2046-04-09"},null,null,null,null,null,null,{"$f":"LOD4","v":"2046-04-16"},null,null,null,null,null,null,{"$f":"LOK4","v":"2046-04-23"},null,null,null,null,null,null,{"$f":"LOR4","v":"2046-04-30"},null,null,null,null,null,null,{"$f":"LOY4","v":"2046-05-07"},null,null,null,null,null,null,{"$f":"LPF4","v":"2046-05-14"},null,null,null,null,null,null,{"$f":"LPM4","v":"2046-05-21"},null,null,null,null,null,null,{"$f":"LPT4","v":"2046-05-28"},null,null,null,null,null,null,{"$f":"LQA4","v":"2046-06-04"},null,null,null,null,null,null,{"$f":"LQH4","v":"2046-06-11"},null,null,null,null,null,null,{"$f":"LQO4","v":"2046-06-18"},null,null,null,null,null,null,{"$f":"LQV4","v":"2046-06-25"},null,null,null,null,null,null,{"$f":"LRC4","v":"2046-07-02"},null,null,null,null,null,null,{"$f":"LRJ4","v":"2046-07-09"},null,null,null,null,null,null,{"$f":"LRQ4","v":"2046-07-16"},null,null,null,null,null,null,{"$f":"LRX4","v":"2046-07-23"},null,null,null,null,null,null,{"$f":"LSE4","v":"2046-07-30"},null,null,null,null,null,null,{"$f":"LSL4","v":"2046-08-06"},null,null,null,null,null,null,{"$f":"LSS4","v":"2046-08-13"},null,null,null,null,null,null,{"$f":"LSZ4","v":"2046-08-20"},null,null,null,null,null,null,{"$f":"LTG4","v":"2046-08-27"},null,null,null,null,null,null,{"$f":"LTN4","v":"2046-09-03"},null,null,null,null,null,null,{"$f":"LTU4","v":"2046-09-10"},null,null,null,null,null,null,{"$f":"LUB4","v":"2046-09-17"},null,null,null,null,null,null,{"$f":"LUI4","v":"2046-09-24"},null,null,null,null,null,null,{"$f":"LUP4","v":"2046-10-01"},null,null,null,null,null,null,{"$f":"LUW4","v":"2046-10-08"},null,null,null,null,null,null,{"$f":"LVD4","v":"2046-10-15"},null,null,null,null,null,null,{"$f":"LVK4","v":"2046-10-22"},null,null,null,null,null,null,{"$f":"LVR4","v":"2046-10-29"},null,null,null,null,null,null,{"$f":"LVY4","v":"2046-11-05"},null,null,null,null,null,null,{"$f":"LWF4","v":"2046-11-12"},null,null,null,null,null,null,{"$f":"LWM4","v":"2046-11-19"},null,null,null,null,null,null,{"$f":"LWT4","v":"2046-11-26"},null,null,null,null,null,null,{"$f":"LXA4","v":"2046-12-03"},null,null,null,null,null,null,{"$f":"LXH4","v":"2046-12-10"},null,null,null,null,null,null,{"$f":"LXO4","v":"2046-12-17"},null,null,null,null,null,null,{"$f":"LXV4","v":"2046-12-24"},null,null,null,null,null,null,{"$f":"LYC4","v":"2046-12-31"},null,null,null,null,null,null,{"$f":"LYJ4","v":"2047-01-07"},null,null,null,null,null,null,{"$f":"LYQ4","v":"2047-01-14"},null,null,null,null,null,null,{"$f":"LYX4","v":"2047-01-21"},null,null,null,null,null,null,{"$f":"LZE4","v":"2047-01-28"},null,null,null,null,null,null,{"$f":"LZL4","v":"2047-02-04"},null,null,null,null,null,null,{"$f":"LZS4","v":"2047-02-11"},null,null,null,null,null,null,{"$f":"LZZ4","v":"2047-02-18"},null,null,null,null,null,null,{"$f":"MAG4","v":"2047-02-25"},null,null,null,null,null,null,{"$f":"MAN4","v":"2047-03-04"},null,null,null,null,null,null,{"$f":"MAU4","v":"2047-03-11"},null,null,null,null,null,null,{"$f":"MBB4","v":"2047-03-18"},null,null,null,null,null,null,{"$f":"MBI4","v":"2047-03-25"},null,null,null,null,null,null,{"$f":"MBP4","v":"2047-04-01"},null,null,null,null,null,null,{"$f":"MBW4","v":"2047-04-08"},null,null,null,null,null,null,{"$f":"MCD4","v":"2047-04-15"},null,null,null,null,null,null,{"$f":"MCK4","v":"2047-04-22"},null,null,null,null,null,null,{"$f":"MCR4","v":"2047-04-29"},null,null,null,null,null,null,{"$f":"MCY4","v":"2047-05-06"},null,null,null,null,null,null,{"$f":"MDF4","v":"2047-05-13"},null,null,null,null,null,null,{"$f":"MDM4","v":"2047-05-20"},null,null,null,null,null,null,{"$f":"MDT4","v":"2047-05-27"},null,null,null,null,null,null,{"$f":"MEA4","v":"2047-06-03"},null,null,null,null,null,null,{"$f":"MEH4","v":"2047-06-10"},null,null,null,null,null,null,{"$f":"MEO4","v":"2047-06-17"},null,null,null,null,null,null,{"$f":"MEV4","v":"2047-06-24"},null,null,null,null,null,null,{"$f":"MFC4","v":"2047-07-01"},null,null,null,null,null,null,{"$f":"MFJ4","v":"2047-07-08"},null,null,null,null,null,null,{"$f":"MFQ4","v":"2047-07-15"},null,null,null,null,null,null,{"$f":"MFX4","v":"2047-07-22"},null,null,null,null,null,null,{"$f":"MGE4","v":"2047-07-29"},null,null,null,null,null,null,{"$f":"MGL4","v":"2047-08-05"},null,null,null,null,null,null,{"$f":"MGS4","v":"2047-08-12"},null,null,null,null,null,null,{"$f":"MGZ4","v":"2047-08-19"},null,null,null,null,null,null,{"$f":"MHG4","v":"2047-08-26"},null,null,null,null,null,null,{"$f":"MHN4","v":"2047-09-02"},null,null,null,null,null,null,{"$f":"MHU4","v":"2047-09-09"},null,null,null,null,null,null,{"$f":"MIB4","v":"2047-09-16"},null,null,null,null,null,null,{"$f":"MII4","v":"2047-09-23"},null,null,null,null,null,null,{"$f":"MIP4","v":"2047-09-30"},null,null,null,null,null,null,{"$f":"MIW4","v":"2047-10-07"},null,null,null,null,null,null,{"$f":"MJD4","v":"2047-10-14"},null,null,null,null,null,null,{"$f":"MJK4","v":"2047-10-21"},null,null,null,null,null,null,{"$f":"MJR4","v":"2047-10-28"},null,null,null,null,null,null,{"$f":"MJY4","v":"2047-11-04"},null,null,null,null,null,null,{"$f":"MKF4","v":"2047-11-11"},null,null,null,null,null,null,{"$f":"MKM4","v":"2047-11-18"},null,null,null,null,null,null,{"$f":"MKT4","v":"2047-11-25"},null,null,null,null,null,null,{"$f":"MLA4","v":"2047-12-02"},null,null,null,null,null,null,{"$f":"MLH4","v":"2047-12-09"},null,null,null,null,null,null,{"$f":"MLO4","v":"2047-12-16"},null,null,null,null,null,null,{"$f":"MLV4","v":"2047-12-23"},null,null,null,null,null,null,{"$f":"MMC4","v":"2047-12-30"},null,null,null,null,null,null,{"$f":"MMJ4","v":"2048-01-06"},null,null,null,null,null,null,{"$f":"MMQ4","v":"2048-01-13"},null,null,null,null,null,null,{"$f":"MMX4","v":"2048-01-20"},null,null,null,null,null,null,{"$f":"MNE4","v":"2048-01-27"},null,null,null,null,null,null,{"$f":"MNL4","v":"2048-02-03"},null,null,null,null,null,null,{"$f":"MNS4","v":"2048-02-10"},null,null,null,null,null,null,{"$f":"MNZ4","v":"2048-02-17"},null,null,null,null,null,null,{"$f":"MOG4","v":"2048-02-24"},null,null,null,null,null,null,{"$f":"MON4","v":"2048-03-02"},null,null,null,null,null,null,{"$f":"MOU4","v":"2048-03-09"},null,null,null,null,null,null,{"$f":"MPB4","v":"2048-03-16"},null,null,null,null,null,null,{"$f":"MPI4","v":"2048-03-23"},null,null,null,null,null,null,{"$f":"MPP4","v":"2048-03-30"},null,null,null,null,null,null,{"$f":"MPW4","v":"2048-04-06"},null,null,null,null,null,null,{"$f":"MQD4","v":"2048-04-13"},null,null,null,null,null,null,{"$f":"MQK4","v":"2048-04-20"},null,null,null,null,null,null,{"$f":"MQR4","v":"2048-04-27"},null,null,null,null,null,null,{"$f":"MQY4","v":"2048-05-04"},null,null,null,null,null,null,{"$f":"MRF4","v":"2048-05-11"},null,null,null,null,null,null,{"$f":"MRM4","v":"2048-05-18"},null,null,null,null,null,null,{"$f":"MRT4","v":"2048-05-25"},null,null,null,null,null,null,{"$f":"MSA4","v":"2048-06-01"},null,null,null,null,null,null,{"$f":"MSH4","v":"2048-06-08"},null,null,null,null,null,null,{"$f":"MSO4","v":"2048-06-15"},null,null,null,null,null,null,{"$f":"MSV4","v":"2048-06-22"},null,null,null,null,null,null,{"$f":"MTC4","v":"2048-06-29"},null,null,null,null,null,null,{"$f":"MTJ4","v":"2048-07-06"},null,null,null,null,null,null,{"$f":"MTQ4","v":"2048-07-13"},null,null,null,null,null,null,{"$f":"MTX4","v":"2048-07-20"},null,null,null,null,null,null,{"$f":"MUE4","v":"2048-07-27"},null,null,null,null,null,null,{"$f":"MUL4","v":"2048-08-03"},null,null,null,null,null,null,{"$f":"MUS4","v":"2048-08-10"},null,null,null,null,null,null,{"$f":"MUZ4","v":"2048-08-17"},null,null,null,null,null,null,{"$f":"MVG4","v":"2048-08-24"},null,null,null,null,null,null,{"$f":"MVN4","v":"2048-08-31"},null,null,null,null,null,null,{"$f":"MVU4","v":"2048-09-07"},null,null,null,null,null,null,{"$f":"MWB4","v":"2048-09-14"},null,null,null,null,null,null,{"$f":"MWI4","v":"2048-09-21"},null,null,null,null,null,null,{"$f":"MWP4","v":"2048-09-28"},null,null,null,null,null,null,{"$f":"MWW4","v":"2048-10-05"},null,null,null,null,null,null,{"$f":"MXD4","v":"2048-10-12"},null,null,null,null,null,null,{"$f":"MXK4","v":"2048-10-19"},null,null,null,null,null,null,{"$f":"MXR4","v":"2048-10-26"},null,null,null,null,null,null,{"$f":"MXY4","v":"2048-11-02"},null,null,null,null,null,null,{"$f":"MYF4","v":"2048-11-09"},null,null,null,null,null,null,{"$f":"MYM4","v":"2048-11-16"},null,null,null,null,null,null,{"$f":"MYT4","v":"2048-11-23"},null,null,null,null,null,null,{"$f":"MZA4","v":"2048-11-30"},null,null,null,null,null,null,{"$f":"MZH4","v":"2048-12-07"},null,null,null,null,null,null,{"$f":"MZO4","v":"2048-12-14"},null,null,null,null,null,null,{"$f":"MZV4","v":"2048-12-21"},null,null,null,null,null,null,{"$f":"NAC4","v":"2048-12-28"},null,null,null,null,null,null,{"$f":"NAJ4","v":"2049-01-04"},null,null,null,null,null,null,{"$f":"NAQ4","v":"2049-01-11"},null,null,null,null,null,null,{"$f":"NAX4","v":"2049-01-18"},null,null,null,null,null,null,{"$f":"NBE4","v":"2049-01-25"},null,null,null,null,null,null,{"$f":"NBL4","v":"2049-02-01"},null,null,null,null,null,null,{"$f":"NBS4","v":"2049-02-08"},null,null,null,null,null,null,{"$f":"NBZ4","v":"2049-02-15"},null,null,null,null,null,null,{"$f":"NCG4","v":"2049-02-22"},null,null,null,null,null,null,{"$f":"NCN4","v":"2049-03-01"},null,null,null,null,null,null,{"$f":"NCU4","v":"2049-03-08"},null,null,null,null,null,null,{"$f":"NDB4","v":"2049-03-15"},null,null,null,null,null,null,{"$f":"NDI4","v":"2049-03-22"},null,null,null,null,null,null,{"$f":"NDP4","v":"2049-03-29"},null,null,null,null,null,null,{"$f":"NDW4","v":"2049-04-05"},null,null,null,null,null,null,{"$f":"NED4","v":"2049-04-12"},null,null,null,null,null,null,{"$f":"NEK4","v":"2049-04-19"},null,null,null,null,null,null,{"$f":"NER4","v":"2049-04-26"},null,null,null,null,null,null,{"$f":"NEY4","v":"2049-05-03"},null,null,null,null,null,null,{"$f":"NFF4","v":"2049-05-10"},null,null,null,null,null,null,{"$f":"NFM4","v":"2049-05-17"},null,null,null,null,null,null,{"$f":"NFT4","v":"2049-05-24"},null,null,null,null,null,null,{"$f":"NGA4","v":"2049-05-31"},null,null,null,null,null,null,{"$f":"NGH4","v":"2049-06-07"},null,null,null,null,null,null,{"$f":"NGO4","v":"2049-06-14"},null,null,null,null,null,null,{"$f":"NGV4","v":"2049-06-21"},null,null,null,null,null,null,{"$f":"NHC4","v":"2049-06-28"},null,null,null,null,null,null,{"$f":"NHJ4","v":"2049-07-05"},null,null,null,null,null,null,{"$f":"NHQ4","v":"2049-07-12"},null,null,null,null,null,null,{"$f":"NHX4","v":"2049-07-19"},null,null,null,null,null,null,{"$f":"NIE4","v":"2049-07-26"},null,null,null,null,null,null,{"$f":"NIL4","v":"2049-08-02"},null,null,null,null,null,null,{"$f":"NIS4","v":"2049-08-09"},null,null,null,null,null,null,{"$f":"NIZ4","v":"2049-08-16"},null,null,null,null,null,null,{"$f":"NJG4","v":"2049-08-23"},null,null,null,null,null,null,{"$f":"NJN4","v":"2049-08-30"},null,null,null,null,null,null,{"$f":"NJU4","v":"2049-09-06"},null,null,null,null,null,null,{"$f":"NKB4","v":"2049-09-13"},null,null,null,null,null,null,{"$f":"NKI4","v":"2049-09-20"},null,null,null,null,null,null,{"$f":"NKP4","v":"2049-09-27"},null,null,null,null,null,null,{"$f":"NKW4","v":"2049-10-04"},null,null,null,null,null,null,{"$f":"NLD4","v":"2049-10-11"},null,null,null,null,null,null,{"$f":"NLK4","v":"2049-10-18"},null,null,null,null,null,null,{"$f":"NLR4","v":"2049-10-25"},null,null,null,null,null,null,{"$f":"NLY4","v":"2049-11-01"},null,null,null,null,null,null,{"$f":"NMF4","v":"2049-11-08"},null,null,null,null,null,null,{"$f":"NMM4","v":"2049-11-15"},null,null,null,null,null,null,{"$f":"NMT4","v":"2049-11-22"},null,null,null,null,null,null,{"$f":"NNA4","v":"2049-11-29"},null,null,null,null,null,null,{"$f":"NNH4","v":"2049-12-06"},null,null,null,null,null,null,{"$f":"NNO4","v":"2049-12-13"},null,null,null,null,null,null,{"$f":"NNV4","v":"2049-12-20"},null,null,null,null,null,null,{"$f":"NOC4","v":"2049-12-27"},null,null,null,null,null,null,{"$f":"NOJ4","v":"2050-01-03"},null,null,null,null,null,null,{"$f":"NOQ4","v":"2050-01-10"},null,null,null,null,null,null,{"$f":"NOX4","v":"2050-01-17"},null,null,null,null,null,null,{"$f":"NPE4","v":"2050-01-24"},null,null,null,null,null,null,{"$f":"NPL4","v":"2050-01-31"},null,null,null,null,null,null,{"$f":"NPS4","v":"2050-02-07"},null,null,null,null,null,null,{"$f":"NPZ4","v":"2050-02-14"},null,null,null,null,null,null,{"$f":"NQG4","v":"2050-02-21"},null,null,null,null,null,null,{"$f":"NQN4","v":"2050-02-28"},null,null,null,null,null,null,{"$f":"NQU4","v":"2050-03-07"},null,null,null,null,null,null,{"$f":"NRB4","v":"2050-03-14"},null,null,null,null,null,null,{"$f":"NRI4","v":"2050-03-21"},null,null,null,null,null,null,{"$f":"NRP4","v":"2050-03-28"},null,null,null,null,null,null,{"$f":"NRW4","v":"2050-04-04"},null,null,null,null,null,null,{"$f":"NSD4","v":"2050-04-11"},null,null,null,null,null,null,{"$f":"NSK4","v":"2050-04-18"},null,null,null,null,null,null,{"$f":"NSR4","v":"2050-04-25"},null,null,null,null,null,null,{"$f":"NSY4","v":"2050-05-02"},null,null,null,null,null,null,{"$f":"NTF4","v":"2050-05-09"},null,null,null,null,null,null,{"$f":"NTM4","v":"2050-05-16"},null,null,null,null,null,null,{"$f":"NTT4","v":"2050-05-23"},null,null,null,null,null,null,{"$f":"NUA4","v":"2050-05-30"},null,null,null,null,null,null,{"$f":"NUH4","v":"2050-06-06"},null,null,null,null,null,null,{"$f":"NUO4","v":"2050-06-13"},null,null,null,null,null,null,{"$f":"NUV4","v":"2050-06-20"},null,null,null,null,null,null,{"$f":"NVC4","v":"2050-06-27"},null,null,null,null,null,null,{"$f":"NVJ4","v":"2050-07-04"},null,null,null,null,null,null,{"$f":"NVQ4","v":"2050-07-11"},null,null,null,null,null,null,{"$f":"NVX4","v":"2050-07-18"},null,null,null,null,null,null,{"$f":"NWE4","v":"2050-07-25"},null,null,null,null,null,null,{"$f":"NWL4","v":"2050-08-01"},null,null,null,null,null,null,{"$f":"NWS4","v":"2050-08-08"},null,null,null,null,null,null,{"$f":"NWZ4","v":"2050-08-15"},null,null,null,null,null,null,{"$f":"NXG4","v":"2050-08-22"},null,null,null,null,null,null,{"$f":"NXN4","v":"2050-08-29"},null,null,null,null,null,null,{"$f":"NXU4","v":"2050-09-05"},null,null,null,null,null,null,{"$f":"NYB4","v":"2050-09-12"},null,null,null,null,null,null,{"$f":"NYI4","v":"2050-09-19"},null,null,null,null,null,null,{"$f":"NYP4","v":"2050-09-26"},null,null,null,null,null,null,{"$f":"NYW4","v":"2050-10-03"},null,null,null,null,null,null,{"$f":"NZD4","v":"2050-10-10"},null,null,null,null,null,null,{"$f":"NZK4","v":"2050-10-17"},null,null,null,null,null,null,{"$f":"NZR4","v":"2050-10-24"},null,null,null,null,null,null,{"$f":"NZY4","v":"2050-10-31"},null,null,null,null,null,null,{"$f":"OAF4","v":"2050-11-07"},null,null,null,null,null,null,{"$f":"OAM4","v":"2050-11-14"},null,null,null,null,null,null,{"$f":"OAT4","v":"2050-11-21"},null,null,null,null,null,null,{"$f":"OBA4","v":"2050-11-28"},null,null,null,null,null,null,{"$f":"OBH4","v":"2050-12-05"},null,null,null,null,null,null,{"$f":"OBO4","v":"2050-12-12"},null,null,null,null,null,null,{"$f":"OBV4","v":"2050-12-19"},null,null,null,null,null,null,{"$f":"OCC4","v":"2050-12-26"},null,null,null,null,null,null,{"$f":"OCJ4","v":"2051-01-02"},null,null,null,null,null,null,{"$f":"OCQ4","v":"2051-01-09"},null,null,null,null,null,null,{"$f":"OCX4","v":"2051-01-16"},null,null,null,null,null,null,{"$f":"ODE4","v":"2051-01-23"},null,null,null,null,null,null,{"$f":"ODL4","v":"2051-01-30"},null,null,null,null,null,null,{"$f":"ODS4","v":"2051-02-06"},null,null,null,null,null,null,{"$f":"ODZ4","v":"2051-02-13"},null,null,null,null,null,null,{"$f":"OEG4","v":"2051-02-20"},null,null,null,null,null,null,{"$f":"OEN4","v":"2051-02-27"},null,null,null,null,null,null,{"$f":"OEU4","v":"2051-03-06"},null,null,null,null,null,null,{"$f":"OFB4","v":"2051-03-13"},null,null,null,null,null,null,{"$f":"OFI4","v":"2051-03-20"},null,null,null,null,null,null,{"$f":"OFP4","v":"2051-03-27"},null,null,null,null,null,null,{"$f":"OFW4","v":"2051-04-03"},null,null,null,null,null,null,{"$f":"OGD4","v":"2051-04-10"},null,null,null,null,null,null,{"$f":"OGK4","v":"2051-04-17"},null,null,null,null,null,null,{"$f":"OGR4","v":"2051-04-24"},null,null,null,null,null,null,{"$f":"OGY4","v":"2051-05-01"},null,null,null,null,null,null,{"$f":"OHF4","v":"2051-05-08"},null,null,null,null,null,null,{"$f":"OHM4","v":"2051-05-15"},null,null,null,null,null,null,{"$f":"OHT4","v":"2051-05-22"},null,null,null,null,null,null,{"$f":"OIA4","v":"2051-05-29"},null,null,null,null,null,null,{"$f":"OIH4","v":"2051-06-05"},null,null,null,null,null,null,{"$f":"OIO4","v":"2051-06-12"},null,null,null,null,null,null,{"$f":"OIV4","v":"2051-06-19"},null,null,null,null,null,null,{"$f":"OJC4","v":"2051-06-26"},null,null,null,null,null,null,{"$f":"OJJ4","v":"2051-07-03"},null,null,null,null,null,null,{"$f":"OJQ4","v":"2051-07-10"},null,null,null,null,null,null,{"$f":"OJX4","v":"2051-07-17"},null,null,null,null,null,null,{"$f":"OKE4","v":"2051-07-24"},null,null,null,null,null,null,{"$f":"OKL4","v":"2051-07-31"},null,null,null,null,null,null,{"$f":"OKS4","v":"2051-08-07"},null,null,null,null,null,null,{"$f":"OKZ4","v":"2051-08-14"},null,null,null,null,null,null,{"$f":"OLG4","v":"2051-08-21"},null,null,null,null,null,null,{"$f":"OLN4","v":"2051-08-28"},null,null,null,null,null,null,{"$f":"OLU4","v":"2051-09-04"},null,null,null,null,null,null,{"$f":"OMB4","v":"2051-09-11"},null,null,null,null,null,null,{"$f":"OMI4","v":"2051-09-18"},null,null,null,null,null,null,{"$f":"OMP4","v":"2051-09-25"},null,null,null,null,null,null,{"$f":"OMW4","v":"2051-10-02"},null,null,null,null,null,null,{"$f":"OND4","v":"2051-10-09"},null,null,null,null,null,null,{"$f":"ONK4","v":"2051-10-16"},null,null,null,null,null,null,{"$f":"ONR4","v":"2051-10-23"},null,null,null,null,null,null,{"$f":"ONY4","v":"2051-10-30"},null,null,null,null,null,null,{"$f":"OOF4","v":"2051-11-06"},null,null,null,null,null,null,{"$f":"OOM4","v":"2051-11-13"},null,null,null,null,null,null,{"$f":"OOT4","v":"2051-11-20"},null,null,null,null,null,null,{"$f":"OPA4","v":"2051-11-27"},null,null,null,null,null,null,{"$f":"OPH4","v":"2051-12-04"},null,null,null,null,null,null,{"$f":"OPO4","v":"2051-12-11"},null,null,null,null,null,null,{"$f":"OPV4","v":"2051-12-18"},null,null,null,null,null,null,{"$f":"OQC4","v":"2051-12-25"},null,null,null,null,null,null,{"$f":"OQJ4","v":"2052-01-01"},null,null,null,null,null,null,{"$f":"OQQ4","v":"2052-01-08"},null,null,null,null,null,null,{"$f":"OQX4","v":"2052-01-15"},null,null,null,null,null,null,{"$f":"ORE4","v":"2052-01-22"},null,null,null,null,null,null,{"$f":"ORL4","v":"2052-01-29"},null,null,null,null,null,null,{"$f":"ORS4","v":"2052-02-05"},null,null,null,null,null,null,{"$f":"ORZ4","v":"2052-02-12"},null,null,null,null,null,null,{"$f":"OSG4","v":"2052-02-19"},null,null,null,null,null,null,{"$f":"OSN4","v":"2052-02-26"},null,null,null,null,null,null,{"$f":"OSU4","v":"2052-03-04"},null,null,null,null,null,null,{"$f":"OTB4","v":"2052-03-11"},null,null,null,null,null,null,{"$f":"OTI4","v":"2052-03-18"},null,null,null,null,null,null,{"$f":"OTP4","v":"2052-03-25"},null,null,null,null,null,null,{"$f":"OTW4","v":"2052-04-01"},null,null,null,null,null,null,{"$f":"OUD4","v":"2052-04-08"},null,null,null,null,null,null,{"$f":"OUK4","v":"2052-04-15"},null,null,null,null,null,null,{"$f":"OUR4","v":"2052-04-22"},null,null,null,null,null,null,{"$f":"OUY4","v":"2052-04-29"},null,null,null,null,null,null,{"$f":"OVF4","v":"2052-05-06"},null,null,null,null,null,null,{"$f":"OVM4","v":"2052-05-13"},null,null,null,null,null,null,{"$f":"OVT4","v":"2052-05-20"},null,null,null,null,null,null,{"$f":"OWA4","v":"2052-05-27"},null,null,null,null,null,null,{"$f":"OWH4","v":"2052-06-03"},null,null,null,null,null,null,{"$f":"OWO4","v":"2052-06-10"},null,null,null,null,null,null,{"$f":"OWV4","v":"2052-06-17"},null,null,null,null,null,null,{"$f":"OXC4","v":"2052-06-24"},null,null,null,null,null,null,{"$f":"OXJ4","v":"2052-07-01"},null,null,null,null,null,null,{"$f":"OXQ4","v":"2052-07-08"},null,null,null,null,null,null,{"$f":"OXX4","v":"2052-07-15"},null,null,null,null,null,null,{"$f":"OYE4","v":"2052-07-22"},null,null,null,null,null,null,{"$f":"OYL4","v":"2052-07-29"},null,null,null,null,null,null,{"$f":"OYS4","v":"2052-08-05"},null,null,null,null,null,null,{"$f":"OYZ4","v":"2052-08-12"},null,null,null,null,null,null,{"$f":"OZG4","v":"2052-08-19"},null,null,null,null,null,null,{"$f":"OZN4","v":"2052-08-26"},null,null,null,null,null,null,{"$f":"OZU4","v":"2052-09-02"},null,null,null,null,null,null,{"$f":"PAB4","v":"2052-09-09"},null,null,null,null,null,null,{"$f":"PAI4","v":"2052-09-16"},null,null,null,null,null,null,{"$f":"PAP4","v":"2052-09-23"},null,null,null,null,null,null,{"$f":"PAW4","v":"2052-09-30"},null,null,null,null,null,null,{"$f":"PBD4","v":"2052-10-07"},null,null,null,null,null,null,{"$f":"PBK4","v":"2052-10-14"},null,null,null,null,null,null,{"$f":"PBR4","v":"2052-10-21"},null,null,null,null,null,null,{"$f":"PBY4","v":"2052-10-28"},null,null,null,null,null,null,{"$f":"PCF4","v":"2052-11-04"},null,null,null,null,null,null,{"$f":"PCM4","v":"2052-11-11"},null,null,null,null,null,null,{"$f":"PCT4","v":"2052-11-18"},null,null,null,null,null,null,{"$f":"PDA4","v":"2052-11-25"},null,null,null,null,null,null,{"$f":"PDH4","v":"2052-12-02"},null,null,null,null,null,null,{"$f":"PDO4","v":"2052-12-09"},null,null,null,null,null,null,{"$f":"PDV4","v":"2052-12-16"},null,null,null,null,null,null,{"$f":"PEC4","v":"2052-12-23"},null,null,null,null,null,null,{"$f":"PEJ4","v":"2052-12-30"},null,null,null,null,null,null,{"$f":"PEQ4","v":"2053-01-06"},null,null,null,null,null,null,{"$f":"PEX4","v":"2053-01-13"},null,null,null,null,null,null,{"$f":"PFE4","v":"2053-01-20"},null,null,null,null,null,null,{"$f":"PFL4","v":"2053-01-27"},null,null,null,null,null,null,{"$f":"PFS4","v":"2053-02-03"},null,null,null,null,null,null,{"$f":"PFZ4","v":"2053-02-10"},null,null,null,null,null,null,{"$f":"PGG4","v":"2053-02-17"},null,null,null,null,null,null,{"$f":"PGN4","v":"2053-02-24"},null,null,null,null,null,null,{"$f":"PGU4","v":"2053-03-03"},null,null,null,null,null,null,{"$f":"PHB4","v":"2053-03-10"},null,null,null,null,null,null,{"$f":"PHI4","v":"2053-03-17"},null,null,null,null,null,null,{"$f":"PHP4","v":"2053-03-24"},null,null,null,null,null,null,{"$f":"PHW4","v":"2053-03-31"},null,null,null,null,null,null,{"$f":"PID4","v":"2053-04-07"},null,null,null,null,null,null,{"$f":"PIK4","v":"2053-04-14"},null,null,null,null,null,null,{"$f":"PIR4","v":"2053-04-21"},null,null,null,null,null,null,{"$f":"PIY4","v":"2053-04-28"},null,null,null,null,null,null,{"$f":"PJF4","v":"2053-05-05"},null,null,null,null,null,null,{"$f":"PJM4","v":"2053-05-12"},null,null,null,null,null,null,{"$f":"PJT4","v":"2053-05-19"},null,null,null,null,null,null,{"$f":"PKA4","v":"2053-05-26"},null,null,null,null,null,null,{"$f":"PKH4","v":"2053-06-02"},null,null,null,null,null,null,{"$f":"PKO4","v":"2053-06-09"},null,null,null,null,null,null,{"$f":"PKV4","v":"2053-06-16"},null,null,null,null,null,null,{"$f":"PLC4","v":"2053-06-23"},null,null,null,null,null,null,{"$f":"PLJ4","v":"2053-06-30"},null,null,null,null,null,null,{"$f":"PLQ4","v":"2053-07-07"},null,null,null,null,null,null,{"$f":"PLX4","v":"2053-07-14"},null,null,null,null,null,null,{"$f":"PME4","v":"2053-07-21"},null,null,null,null,null,null,{"$f":"PML4","v":"2053-07-28"},null,null,null,null,null,null,{"$f":"PMS4","v":"2053-08-04"},null,null,null,null,null,null,{"$f":"PMZ4","v":"2053-08-11"},null,null,null,null,null,null,{"$f":"PNG4","v":"2053-08-18"},null,null,null,null,null,null,{"$f":"PNN4","v":"2053-08-25"},null,null,null,null,null,null,{"$f":"PNU4","v":"2053-09-01"},null,null,null,null,null,null,{"$f":"POB4","v":"2053-09-08"},null,null,null,null,null,null,{"$f":"POI4","v":"2053-09-15"},null,null,null,null,null,null,{"$f":"POP4","v":"2053-09-22"},null,null,null,null,null,null,{"$f":"POW4","v":"2053-09-29"},null,null,null,null,null,null,{"$f":"PPD4","v":"2053-10-06"},null,null,null,null,null,null,{"$f":"PPK4","v":"2053-10-13"},null,null,null,null,null,null,{"$f":"PPR4","v":"2053-10-20"},null,null,null,null,null,null,{"$f":"PPY4","v":"2053-10-27"},null,null,null,null,null,null,{"$f":"PQF4","v":"2053-11-03"},null,null,null,null,null,null,{"$f":"PQM4","v":"2053-11-10"},null,null,null,null,null,null,{"$f":"PQT4","v":"2053-11-17"},null,null,null,null,null,null,{"$f":"PRA4","v":"2053-11-24"},null,null,null,null,null,null,{"$f":"PRH4","v":"2053-12-01"},null,null,null,null,null,null,{"$f":"PRO4","v":"2053-12-08"},null,null,null,null,null,null,{"$f":"PRV4","v":"2053-12-15"},null,null,null,null,null,null,{"$f":"PSC4","v":"2053-12-22"},null,null,null,null,null,null,{"$f":"PSJ4","v":"2053-12-29"},null,null,null,null,null,null,{"$f":"PSQ4","v":"2054-01-05"},null,null,null,null,null,null,{"$f":"PSX4","v":"2054-01-12"},null,null,null,null,null,null,{"$f":"PTE4","v":"2054-01-19"},null,null,null,null,null,null,{"$f":"PTL4","v":"2054-01-26"},null,null,null,null,null,null,{"$f":"PTS4","v":"2054-02-02"},null,null,null,null,null,null,{"$f":"PTZ4","v":"2054-02-09"},null,null,null,null,null,null,{"$f":"PUG4","v":"2054-02-16"},null,null,null,null,null,null,{"$f":"PUN4","v":"2054-02-23"},null,null,null,null,null,null,{"$f":"PUU4","v":"2054-03-02"},null,null,null,null,null,null,{"$f":"PVB4","v":"2054-03-09"},null,null,null,null,null,null,{"$f":"PVI4","v":"2054-03-16"},null,null,null,null,null,null,{"$f":"PVP4","v":"2054-03-23"},null,null,null,null,null,null,{"$f":"PVW4","v":"2054-03-30"},null,null,null,null,null,null,{"$f":"PWD4","v":"2054-04-06"},null,null,null,null,null,null,{"$f":"PWK4","v":"2054-04-13"},null,null,null,null,null,null,{"$f":"PWR4","v":"2054-04-20"},null,null,null,null,null,null,{"$f":"PWY4","v":"2054-04-27"},null,null,null,null,null,null,{"$f":"PXF4","v":"2054-05-04"},null,null,null,null,null,null,{"$f":"PXM4","v":"2054-05-11"},null,null,null,null,null,null,{"$f":"PXT4","v":"2054-05-18"},null,null,null,null,null,null,{"$f":"PYA4","v":"2054-05-25"},null,null,null,null,null,null,{"$f":"PYH4","v":"2054-06-01"},null,null,null,null,null,null,{"$f":"PYO4","v":"2054-06-08"},null,null,null,null,null,null,{"$f":"PYV4","v":"2054-06-15"},null,null,null,null,null,null,{"$f":"PZC4","v":"2054-06-22"},null,null,null,null,null,null,{"$f":"PZJ4","v":"2054-06-29"},null,null,null,null,null,null,{"$f":"PZQ4","v":"2054-07-06"},null,null,null,null,null,null,{"$f":"PZX4","v":"2054-07-13"},null,null,null,null,null,null,{"$f":"QAE4","v":"2054-07-20"},null,null,null,null,null,null,{"$f":"QAL4","v":"2054-07-27"},null,null,null,null,null,null,{"$f":"QAS4","v":"2054-08-03"},null,null,null,null,null,null,{"$f":"QAZ4","v":"2054-08-10"},null,null,null,null,null,null,{"$f":"QBG4","v":"2054-08-17"},null,null,null,null,null,null,{"$f":"QBN4","v":"2054-08-24"},null,null,null,null,null,null,{"$f":"QBU4","v":"2054-08-31"},null,null,null,null,null,null,{"$f":"QCB4","v":"2054-09-07"},null,null,null,null,null,null,{"$f":"QCI4","v":"2054-09-14"},null,null,null,null,null,null,{"$f":"QCP4","v":"2054-09-21"},null,null,null,null,null,null,{"$f":"QCW4","v":"2054-09-28"},null,null,null,null,null,null,{"$f":"QDD4","v":"2054-10-05"},null,null,null,null,null,null,{"$f":"QDK4","v":"2054-10-12"},null,null,null,null,null,null,{"$f":"QDR4","v":"2054-10-19"},null,null,null,null,null,null,{"$f":"QDY4","v":"2054-10-26"},null,null,null,null,null,null,{"$f":"QEF4","v":"2054-11-02"},null,null,null,null,null,null,{"$f":"QEM4","v":"2054-11-09"},null,null,null,null,null,null,{"$f":"QET4","v":"2054-11-16"},null,null,null,null,null,null,{"$f":"QFA4","v":"2054-11-23"},null,null,null,null,null,null,{"$f":"QFH4","v":"2054-11-30"},null,null,null,null,null,null,{"$f":"QFO4","v":"2054-12-07"},null,null,null,null,null,null,{"$f":"QFV4","v":"2054-12-14"},null,null,null,null,null,null,{"$f":"QGC4","v":"2054-12-21"},null,null,null,null,null,null,{"$f":"QGJ4","v":"2054-12-28"},null,null,null,null,null,null,{"$f":"QGQ4","v":"2055-01-04"},null,null,null,null,null,null,{"$f":"QGX4","v":"2055-01-11"},null,null,null,null,null,null,{"$f":"QHE4","v":"2055-01-18"},null,null,null,null,null,null,{"$f":"QHL4","v":"2055-01-25"},null,null,null,null,null,null,{"$f":"QHS4","v":"2055-02-01"},null,null,null,null,null,null,{"$f":"QHZ4","v":"2055-02-08"},null,null,null,null,null,null,{"$f":"QIG4","v":"2055-02-15"},null,null,null,null,null,null,{"$f":"QIN4","v":"2055-02-22"},null,null,null,null,null,null,{"$f":"QIU4","v":"2055-03-01"},null,null,null,null,null,null,{"$f":"QJB4","v":"2055-03-08"},null,null,null,null,null,null,{"$f":"QJI4","v":"2055-03-15"},null,null,null,null,null,null,{"$f":"QJP4","v":"2055-03-22"},null,null,null,null,null,null,{"$f":"QJW4","v":"2055-03-29"},null,null,null,null,null,null,{"$f":"QKD4","v":"2055-04-05"},null,null,null,null,null,null,{"$f":"QKK4","v":"2055-04-12"},null,null,null,null,null,null,{"$f":"QKR4","v":"2055-04-19"},null,null,null,null,null,null,{"$f":"QKY4","v":"2055-04-26"},null,null,null,null,null,null,{"$f":"QLF4","v":"2055-05-03"},null,null,null,null,null,null,{"$f":"QLM4","v":"2055-05-10"},null,null,null,null,null,null,{"$f":"QLT4","v":"2055-05-17"},null,null,null,null,null,null,{"$f":"QMA4","v":"2055-05-24"},null,null,null,null,null,null,{"$f":"QMH4","v":"2055-05-31"},null,null,null,null,null,null,{"$f":"QMO4","v":"2055-06-07"},null,null,null,null,null,null,{"$f":"QMV4","v":"2055-06-14"},null,null,null,null,null,null,{"$f":"QNC4","v":"2055-06-21"},null,null,null,null,null,null,{"$f":"QNJ4","v":"2055-06-28"},null,null,null,null,null,null,{"$f":"QNQ4","v":"2055-07-05"},null,null,null,null,null,null,{"$f":"QNX4","v":"2055-07-12"},null,null,null,null,null,null,{"$f":"QOE4","v":"2055-07-19"},null,null,null,null,null,null,{"$f":"QOL4","v":"2055-07-26"},null,null,null,null,null,null,{"$f":"QOS4","v":"2055-08-02"},null,null,null,null,null,null,{"$f":"QOZ4","v":"2055-08-09"},null,null,null,null,null,null,{"$f":"QPG4","v":"2055-08-16"},null,null,null,null,null,null,{"$f":"QPN4","v":"2055-08-23"},null,null,null,null,null,null,{"$f":"QPU4","v":"2055-08-30"},null,null,null,null,null,null,{"$f":"QQB4","v":"2055-09-06"},null,null,null,null,null,null,{"$f":"QQI4","v":"2055-09-13"},null,null,null,null,null,null,{"$f":"QQP4","v":"2055-09-20"},null,null,null,null,null,null,{"$f":"QQW4","v":"2055-09-27"},null,null,null,null,null,null,{"$f":"QRD4","v":"2055-10-04"},null,null,null,null,null,null,{"$f":"QRK4","v":"2055-10-11"},null,null,null,null,null,null,{"$f":"QRR4","v":"2055-10-18"},null,null,null,null,null,null,{"$f":"QRY4","v":"2055-10-25"},null,null,null,null,null,null,{"$f":"QSF4","v":"2055-11-01"},null,null,null,null,null,null,{"$f":"QSM4","v":"2055-11-08"},null,null,null,null,null,null,{"$f":"QST4","v":"2055-11-15"},null,null,null,null,null,null,{"$f":"QTA4","v":"2055-11-22"},null,null,null,null,null,null,{"$f":"QTH4","v":"2055-11-29"},null,null,null,null,null,null,{"$f":"QTO4","v":"2055-12-06"},null,null,null,null,null,null,{"$f":"QTV4","v":"2055-12-13"},null,null,null,null,null,null,{"$f":"QUC4","v":"2055-12-20"},null,null,null,null,null,null,{"$f":"QUJ4","v":"2055-12-27"},null,null,null,null,null,null,{"$f":"QUQ4","v":"2056-01-03"},null,null,null,null,null,null,{"$f":"QUX4","v":"2056-01-10"},null,null,null,null,null,null,{"$f":"QVE4","v":"2056-01-17"},null,null,null,null,null,null,{"$f":"QVL4","v":"2056-01-24"},null,null,null,null,null,null,{"$f":"QVS4","v":"2056-01-31"},null,null,null,null,null,null,{"$f":"QVZ4","v":"2056-02-07"},null,null,null,null,null,null,{"$f":"QWG4","v":"2056-02-14"},null,null,null,null,null,null,{"$f":"QWN4","v":"2056-02-21"},null,null,null,null,null,null,{"$f":"QWU4","v":"2056-02-28"},null,null,null,null,null,null,{"$f":"QXB4","v":"2056-03-06"},null,null,null,null,null,null,{"$f":"QXI4","v":"2056-03-13"},null,null,null,null,null,null,{"$f":"QXP4","v":"2056-03-20"},null,null,null,null,null,null,{"$f":"QXW4","v":"2056-03-27"},null,null,null,null,null,null,{"$f":"QYD4","v":"2056-04-03"},null,null,null,null,null,null,{"$f":"QYK4","v":"2056-04-10"},null,null,null,null,null,null,{"$f":"QYR4","v":"2056-04-17"},null,null,null,null,null,null,{"$f":"QYY4","v":"2056-04-24"},null,null,null,null,null,null,{"$f":"QZF4","v":"2056-05-01"},null,null,null,null,null,null,{"$f":"QZM4","v":"2056-05-08"},null,null,null,null,null,null,{"$f":"QZT4","v":"2056-05-15"},null,null,null,null,null,null,{"$f":"RAA4","v":"2056-05-22"},null,null,null,null,null,null,{"$f":"RAH4","v":"2056-05-29"},null,null,null,null,null,null,{"$f":"RAO4","v":"2056-06-05"},null,null,null,null,null,null,{"$f":"RAV4","v":"2056-06-12"},null,null,null,null,null,null,{"$f":"RBC4","v":"2056-06-19"},null,null,null,null,null,null,{"$f":"RBJ4","v":"2056-06-26"},null,null,null,null,null,null,{"$f":"RBQ4","v":"2056-07-03"},null,null,null,null,null,null,{"$f":"RBX4","v":"2056-07-10"},null,null,null,null,null,null,{"$f":"RCE4","v":"2056-07-17"},null,null,null,null,null,null,{"$f":"RCL4","v":"2056-07-24"},null,null,null,null,null,null,{"$f":"RCS4","v":"2056-07-31"},null,null,null,null,null,null,{"$f":"RCZ4","v":"2056-08-07"},null,null,null,null,null,null,{"$f":"RDG4","v":"2056-08-14"},null,null,null,null,null,null,{"$f":"RDN4","v":"2056-08-21"},null,null,null,null,null,null,{"$f":"RDU4","v":"2056-08-28"},null,null,null,null,null,null,{"$f":"REB4","v":"2056-09-04"},null,null,null,null,null,null,{"$f":"REI4","v":"2056-09-11"},null,null,null,null,null,null,{"$f":"REP4","v":"2056-09-18"},null,null,null,null,null,null,{"$f":"REW4","v":"2056-09-25"},null,null,null,null,null,null,{"$f":"RFD4","v":"2056-10-02"},null,null,null,null,null,null,{"$f":"RFK4","v":"2056-10-09"},null,null,null,null,null,null,{"$f":"RFR4","v":"2056-10-16"},null,null,null,null,null,null,{"$f":"RFY4","v":"2056-10-23"},null,null,null,null,null,null,{"$f":"RGF4","v":"2056-10-30"},null,null,null,null,null,null,{"$f":"RGM4","v":"2056-11-06"},null,null,null,null,null,null,{"$f":"RGT4","v":"2056-11-13"},null,null,null,null,null,null,{"$f":"RHA4","v":"2056-11-20"},null,null,null,null,null,null,{"$f":"RHH4","v":"2056-11-27"},null,null,null,null,null,null,{"$f":"RHO4","v":"2056-12-04"},null,null,null,null,null,null,{"$f":"RHV4","v":"2056-12-11"},null,null,null,null,null,null,{"$f":"RIC4","v":"2056-12-18"},null,null,null,null,null,null,{"$f":"RIJ4","v":"2056-12-25"},null,null,null,null,null,null,{"$f":"RIQ4","v":"2057-01-01"},null,null,null,null,null,null,{"$f":"RIX4","v":"2057-01-08"},null,null,null,null,null,null,{"$f":"RJE4","v":"2057-01-15"},null,null,null,null,null,null,{"$f":"RJL4","v":"2057-01-22"},null,null,null,null,null,null,{"$f":"RJS4","v":"2057-01-29"},null,null,null,null,null,null,{"$f":"RJZ4","v":"2057-02-05"},null,null,null,null,null,null,{"$f":"RKG4","v":"2057-02-12"},null,null,null,null,null,null,{"$f":"RKN4","v":"2057-02-19"},null,null,null,null,null,null,{"$f":"RKU4","v":"2057-02-26"},null,null,null,null,null,null,{"$f":"RLB4","v":"2057-03-05"},null,null,null,null,null,null,{"$f":"RLI4","v":"2057-03-12"},null,null,null,null,null,null,{"$f":"RLP4","v":"2057-03-19"},null,null,null,null,null,null,{"$f":"RLW4","v":"2057-03-26"},null,null,null,null,null,null,{"$f":"RMD4","v":"2057-04-02"},null,null,null,null,null,null,{"$f":"RMK4","v":"2057-04-09"},null,null,null,null,null,null,{"$f":"RMR4","v":"2057-04-16"},null,null,null,null,null,null,{"$f":"RMY4","v":"2057-04-23"},null,null,null,null,null,null,{"$f":"RNF4","v":"2057-04-30"},null,null,null,null,null,null,{"$f":"RNM4","v":"2057-05-07"},null,null,null,null,null,null,{"$f":"RNT4","v":"2057-05-14"},null,null,null,null,null,null,{"$f":"ROA4","v":"2057-05-21"},null,null,null,null,null,null,{"$f":"ROH4","v":"2057-05-28"},null,null,null,null,null,null,{"$f":"ROO4","v":"2057-06-04"},null,null,null,null,null,null,{"$f":"ROV4","v":"2057-06-11"},null,null,null,null,null,null,{"$f":"RPC4","v":"2057-06-18"},null,null,null,null,null,null,{"$f":"RPJ4","v":"2057-06-25"},null,null,null,null,null,null,{"$f":"RPQ4","v":"2057-07-02"},null,null,null,null,null,null,{"$f":"RPX4","v":"2057-07-09"},null,null,null,null,null,null,{"$f":"RQE4","v":"2057-07-16"},null,null,null,null,null,null,{"$f":"RQL4","v":"2057-07-23"},null,null,null,null,null,null,{"$f":"RQS4","v":"2057-07-30"},null,null,null,null,null,null,{"$f":"RQZ4","v":"2057-08-06"},null,null,null,null,null,null,{"$f":"RRG4","v":"2057-08-13"},null,null,null,null,null,null,{"$f":"RRN4","v":"2057-08-20"},null,null,null,null,null,null,{"$f":"RRU4","v":"2057-08-27"},null,null,null,null,null,null,{"$f":"RSB4","v":"2057-09-03"},null,null,null,null,null,null,{"$f":"RSI4","v":"2057-09-10"},null,null,null,null,null,null,{"$f":"RSP4","v":"2057-09-17"},null,null,null,null,null,null,{"$f":"RSW4","v":"2057-09-24"},null,null,null,null,null,null,{"$f":"RTD4","v":"2057-10-01"},null,null,null,null,null,null,{"$f":"RTK4","v":"2057-10-08"},null,null,null,null,null,null,{"$f":"RTR4","v":"2057-10-15"},null,null,null,null,null,null,{"$f":"RTY4","v":"2057-10-22"},null,null,null,null,null,null,{"$f":"RUF4","v":"2057-10-29"},null,null,null,null,null,null,{"$f":"RUM4","v":"2057-11-05"},null,null,null,null,null,null,{"$f":"RUT4","v":"2057-11-12"},null,null,null,null,null,null,{"$f":"RVA4","v":"2057-11-19"},null,null,null,null,null,null,{"$f":"RVH4","v":"2057-11-26"},null,null,null,null,null,null,{"$f":"RVO4","v":"2057-12-03"},null,null,null,null,null,null,{"$f":"RVV4","v":"2057-12-10"},null,null,null,null,null,null,{"$f":"RWC4","v":"2057-12-17"},null,null,null,null,null,null,{"$f":"RWJ4","v":"2057-12-24"},null,null,null,null,null,null,{"$f":"RWQ4","v":"2057-12-31"},null,null,null,null,null,null,{"$f":"RWX4","v":"2058-01-07"},null,null,null,null,null,null,{"$f":"RXE4","v":"2058-01-14"},null,null,null,null,null,null,{"$f":"RXL4","v":"2058-01-21"},null,null,null,null,null,null,{"$f":"RXS4","v":"2058-01-28"},null,null,null,null,null,null,{"$f":"RXZ4","v":"2058-02-04"},null,null,null,null,null,null,{"$f":"RYG4","v":"2058-02-11"},null,null,null,null,null,null,{"$f":"RYN4","v":"2058-02-18"},null,null,null,null,null,null,{"$f":"RYU4","v":"2058-02-25"},null,null,null,null,null,null,{"$f":"RZB4","v":"2058-03-04"},null,null,null,null,null,null,{"$f":"RZI4","v":"2058-03-11"},null,null,null,null,null,null,{"$f":"RZP4","v":"2058-03-18"},null,null,null,null,null,null,{"$f":"RZW4","v":"2058-03-25"},null,null,null,null,null,null,{"$f":"SAD4","v":"2058-04-01"},null,null,null,null,null,null,{"$f":"SAK4","v":"2058-04-08"},null,null,null,null,null,null,{"$f":"SAR4","v":"2058-04-15"},null,null,null,null,null,null,{"$f":"SAY4","v":"2058-04-22"},null,null,null,null,null,null,{"$f":"SBF4","v":"2058-04-29"},null,null,null,null,null,null,{"$f":"SBM4","v":"2058-05-06"},null,null,null,null,null,null,{"$f":"SBT4","v":"2058-05-13"},null,null,null,null,null,null,{"$f":"SCA4","v":"2058-05-20"},null,null,null,null,null,null,{"$f":"SCH4","v":"2058-05-27"},null,null,null,null,null,null,{"$f":"SCO4","v":"2058-06-03"},null,null,null,null,null,null,{"$f":"SCV4","v":"2058-06-10"},null,null,null,null,null,null,{"$f":"SDC4","v":"2058-06-17"},null,null,null,null,null,null,{"$f":"SDJ4","v":"2058-06-24"},null,null,null,null,null,null,{"$f":"SDQ4","v":"2058-07-01"},null,null,null,null,null,null,{"$f":"SDX4","v":"2058-07-08"},null,null,null,null,null,null,{"$f":"SEE4","v":"2058-07-15"},null,null,null,null,null,null,{"$f":"SEL4","v":"2058-07-22"},null,null,null,null,null,null,{"$f":"SES4","v":"2058-07-29"},null,null,null,null,null,null,{"$f":"SEZ4","v":"2058-08-05"},null,null,null,null,null,null,{"$f":"SFG4","v":"2058-08-12"},null,null,null,null,null,null,{"$f":"SFN4","v":"2058-08-19"},null,null,null,null,null,null,{"$f":"SFU4","v":"2058-08-26"},null,null,null,null,null,null,{"$f":"SGB4","v":"2058-09-02"},null,null,null,null,null,null,{"$f":"SGI4","v":"2058-09-09"},null,null,null,null,null,null,{"$f":"SGP4","v":"2058-09-16"},null,null,null,null,null,null,{"$f":"SGW4","v":"2058-09-23"},null,null,null,null,null,null,{"$f":"SHD4","v":"2058-09-30"},null,null,null,null,null,null,{"$f":"SHK4","v":"2058-10-07"},null,null,null,null,null,null,{"$f":"SHR4","v":"2058-10-14"},null,null,null,null,null,null,{"$f":"SHY4","v":"2058-10-21"},null,null,null,null,null,null,{"$f":"SIF4","v":"2058-10-28"},null,null,null,null,null,null,{"$f":"SIM4","v":"2058-11-04"},null,null,null,null,null,null,{"$f":"SIT4","v":"2058-11-11"},null,null,null,null,null,null,{"$f":"SJA4","v":"2058-11-18"},null,null,null,null,null,null,{"$f":"SJH4","v":"2058-11-25"},null,null,null,null,null,null,{"$f":"SJO4","v":"2058-12-02"},null,null,null,null,null,null,{"$f":"SJV4","v":"2058-12-09"},null,null,null,null,null,null,{"$f":"SKC4","v":"2058-12-16"},null,null,null,null,null,null,{"$f":"SKJ4","v":"2058-12-23"},null,null,null,null,null,null,{"$f":"SKQ4","v":"2058-12-30"},null,null,null,null,null,null,{"$f":"SKX4","v":"2059-01-06"},null,null,null,null,null,null,{"$f":"SLE4","v":"2059-01-13"},null,null,null,null,null,null,{"$f":"SLL4","v":"2059-01-20"},null,null,null,null,null,null,{"$f":"SLS4","v":"2059-01-27"},null,null,null,null,null,null,{"$f":"SLZ4","v":"2059-02-03"},null,null,null,null,null,null,{"$f":"SMG4","v":"2059-02-10"},null,null,null,null,null,null,{"$f":"SMN4","v":"2059-02-17"},null,null,null,null,null,null,{"$f":"SMU4","v":"2059-02-24"},null,null,null,null,null,null,{"$f":"SNB4","v":"2059-03-03"},null,null,null,null,null,null,{"$f":"SNI4","v":"2059-03-10"},null,null,null,null,null,null,{"$f":"SNP4","v":"2059-03-17"},null,null,null,null,null,null,{"$f":"SNW4","v":"2059-03-24"},null,null,null,null,null,null,{"$f":"SOD4","v":"2059-03-31"},null,null,null,null,null,null,{"$f":"SOK4","v":"2059-04-07"},null,null,null,null,null,null,{"$f":"SOR4","v":"2059-04-14"},null,null,null,null,null,null,{"$f":"SOY4","v":"2059-04-21"},null,null,null,null,null,null,{"$f":"SPF4","v":"2059-04-28"},null,null,null,null,null,null,{"$f":"SPM4","v":"2059-05-05"},null,null,null,null,null,null,{"$f":"SPT4","v":"2059-05-12"},null,null,null,null,null,null,{"$f":"SQA4","v":"2059-05-19"},null,null,null,null,null,null,{"$f":"SQH4","v":"2059-05-26"},null,null,null,null,null,null,{"$f":"SQO4","v":"2059-06-02"},null,null,null,null,null,null,{"$f":"SQV4","v":"2059-06-09"},null,null,null,null,null,null,{"$f":"SRC4","v":"2059-06-16"},null,null,null,null,null,null,{"$f":"SRJ4","v":"2059-06-23"},null,null,null,null,null,null,{"$f":"SRQ4","v":"2059-06-30"},null,null,null,null,null,null,{"$f":"SRX4","v":"2059-07-07"},null,null,null,null,null,null,{"$f":"SSE4","v":"2059-07-14"},null,null,null,null,null,null,{"$f":"SSL4","v":"2059-07-21"},null,null,null,null,null,null,{"$f":"SSS4","v":"2059-07-28"},null,null,null,null,null,null,{"$f":"SSZ4","v":"2059-08-04"},null,null,null,null,null,null,{"$f":"STG4","v":"2059-08-11"},null,null,null,null,null,null,{"$f":"STN4","v":"2059-08-18"},null,null,null,null,null,null,{"$f":"STU4","v":"2059-08-25"},null,null,null,null,null,null,{"$f":"SUB4","v":"2059-09-01"},null,null,null,null,null,null,{"$f":"SUI4","v":"2059-09-08"},null,null,null,null,null,null,{"$f":"SUP4","v":"2059-09-15"},null,null,null,null,null,null,{"$f":"SUW4","v":"2059-09-22"},null,null,null,null,null,null,{"$f":"SVD4","v":"2059-09-29"},null,null,null,null,null,null,{"$f":"SVK4","v":"2059-10-06"},null,null,null,null,null,null,{"$f":"SVR4","v":"2059-10-13"},null,null,null,null,null,null,{"$f":"SVY4","v":"2059-10-20"},null,null,null,null,null,null,{"$f":"SWF4","v":"2059-10-27"},null,null,null,null,null,null,{"$f":"SWM4","v":"2059-11-03"},null,null,null,null,null,null,{"$f":"SWT4","v":"2059-11-10"},null,null,null,null,null,null,{"$f":"SXA4","v":"2059-11-17"},null,null,null,null,null,null,{"$f":"SXH4","v":"2059-11-24"},null,null,null,null,null,null,{"$f":"SXO4","v":"2059-12-01"},null,null,null,null,null,null,{"$f":"SXV4","v":"2059-12-08"},null,null,null,null,null,null,{"$f":"SYC4","v":"2059-12-15"},null,null,null,null,null,null,{"$f":"SYJ4","v":"2059-12-22"},null,null,null,null,null,null,{"$f":"SYQ4","v":"2059-12-29"},null,null,null,null,null,null,{"$f":"SYX4","v":"2060-01-05"},null,null,null,null,null,null,{"$f":"SZE4","v":"2060-01-12"},null,null,null,null,null,null,{"$f":"SZL4","v":"2060-01-19"},null,null,null,null,null,null,{"$f":"SZS4","v":"2060-01-26"},null,null,null,null,null,null,{"$f":"SZZ4","v":"2060-02-02"},null,null,null,null,null,null,{"$f":"TAG4","v":"2060-02-09"},null,null,null,null,null,null,{"$f":"TAN4","v":"2060-02-16"},null,null,null,null,null,null,{"$f":"TAU4","v":"2060-02-23"},null,null,null,null,null,null,{"$f":"TBB4","v":"2060-03-01"},null,null,null,null,null,null,{"$f":"TBI4","v":"2060-03-08"},null,null,null,null,null,null,{"$f":"TBP4","v":"2060-03-15"},null,null,null,null,null,null,{"$f":"TBW4","v":"2060-03-22"},null,null,null,null,null,null,{"$f":"TCD4","v":"2060-03-29"},null,null,null,null,null,null,{"$f":"TCK4","v":"2060-04-05"},null,null,null,null,null,null,{"$f":"TCR4","v":"2060-04-12"},null,null,null,null,null,null,{"$f":"TCY4","v":"2060-04-19"},null,null,null,null,null,null,{"$f":"TDF4","v":"2060-04-26"},null,null,null,null,null,null,{"$f":"TDM4","v":"2060-05-03"},null,null,null,null,null,null,{"$f":"TDT4","v":"2060-05-10"},null,null,null,null,null,null,{"$f":"TEA4","v":"2060-05-17"},null,null,null,null,null,null,{"$f":"TEH4","v":"2060-05-24"},null,null,null,null,null,null,{"$f":"TEO4","v":"2060-05-31"},null,null,null,null,null,null,{"$f":"TEV4","v":"2060-06-07"},null,null,null,null,null,null,{"$f":"TFC4","v":"2060-06-14"},null,null,null,null,null,null,{"$f":"TFJ4","v":"2060-06-21"},null,null,null,null,null,null,{"$f":"TFQ4","v":"2060-06-28"},null,null,null,null,null,null,{"$f":"TFX4","v":"2060-07-05"},null,null,null,null,null,null,{"$f":"TGE4","v":"2060-07-12"},null,null,null,null,null,null,{"$f":"TGL4","v":"2060-07-19"},null,null,null,null,null,null,{"$f":"TGS4","v":"2060-07-26"},null,null,null,null,null,null,{"$f":"TGZ4","v":"2060-08-02"},null,null,null,null,null,null,{"$f":"THG4","v":"2060-08-09"},null,null,null,null,null,null,{"$f":"THN4","v":"2060-08-16"},null,null,null,null,null,null,{"$f":"THU4","v":"2060-08-23"},null,null,null,null,null,null,{"$f":"TIB4","v":"2060-08-30"},null,null,null,null,null,null,{"$f":"TII4","v":"2060-09-06"},null,null,null,null,null,null,{"$f":"TIP4","v":"2060-09-13"},null,null,null,null,null,null,{"$f":"TIW4","v":"2060-09-20"},null,null,null,null,null,null,{"$f":"TJD4","v":"2060-09-27"},null,null,null,null,null,null,{"$f":"TJK4","v":"2060-10-04"},null,null,null,null,null,null,{"$f":"TJR4","v":"2060-10-11"},null,null,null,null,null,null,{"$f":"TJY4","v":"2060-10-18"},null,null,null,null,null,null,{"$f":"TKF4","v":"2060-10-25"},null,null,null,null,null,null,{"$f":"TKM4","v":"2060-11-01"},null,null,null,null,null,null,{"$f":"TKT4","v":"2060-11-08"},null,null,null,null,null,null,{"$f":"TLA4","v":"2060-11-15"},null,null,null,null,null,null,{"$f":"TLH4","v":"2060-11-22"},null,null,null,null,null,null,{"$f":"TLO4","v":"2060-11-29"},null,null,null,null,null,null,{"$f":"TLV4","v":"2060-12-06"},null,null,null,null,null,null,{"$f":"TMC4","v":"2060-12-13"},null,null,null,null,null,null,{"$f":"TMJ4","v":"2060-12-20"},null,null,null,null,null,null,{"$f":"TMQ4","v":"2060-12-27"},null,null,null,null,null,null,{"$f":"TMX4","v":"2061-01-03"},null,null,null,null,null,null,{"$f":"TNE4","v":"2061-01-10"},null,null,null,null,null,null,{"$f":"TNL4","v":"2061-01-17"},null,null,null,null,null,null,{"$f":"TNS4","v":"2061-01-24"},null,null,null,null,null,null,{"$f":"TNZ4","v":"2061-01-31"},null,null,null,null,null,null,{"$f":"TOG4","v":"2061-02-07"},null,null,null,null,null,null,{"$f":"TON4","v":"2061-02-14"},null,null,null,null,null,null,{"$f":"TOU4","v":"2061-02-21"},null,null,null,null,null,null,{"$f":"TPB4","v":"2061-02-28"},null,null,null,null,null,null,{"$f":"TPI4","v":"2061-03-07"},null,null,null,null,null,null,{"$f":"TPP4","v":"2061-03-14"},null,null,null,null,null,null,{"$f":"TPW4","v":"2061-03-21"},null,null,null,null,null,null,{"$f":"TQD4","v":"2061-03-28"},null,null,null,null,null,null,{"$f":"TQK4","v":"2061-04-04"},null,null,null,null,null,null,{"$f":"TQR4","v":"2061-04-11"},null,null,null,null,null,null,{"$f":"TQY4","v":"2061-04-18"},null,null,null,null,null,null,{"$f":"TRF4","v":"2061-04-25"},null,null,null,null,null,null,{"$f":"TRM4","v":"2061-05-02"},null,null,null,null,null,null,{"$f":"TRT4","v":"2061-05-09"},null,null,null,null,null,null,{"$f":"TSA4","v":"2061-05-16"},null,null,null,null,null,null,{"$f":"TSH4","v":"2061-05-23"},null,null,null,null,null,null,{"$f":"TSO4","v":"2061-05-30"},null,null,null,null,null,null,{"$f":"TSV4","v":"2061-06-06"},null,null,null,null,null,null,{"$f":"TTC4","v":"2061-06-13"},null,null,null,null,null,null,{"$f":"TTJ4","v":"2061-06-20"},null,null,null,null,null,null,{"$f":"TTQ4","v":"2061-06-27"},null,null,null,null,null,null,{"$f":"TTX4","v":"2061-07-04"},null,null,null,null,null,null,{"$f":"TUE4","v":"2061-07-11"},null,null,null,null,null,null,{"$f":"TUL4","v":"2061-07-18"},null,null,null,null,null,null,{"$f":"TUS4","v":"2061-07-25"},null,null,null,null,null,null,{"$f":"TUZ4","v":"2061-08-01"},null,null,null,null,null,null,{"$f":"TVG4","v":"2061-08-08"},null,null,null,null,null,null,{"$f":"TVN4","v":"2061-08-15"},null,null,null,null,null,null,{"$f":"TVU4","v":"2061-08-22"},null,null,null,null,null,null,{"$f":"TWB4","v":"2061-08-29"},null,null,null,null,null,null,{"$f":"TWI4","v":"2061-09-05"},null,null,null,null,null,null,{"$f":"TWP4","v":"2061-09-12"},null,null,null,null,null,null,{"$f":"TWW4","v":"2061-09-19"},null,null,null,null,null,null,{"$f":"TXD4","v":"2061-09-26"},null,null,null,null,null,null,{"$f":"TXK4","v":"2061-10-03"},null,null,null,null,null,null,{"$f":"TXR4","v":"2061-10-10"},null,null,null,null,null,null,{"$f":"TXY4","v":"2061-10-17"},null,null,null,null,null,null,{"$f":"TYF4","v":"2061-10-24"},null,null,null,null,null,null,{"$f":"TYM4","v":"2061-10-31"},null,null,null,null,null,null,{"$f":"TYT4","v":"2061-11-07"},null,null,null,null,null,null,{"$f":"TZA4","v":"2061-11-14"},null,null,null,null,null,null,{"$f":"TZH4","v":"2061-11-21"},null,null,null,null,null,null,{"$f":"TZO4","v":"2061-11-28"},null,null,null,null,null,null,{"$f":"TZV4","v":"2061-12-05"},null,null,null,null,null,null,{"$f":"UAC4","v":"2061-12-12"},null,null,null,null,null,null,{"$f":"UAJ4","v":"2061-12-19"},null,null,null,null,null,null,{"$f":"UAQ4","v":"2061-12-26"},null,null,null,null,null,null,{"$f":"UAX4","v":"2062-01-02"},null,null,null,null,null,null,{"$f":"UBE4","v":"2062-01-09"},null,null,null,null,null,null,{"$f":"UBL4","v":"2062-01-16"},null,null,null,null,null,null,{"$f":"UBS4","v":"2062-01-23"},null,null,null,null,null,null,{"$f":"UBZ4","v":"2062-01-30"},null,null,null,null,null,null,{"$f":"UCG4","v":"2062-02-06"},null,null,null,null,null,null,{"$f":"UCN4","v":"2062-02-13"},null,null,null,null,null,null,{"$f":"UCU4","v":"2062-02-20"},null,null,null,null,null,null,{"$f":"UDB4","v":"2062-02-27"},null,null,null,null,null,null,{"$f":"UDI4","v":"2062-03-06"},null,null,null,null,null,null,{"$f":"UDP4","v":"2062-03-13"},null,null,null,null,null,null,{"$f":"UDW4","v":"2062-03-20"},null,null,null,null,null,null,{"$f":"UED4","v":"2062-03-27"},null,null,null,null,null,null,{"$f":"UEK4","v":"2062-04-03"},null,null,null,null,null,null,{"$f":"UER4","v":"2062-04-10"},null,null,null,null,null,null,{"$f":"UEY4","v":"2062-04-17"},null,null,null,null,null,null,{"$f":"UFF4","v":"2062-04-24"},null,null,null,null,null,null,{"$f":"UFM4","v":"2062-05-01"},null,null,null,null,null,null,{"$f":"UFT4","v":"2062-05-08"},null,null,null,null,null,null,{"$f":"UGA4","v":"2062-05-15"},null,null,null,null,null,null,{"$f":"UGH4","v":"2062-05-22"},null,null,null,null,null,null,{"$f":"UGO4","v":"2062-05-29"},null,null,null,null,null,null,{"$f":"UGV4","v":"2062-06-05"},null,null,null,null,null,null,{"$f":"UHC4","v":"2062-06-12"},null,null,null,null,null,null,{"$f":"UHJ4","v":"2062-06-19"},null,null,null,null,null,null,{"$f":"UHQ4","v":"2062-06-26"},null,null,null,null,null,null,{"$f":"UHX4","v":"2062-07-03"},null,null,null,null,null,null,{"$f":"UIE4","v":"2062-07-10"},null,null,null,null,null,null,{"$f":"UIL4","v":"2062-07-17"},null,null,null,null,null,null,{"$f":"UIS4","v":"2062-07-24"},null,null,null,null,null,null,{"$f":"UIZ4","v":"2062-07-31"},null,null,null,null,null,null,{"$f":"UJG4","v":"2062-08-07"},null,null,null,null,null,null,{"$f":"UJN4","v":"2062-08-14"},null,null,null,null,null,null,{"$f":"UJU4","v":"2062-08-21"},null,null,null,null,null,null,{"$f":"UKB4","v":"2062-08-28"},null,null,null,null,null,null,{"$f":"UKI4","v":"2062-09-04"},null,null,null,null,null,null,{"$f":"UKP4","v":"2062-09-11"},null,null,null,null,null,null,{"$f":"UKW4","v":"2062-09-18"},null,null,null,null,null,null,{"$f":"ULD4","v":"2062-09-25"},null,null,null,null,null,null,{"$f":"ULK4","v":"2062-10-02"},null,null,null,null,null,null,{"$f":"ULR4","v":"2062-10-09"},null,null,null,null,null,null,{"$f":"ULY4","v":"2062-10-16"},null,null,null,null,null,null,{"$f":"UMF4","v":"2062-10-23"},null,null,null,null,null,null,{"$f":"UMM4","v":"2062-10-30"},null,null,null,null,null,null,{"$f":"UMT4","v":"2062-11-06"},null,null,null,null,null,null,{"$f":"UNA4","v":"2062-11-13"},null,null,null,null,null,null,{"$f":"UNH4","v":"2062-11-20"},null,null,null,null,null,null,{"$f":"UNO4","v":"2062-11-27"},null,null,null,null,null,null,{"$f":"UNV4","v":"2062-12-04"},null,null,null,null,null,null,{"$f":"UOC4","v":"2062-12-11"},null,null,null,null,null,null,{"$f":"UOJ4","v":"2062-12-18"},null,null,null,null,null,null,{"$f":"UOQ4","v":"2062-12-25"},null,null,null,null,null,null,{"$f":"UOX4","v":"2063-01-01"},null,null,null,null,null,null,{"$f":"UPE4","v":"2063-01-08"},null,null,null,null,null,null,{"$f":"UPL4","v":"2063-01-15"},null,null,null,null,null,null,{"$f":"UPS4","v":"2063-01-22"},null,null,null,null,null,null,{"$f":"UPZ4","v":"2063-01-29"},null,null,null,null,null,null,{"$f":"UQG4","v":"2063-02-05"},null,null,null,null,null,null,{"$f":"UQN4","v":"2063-02-12"},null,null,null,null,null,null,{"$f":"UQU4","v":"2063-02-19"},null,null,null,null,null,null,{"$f":"URB4","v":"2063-02-26"},null,null,null,null,null,null,{"$f":"URI4","v":"2063-03-05"},null,null,null,null,null,null,{"$f":"URP4","v":"2063-03-12"},null,null,null,null,null,null,{"$f":"URW4","v":"2063-03-19"},null,null,null,null,null,null,{"$f":"USD4","v":"2063-03-26"},null,null,null,null,null,null,{"$f":"USK4","v":"2063-04-02"},null,null,null,null,null,null,{"$f":"USR4","v":"2063-04-09"},null,null,null,null,null,null,{"$f":"USY4","v":"2063-04-16"},null,null,null,null,null,null,{"$f":"UTF4","v":"2063-04-23"},null,null,null,null,null,null,{"$f":"UTM4","v":"2063-04-30"},null,null,null,null,null,null,{"$f":"UTT4","v":"2063-05-07"},null,null,null,null,null,null,{"$f":"UUA4","v":"2063-05-14"},null,null,null,null,null,null,{"$f":"UUH4","v":"2063-05-21"},null,null,null,null,null,null,{"$f":"UUO4","v":"2063-05-28"},null,null,null,null,null,null,{"$f":"UUV4","v":"2063-06-04"},null,null,null,null,null,null,{"$f":"UVC4","v":"2063-06-11"},null,null,null,null,null,null,{"$f":"UVJ4","v":"2063-06-18"},null,null,null,null,null,null,{"$f":"UVQ4","v":"2063-06-25"},null,null,null,null,null,null,{"$f":"UVX4","v":"2063-07-02"},null,null,null,null,null,null,{"$f":"UWE4","v":"2063-07-09"},null,null,null,null,null,null,{"$f":"UWL4","v":"2063-07-16"},null,null,null,null,null,null,{"$f":"UWS4","v":"2063-07-23"},null,null,null,null,null,null,{"$f":"UWZ4","v":"2063-07-30"},null,null,null,null,null,null,{"$f":"UXG4","v":"2063-08-06"},null,null,null,null,null,null,{"$f":"UXN4","v":"2063-08-13"},null,null,null,null,null,null,{"$f":"UXU4","v":"2063-08-20"},null,null,null,null,null,null,{"$f":"UYB4","v":"2063-08-27"},null,null,null,null,null,null,{"$f":"UYI4","v":"2063-09-03"},null,null,null,null,null,null,{"$f":"UYP4","v":"2063-09-10"},null,null,null,null,null,null,{"$f":"UYW4","v":"2063-09-17"},null,null,null,null,null,null,{"$f":"UZD4","v":"2063-09-24"},null,null,null,null,null,null,{"$f":"UZK4","v":"2063-10-01"},null,null,null,null,null,null,{"$f":"UZR4","v":"2063-10-08"},null,null,null,null,null,null,{"$f":"UZY4","v":"2063-10-15"},null,null,null,null,null,null,{"$f":"VAF4","v":"2063-10-22"},null,null,null,null,null,null,{"$f":"VAM4","v":"2063-10-29"},null,null,null,null,null,null,{"$f":"VAT4","v":"2063-11-05"},null,null,null,null,null,null,{"$f":"VBA4","v":"2063-11-12"},null,null,null,null,null,null,{"$f":"VBH4","v":"2063-11-19"},null,null,null,null,null,null,{"$f":"VBO4","v":"2063-11-26"},null,null,null,null,null,null,{"$f":"VBV4","v":"2063-12-03"},null,null,null,null,null,null,{"$f":"VCC4","v":"2063-12-10"},null,null,null,null,null,null,{"$f":"VCJ4","v":"2063-12-17"},null,null,null,null,null,null,{"$f":"VCQ4","v":"2063-12-24"},null,null,null,null,null,null,{"$f":"VCX4","v":"2063-12-31"},null,null,null,null,null,null,{"$f":"VDE4","v":"2064-01-07"},null,null,null,null,null,null,{"$f":"VDL4","v":"2064-01-14"},null,null,null,null,null,null,{"$f":"VDS4","v":"2064-01-21"},null,null,null,null,null,null,{"$f":"VDZ4","v":"2064-01-28"},null,null,null,null,null,null,{"$f":"VEG4","v":"2064-02-04"},null,null,null,null,null,null,{"$f":"VEN4","v":"2064-02-11"},null,null,null,null,null,null,{"$f":"VEU4","v":"2064-02-18"},null,null,null,null,null,null,{"$f":"VFB4","v":"2064-02-25"},null,null,null,null,null,null,{"$f":"VFI4","v":"2064-03-03"},null,null,null,null,null,null,{"$f":"VFP4","v":"2064-03-10"},null,null,null,null,null,null,{"$f":"VFW4","v":"2064-03-17"},null,null,null,null,null,null,{"$f":"VGD4","v":"2064-03-24"},null,null,null,null,null,null,{"$f":"VGK4","v":"2064-03-31"},null,null,null,null,null,null,{"$f":"VGR4","v":"2064-04-07"},null,null,null,null,null,null,{"$f":"VGY4","v":"2064-04-14"},null,null,null,null,null,null,{"$f":"VHF4","v":"2064-04-21"},null,null,null,null,null,null,{"$f":"VHM4","v":"2064-04-28"},null,null,null,null,null,null,{"$f":"VHT4","v":"2064-05-05"},null,null,null,null,null,null,{"$f":"VIA4","v":"2064-05-12"},null,null,null,null,null,null,{"$f":"VIH4","v":"2064-05-19"},null,null,null,null,null,null,{"$f":"VIO4","v":"2064-05-26"},null,null,null,null,null,null,{"$f":"VIV4","v":"2064-06-02"},null,null,null,null,null,null,{"$f":"VJC4","v":"2064-06-09"},null,null,null,null,null,null,{"$f":"VJJ4","v":"2064-06-16"},null,null,null,null,null,null,{"$f":"VJQ4","v":"2064-06-23"},null,null,null,null,null,null,{"$f":"VJX4","v":"2064-06-30"},null,null,null,null,null,null,{"$f":"VKE4","v":"2064-07-07"},null,null,null,null,null,null,{"$f":"VKL4","v":"2064-07-14"},null,null,null,null,null,null,{"$f":"VKS4","v":"2064-07-21"},null,null,null,null,null,null,{"$f":"VKZ4","v":"2064-07-28"},null,null,null,null,null,null,{"$f":"VLG4","v":"2064-08-04"},null,null,null,null,null,null,{"$f":"VLN4","v":"2064-08-11"},null,null,null,null,null,null,{"$f":"VLU4","v":"2064-08-18"},null,null,null,null,null,null,{"$f":"VMB4","v":"2064-08-25"},null,null,null,null,null,null,{"$f":"VMI4","v":"2064-09-01"},null,null,null,null,null,null,{"$f":"VMP4","v":"2064-09-08"},null,null,null,null,null,null,{"$f":"VMW4","v":"2064-09-15"},null,null,null,null,null,null,{"$f":"VND4","v":"2064-09-22"},null,null,null,null,null,null,{"$f":"VNK4","v":"2064-09-29"},null,null,null,null,null,null,{"$f":"VNR4","v":"2064-10-06"},null,null,null,null,null,null,{"$f":"VNY4","v":"2064-10-13"},null,null,null,null,null,null,{"$f":"VOF4","v":"2064-10-20"},null,null,null,null,null,null,{"$f":"VOM4","v":"2064-10-27"},null,null,null,null,null,null,{"$f":"VOT4","v":"2064-11-03"},null,null,null,null,null,null,{"$f":"VPA4","v":"2064-11-10"},null,null,null,null,null,null,{"$f":"VPH4","v":"2064-11-17"},null,null,null,null,null,null,{"$f":"VPO4","v":"2064-11-24"},null,null,null,null,null,null,{"$f":"VPV4","v":"2064-12-01"},null,null,null,null,null,null,{"$f":"VQC4","v":"2064-12-08"},null,null,null,null,null,null,{"$f":"VQJ4","v":"2064-12-15"},null,null,null,null,null,null,{"$f":"VQQ4","v":"2064-12-22"},null,null,null,null,null,null,{"$f":"VQX4","v":"2064-12-29"},null,null,null,null,null,null,{"$f":"VRE4","v":"2065-01-05"},null,null,null,null,null,null,{"$f":"VRL4","v":"2065-01-12"},null,null,null,null,null,null,{"$f":"VRS4","v":"2065-01-19"},null,null,null,null,null,null,{"$f":"VRZ4","v":"2065-01-26"},null,null,null,null,null,null,{"$f":"VSG4","v":"2065-02-02"},null,null,null,null,null,null,{"$f":"VSN4","v":"2065-02-09"},null,null,null,null,null,null,{"$f":"VSU4","v":"2065-02-16"},null,null,null,null,null,null,{"$f":"VTB4","v":"2065-02-23"},null,null,null,null,null,null,{"$f":"VTI4","v":"2065-03-02"},null,null,null,null,null,null,{"$f":"VTP4","v":"2065-03-09"},null,null,null,null,null,null,{"$f":"VTW4","v":"2065-03-16"},null,null,null,null,null,null,{"$f":"VUD4","v":"2065-03-23"},null,null,null,null,null,null,{"$f":"VUK4","v":"2065-03-30"},null,null,null,null,null,null,{"$f":"VUR4","v":"2065-04-06"},null,null,null,null,null,null,{"$f":"VUY4","v":"2065-04-13"},null,null,null,null,null,null,{"$f":"VVF4","v":"2065-04-20"},null,null,null,null,null,null,{"$f":"VVM4","v":"2065-04-27"},null,null,null,null,null,null,{"$f":"VVT4","v":"2065-05-04"},null,null,null,null,null,null,{"$f":"VWA4","v":"2065-05-11"},null,null,null,null,null,null,{"$f":"VWH4","v":"2065-05-18"},null,null,null,null,null,null,{"$f":"VWO4","v":"2065-05-25"},null,null,null,null,null,null,{"$f":"VWV4","v":"2065-06-01"},null,null,null,null,null,null,{"$f":"VXC4","v":"2065-06-08"},null,null,null,null,null,null,{"$f":"VXJ4","v":"2065-06-15"},null,null,null,null,null,null,{"$f":"VXQ4","v":"2065-06-22"},null,null,null,null,null,null,{"$f":"VXX4","v":"2065-06-29"},null,null,null,null,null,null,{"$f":"VYE4","v":"2065-07-06"},null,null,null,null,null,null,{"$f":"VYL4","v":"2065-07-13"},null,null,null,null,null,null,{"$f":"VYS4","v":"2065-07-20"},null,null,null,null,null,null,{"$f":"VYZ4","v":"2065-07-27"},null,null,null,null,null,null,{"$f":"VZG4","v":"2065-08-03"},null,null,null,null,null,null,{"$f":"VZN4","v":"2065-08-10"},null,null,null,null,null,null,{"$f":"VZU4","v":"2065-08-17"},null,null,null,null,null,null,{"$f":"WAB4","v":"2065-08-24"},null,null,null,null,null,null,{"$f":"WAI4","v":"2065-08-31"},null,null,null,null,null,null,{"$f":"WAP4","v":"2065-09-07"},null,null,null,null,null,null,{"$f":"WAW4","v":"2065-09-14"},null,null,null,null,null,null,{"$f":"WBD4","v":"2065-09-21"},null,null,null,null,null,null,{"$f":"WBK4","v":"2065-09-28"},null,null,null,null,null,null,{"$f":"WBR4","v":"2065-10-05"},null,null,null,null,null,null,{"$f":"WBY4","v":"2065-10-12"},null,null,null,null,null,null,{"$f":"WCF4","v":"2065-10-19"},null,null,null,null,null,null,{"$f":"WCM4","v":"2065-10-26"},null,null,null,null,null,null,{"$f":"WCT4","v":"2065-11-02"},null,null,null,null,null,null,{"$f":"WDA4","v":"2065-11-09"},null,null,null,null,null,null,{"$f":"WDH4","v":"2065-11-16"},null,null,null,null,null,null,{"$f":"WDO4","v":"2065-11-23"},null,null,null,null,null,null,{"$f":"WDV4","v":"2065-11-30"},null,null,null,null,null,null,{"$f":"WEC4","v":"2065-12-07"},null,null,null,null,null,null,{"$f":"WEJ4","v":"2065-12-14"},null,null,null,null,null,null,{"$f":"WEQ4","v":"2065-12-21"},null,null,null,null,null,null,{"$f":"WEX4","v":"2065-12-28"},null,null,null,null,null,null,{"$f":"WFE4","v":"2066-01-04"},null,null,null,null,null,null,{"$f":"WFL4","v":"2066-01-11"},null,null,null,null,null,null,{"$f":"WFS4","v":"2066-01-18"},null,null,null,null,null,null,{"$f":"WFZ4","v":"2066-01-25"},null,null,null,null,null,null,{"$f":"WGG4","v":"2066-02-01"},null,null,null,null,null,null,{"$f":"WGN4","v":"2066-02-08"},null,null,null,null,null,null,{"$f":"WGU4","v":"2066-02-15"},null,null,null,null,null,null,{"$f":"WHB4","v":"2066-02-22"},null,null,null,null,null,null,{"$f":"WHI4","v":"2066-03-01"},null,null,null,null,null,null,{"$f":"WHP4","v":"2066-03-08"},null,null,null,null,null,null,{"$f":"WHW4","v":"2066-03-15"},null,null,null,null,null,null,{"$f":"WID4","v":"2066-03-22"},null,null,null,null,null,null,{"$f":"WIK4","v":"2066-03-29"},null,null,null,null,null,null,{"$f":"WIR4","v":"2066-04-05"},null,null,null,null,null,null,{"$f":"WIY4","v":"2066-04-12"},null,null,null,null,null,null,{"$f":"WJF4","v":"2066-04-19"},null,null,null,null,null,null,{"$f":"WJM4","v":"2066-04-26"},null,null,null,null,null,null,{"$f":"WJT4","v":"2066-05-03"},null,null,null,null,null,null,{"$f":"WKA4","v":"2066-05-10"},null,null,null,null,null,null,{"$f":"WKH4","v":"2066-05-17"},null,null,null,null,null,null,{"$f":"WKO4","v":"2066-05-24"},null,null,null,null,null,null,{"$f":"WKV4","v":"2066-05-31"},null,null,null,null,null,null,{"$f":"WLC4","v":"2066-06-07"},null,null,null,null,null,null,{"$f":"WLJ4","v":"2066-06-14"},null,null,null,null,null,null,{"$f":"WLQ4","v":"2066-06-21"},null,null,null,null,null,null,{"$f":"WLX4","v":"2066-06-28"},null,null,null,null,null,null,{"$f":"WME4","v":"2066-07-05"},null,null,null,null,null,null,{"$f":"WML4","v":"2066-07-12"},null,null,null,null,null,null,{"$f":"WMS4","v":"2066-07-19"},null,null,null,null,null,null,{"$f":"WMZ4","v":"2066-07-26"},null,null,null,null,null,null,{"$f":"WNG4","v":"2066-08-02"},null,null,null,null,null,null,{"$f":"WNN4","v":"2066-08-09"},null,null,null,null,null,null,{"$f":"WNU4","v":"2066-08-16"},null,null,null,null,null,null,{"$f":"WOB4","v":"2066-08-23"},null,null,null,null,null,null,{"$f":"WOI4","v":"2066-08-30"},null,null,null,null,null,null,{"$f":"WOP4","v":"2066-09-06"},null,null,null,null,null,null,{"$f":"WOW4","v":"2066-09-13"},null,null,null,null,null,null,{"$f":"WPD4","v":"2066-09-20"},null,null,null,null,null,null,{"$f":"WPK4","v":"2066-09-27"},null,null,null,null,null,null,{"$f":"WPR4","v":"2066-10-04"},null,null,null,null,null,null,{"$f":"WPY4","v":"2066-10-11"},null,null,null,null,null,null,{"$f":"WQF4","v":"2066-10-18"},null,null,null,null,null,null,{"$f":"WQM4","v":"2066-10-25"},null,null,null,null,null,null,{"$f":"WQT4","v":"2066-11-01"},null,null,null,null,null,null,{"$f":"WRA4","v":"2066-11-08"},null,null,null,null,null,null,{"$f":"WRH4","v":"2066-11-15"},null,null,null,null,null,null,{"$f":"WRO4","v":"2066-11-22"},null,null,null,null,null,null,{"$f":"WRV4","v":"2066-11-29"},null,null,null,null,null,null,{"$f":"WSC4","v":"2066-12-06"},null,null,null,null,null,null,{"$f":"WSJ4","v":"2066-12-13"},null,null,null,null,null,null,{"$f":"WSQ4","v":"2066-12-20"},null,null,null,null,null,null,{"$f":"WSX4","v":"2066-12-27"},null,null,null,null,null,null,{"$f":"WTE4","v":"2067-01-03"},null,null,null,null,null,null,{"$f":"WTL4","v":"2067-01-10"},null,null,null,null,null,null,{"$f":"WTS4","v":"2067-01-17"},null,null,null,null,null,null,{"$f":"WTZ4","v":"2067-01-24"},null,null,null,null,null,null,{"$f":"WUG4","v":"2067-01-31"},null,null,null,null,null,null,{"$f":"WUN4","v":"2067-02-07"},null,null,null,null,null,null,{"$f":"WUU4","v":"2067-02-14"},null,null,null,null,null,null,{"$f":"WVB4","v":"2067-02-21"},null,null,null,null,null,null,{"$f":"WVI4","v":"2067-02-28"},null,null,null,null,null,null,{"$f":"WVP4","v":"2067-03-07"},null,null,null,null,null,null,{"$f":"WVW4","v":"2067-03-14"},null,null,null,null,null,null,{"$f":"WWD4","v":"2067-03-21"},null,null,null,null,null,null,{"$f":"WWK4","v":"2067-03-28"},null,null,null,null,null,null,{"$f":"WWR4","v":"2067-04-04"},null,null,null,null,null,null,{"$f":"WWY4","v":"2067-04-11"},null,null,null,null,null,null,{"$f":"WXF4","v":"2067-04-18"},null,null,null,null,null,null,{"$f":"WXM4","v":"2067-04-25"},null,null,null,null,null,null,{"$f":"WXT4","v":"2067-05-02"},null,null,null,null,null,null,{"$f":"WYA4","v":"2067-05-09"},null,null,null,null,null,null,{"$f":"WYH4","v":"2067-05-16"},null,null,null,null,null,null,{"$f":"WYO4","v":"2067-05-23"},null,null,null,null,null,null,{"$f":"WYV4","v":"2067-05-30"},null,null,null,null,null,null,{"$f":"WZC4","v":"2067-06-06"},null,null,null,null,null,null,{"$f":"WZJ4","v":"2067-06-13"},null,null,null,null,null,null,{"$f":"WZQ4","v":"2067-06-20"},null,null,null,null,null,null,{"$f":"WZX4","v":"2067-06-27"},null,null,null,null,null,null,{"$f":"XAE4","v":"2067-07-04"},null,null,null,null,null,null,{"$f":"XAL4","v":"2067-07-11"},null,null,null,null,null,null,{"$f":"XAS4","v":"2067-07-18"},null,null,null,null,null,null,{"$f":"XAZ4","v":"2067-07-25"},null,null,null,null,null,null,{"$f":"XBG4","v":"2067-08-01"},null,null,null,null,null,null,{"$f":"XBN4","v":"2067-08-08"},null,null,null,null,null,null,{"$f":"XBU4","v":"2067-08-15"},null,null,null,null,null,null,{"$f":"XCB4","v":"2067-08-22"},null,null,null,null,null,null,{"$f":"XCI4","v":"2067-08-29"},null,null,null,null,null,null,{"$f":"XCP4","v":"2067-09-05"},null,null,null,null,null,null,{"$f":"XCW4","v":"2067-09-12"},null,null,null,null,null,null,{"$f":"XDD4","v":"2067-09-19"},null,null,null,null,null,null,{"$f":"XDK4","v":"2067-09-26"},null,null,null,null,null,null,{"$f":"XDR4","v":"2067-10-03"},null,null,null,null,null,null,{"$f":"XDY4","v":"2067-10-10"},null,null,null,null,null,null,{"$f":"XEF4","v":"2067-10-17"},null,null,null,null,null,null,{"$f":"XEM4","v":"2067-10-24"},null,null,null,null,null,null,{"$f":"XET4","v":"2067-10-31"}]
[null,null,null,null,null,null,null,null,null,null,null,null,null,null,null,null,null,null,null,null,null,{"$f":"AB4","v":"2023-01-29"},null,null,null,null,null,null,{"$f":"AI4","v":"2023-02-05"},null,null,null,null,null,null,{"$f":"AP4","v":"2023-02-12"},null,null,null,null,null,null,{"$f":"AW4","v":"2023-02-19"},null,null,null,null,null,null,{"$f":"BD4","v":"2023-02-26"},null,null,null,null,null,null,{"$f":"BK4","v":"2023-03-05"},null,null,null,null,null,null,{"$f":"BR4","v":"2023-03-12"},null,null,null,null,null,null,{"$f":"BY4","v":"2023-03-19"},null,null,null,null,null,null,{"$f":"CF4","v":"2023-03-26"},null,null,null,null,null,null,{"$f":"CM4","v":"2023-04-02"},null,null,null,null,null,null,{"$f":"CT4","v":"2023-04-09"},null,null,null,null,null,null,{"$f":"DA4","v":"2023-04-16"},null,null,null,null,null,null,{"$f":"DH4","v":"2023-04-23"},null,null,null,null,null,null,{"$f":"DO4","v":"2023-04-30"},null,null,null,null,null,null,{"$f":"DV4","v":"2023-05-07"},null,null,null,null,null,null,{"$f":"EC4","v":"2023-05-14"},null,null,null,null,null,null,{"$f":"EJ4","v":"2023-05-21"},null,null,null,null,null,null,{"$f":"EQ4","v":"2023-05-28"},null,null,null,null,null,null,{"$f":"EX4","v":"2023-06-04"},null,null,null,null,null,null,{"$f":"FE4","v":"2023-06-11"},null,null,null,null,null,null,{"$f":"FL4","v":"2023-06-18"},null,null,null,null,null,null,{"$f":"FS4","v":"2023-06-25"},null,null,null,null,null,null,{"$f":"FZ4","v":"2023-07-02"},null,null,null,null,null,null,{"$f":"GG4","v":"2023-07-09"},null,null,null,null,null,null,{"$f":"GN4","v":"2023-07-16"},null,null,null,null,null,null,{"$f":"GU4","v":"2023-07-23"},null,null,null,null,null,null,{"$f":"HB4","v":"2023-07-30"},null,null,null,null,null,null,{"$f":"HI4","v":"2023-08-06"},null,null,null,null,null,null,{"$f":"HP4","v":"2023-08-13"},null,null,null,null,null,null,{"$f":"HW4","v":"2023-08-20"},null,null,null,null,null,null,{"$f":"ID4","v":"2023-08-27"},null,null,null,null,null,null,{"$f":"IK4","v":"2023-09-03"},null,null,null,null,null,null,{"$f":"IR4","v":"2023-09-10"},null,null,null,null,null,null,{"$f":"IY4","v":"2023-09-17"},null,null,null,null,null,null,{"$f":"JF4","v":"2023-09-24"},null,null,null,null,null,null,{"$f":"JM4","v":"2023-10-01"},null,null,null,null,null,null,{"$f":"JT4","v":"2023-10-08"},null,null,null,null,null,null,{"$f":"KA4","v":"2023-10-15"},null,null,null,null,null,null,{"$f":"KH4","v":"2023-10-22"},null,null,null,null,null,null,{"$f":"KO4","v":"2023-10-29"},null,null,null,null,null,null,{"$f":"KV4","v":"2023-11-05"},null,null,null,null,null,null,{"$f":"LC4","v":"2023-11-12"},null,null,null,null,null,null,{"$f":"LJ4","v":"2023-11-19"},null,null,null,null,null,null,{"$f":"LQ4","v":"2023-11-26"},null,null,null,null,null,null,{"$f":"LX4","v":"2023-12-03"},null,null,null,null,null,null,{"$f":"ME4","v":"2023-12-10"},null,null,null,null,null,null,{"$f":"ML4","v":"2023-12-17"},null,null,null,null,null,null,{"$f":"MS4","v":"2023-12-24"},null,null,null,null,null,null,{"$f":"MZ4","v":"2023-12-31"},null,null,null,null,null,null,{"$f":"NG4","v":"2024-01-07"},null,null,null,null,null,null,{"$f":"NN4","v":"2024-01-14"},null,null,null,null,null,null,{"$f":"NU4","v":"2024-01-21"},null,null,null,null,null,null,{"$f":"OB4","v":"2024-01-28"},null,null,null,null,null,null,{"$f":"OI4","v":"2024-02-04"},null,null,null,null,null,null,{"$f":"OP4","v":"2024-02-11"},null,null,null,null,null,null,{"$f":"OW4","v":"2024-02-18"},null,null,null,null,null,null,{"$f":"PD4","v":"2024-02-25"},null,null,null,null,null,null,{"$f":"PK4","v":"2024-03-03"},null,null,null,null,null,null,{"$f":"PR4","v":"2024-03-10"},null,null,null,null,null,null,{"$f":"PY4","v":"2024-03-17"},null,null,null,null,null,null,{"$f":"QF4","v":"2024-03-24"},null,null,null,null,null,null,{"$f":"QM4","v":"2024-03-31"},null,null,null,null,null,null,{"$f":"QT4","v":"2024-04-07"},null,null,null,null,null,null,{"$f":"RA4","v":"2024-04-14"},null,null,null,null,null,null,{"$f":"RH4","v":"2024-04-21"},null,null,null,null,null,null,{"$f":"RO4","v":"2024-04-28"},null,null,null,null,null,null,{"$f":"RV4","v":"2024-05-05"},null,null,null,null,null,null,{"$f":"SC4","v":"2024-05-12"},null,null,null,null,null,null,{"$f":"SJ4","v":"2024-05-19"},null,null,null,null,null,null,{"$f":"SQ4","v":"2024-05-26"},null,null,null,null,null,null,{"$f":"SX4","v":"2024-06-02"},null,null,null,null,null,null,{"$f":"TE4","v":"2024-06-09"},null,null,null,null,null,null,{"$f":"TL4","v":"2024-06-16"},null,null,null,null,null,null,{"$f":"TS4","v":"2024-06-23"},null,null,null,null,null,null,{"$f":"TZ4","v":"2024-06-30"},null,null,null,null,null,null,{"$f":"UG4","v":"2024-07-07"},null,null,null,null,null,null,{"$f":"UN4","v":"2024-07-14"},null,null,null,null,null,null,{"$f":"UU4","v":"2024-07-21"},null,null,null,null,null,null,{"$f":"VB4","v":"2024-07-28"},null,null,null,null,null,null,{"$f":"VI4","v":"2024-08-04"},null,null,null,null,null,null,{"$f":"VP4","v":"2024-08-11"},null,null,null,null,null,null,{"$f":"VW4","v":"2024-08-18"},null,null,null,null,null,null,{"$f":"WD4","v":"2024-08-25"},null,null,null,null,null,null,{"$f":"WK4","v":"2024-09-01"},null,null,null,null,null,null,{"$f":"WR4","v":"2024-09-08"},null,null,null,null,null,null,{"$f":"WY4","v":"2024-09-15"},null,null,null,null,null,null,{"$f":"XF4","v":"2024-09-22"},null,null,null,null,null,null,{"$f":"XM4","v":"2024-09-29"},null,null,null,null,null,null,{"$f":"XT4","v":"2024-10-06"},null,null,null,null,null,null,{"$f":"YA4","v":"2024-10-13"},null,null,null,null,null,null,{"$f":"YH4","v":"2024-10-20"},null,null,null,null,null,null,{"$f":"YO4","v":"2024-10-27"},null,null,null,null,null,null,{"$f":"YV4","v":"2024-11-03"},null,null,null,null,null,null,{"$f":"ZC4","v":"2024-11-10"},null,null,null,null,null,null,{"$f":"ZJ4","v":"2024-11-17"},null,null,null,null,null,null,{"$f":"ZQ4","v":"2024-11-24"},null,null,null,null,null,null,{"$f":"ZX4","v":"2024-12-01"},null,null,null,null,null,null,{"$f":"AAE4","v":"2024-12-08"},null,null,null,null,null,null,{"$f":"AAL4","v":"2024-12-15"},null,null,null,null,null,null,{"$f":"AAS4","v":"2024-12-22"},null,null,null,null,null,null,{"$f":"AAZ4","v":"2024-12-29"},null,null,null,null,null,null,{"$f":"ABG4","v":"2025-01-05"},null,null,null,null,null,null,{"$f":"ABN4","v":"2025-01-12"},null,null,null,null,null,null,{"$f":"ABU4","v":"2025-01-19"},null,null,null,null,null,null,{"$f":"ACB4","v":"2025-01-26"},null,null,null,null,null,null,{"$f":"ACI4","v":"2025-02-02"},null,null,null,null,null,null,{"$f":"ACP4","v":"2025-02-09"},null,null,null,null,null,null,{"$f":"ACW4","v":"2025-02-16"},null,null,null,null,null,null,{"$f":"ADD4","v":"2025-02-23"},null,null,null,null,null,null,{"$f":"ADK4","v":"2025-03-02"},null,null,null,null,null,null,{"$f":"ADR4","v":"2025-03-09"},null,null,null,null,null,null,{"$f":"ADY4","v":"2025-03-16"},null,null,null,null,null,null,{"$f":"AEF4","v":"2025-03-23"},null,null,null,null,null,null,{"$f":"AEM4","v":"2025-03-30"},null,null,null,null,null,null,{"$f":"AET4","v":"2025-04-06"},null,null,null,null,null,null,{"$f":"AFA4","v":"2025-04-13"},null,null,null,null,null,null,{"$f":"AFH4","v":"2025-04-20"},null,null,null,null,null,null,{"$f":"AFO4","v":"2025-04-27"},null,null,null,null,null,null,{"$f":"AFV4","v":"2025-05-04"},null,null,null,null,null,null,{"$f":"AGC4","v":"2025-05-11"},null,null,null,null,null,null,{"$f":"AGJ4","v":"2025-05-18"},null,null,null,null,null,null,{"$f":"AGQ4","v":"2025-05-25"},null,null,null,null,null,null,{"$f":"AGX4","v":"2025-06-01"},null,null,null,null,null,null,{"$f":"AHE4","v":"2025-06-08"},null,null,null,null,null,null,{"$f":"AHL4","v":"2025-06-15"},null,null,null,null,null,null,{"$f":"AHS4","v":"2025-06-22"},null,null,null,null,null,null,{"$f":"AHZ4","v":"2025-06-29"},null,null,null,null,null,null,{"$f":"AIG4","v":"2025-07-06"},null,null,null,null,null,null,{"$f":"AIN4","v":"2025-07-13"},null,null,null,null,null,null,{"$f":"AIU4","v":"2025-07-20"},null,null,null,null,null,null,{"$f":"AJB4","v":"2025-07-27"},null,null,null,null,null,null,{"$f":"AJI4","v":"2025-08-03"},null,null,null,null,null,null,{"$f":"AJP4","v":"2025-08-10"},null,null,null,null,null,null,{"$f":"AJW4","v":"2025-08-17"},null,null,null,null,null,null,{"$f":"AKD4","v":"2025-08-24"},null,null,null,null,null,null,{"$f":"AKK4","v":"2025-08-31"},null,null,null,null,null,null,{"$f":"AKR4","v":"2025-09-07"},null,null,null,null,null,null,{"$f":"AKY4","v":"2025-09-14"},null,null,null,null,null,null,{"$f":"ALF4","v":"2025-09-21"},null,null,null,null,null,null,{"$f":"ALM4","v":"2025-09-28"},null,null,null,null,null,null,{"$f":"ALT4","v":"2025-10-05"},null,null,null,null,null,null,{"$f":"AMA4","v":"2025-10-12"},null,null,null,null,null,null,{"$f":"AMH4","v":"2025-10-19"},null,null,null,null,null,null,{"$f":"AMO4","v":"2025-10-26"},null,null,null,null,null,null,{"$f":"AMV4","v":"2025-11-02"},null,null,null,null,null,null,{"$f":"ANC4","v":"2025-11-09"},null,null,null,null,null,null,{"$f":"ANJ4","v":"2025-11-16"},null,null,null,null,null,null,{"$f":"ANQ4","v":"2025-11-23"},null,null,null,null,null,null,{"$f":"ANX4","v":"2025-11-30"},null,null,null,null,null,null,{"$f":"AOE4","v":"2025-12-07"},null,null,null,null,null,null,{"$f":"AOL4","v":"2025-12-14"},null,null,null,null,null,null,{"$f":"AOS4","v":"2025-12-21"},null,null,null,null,null,null,{"$f":"AOZ4","v":"2025-12-28"},null,null,null,null,null,null,{"$f":"APG4","v":"2026-01-04"},null,null,null,null,null,null,{"$f":"APN4","v":"2026-01-11"},null,null,null,null,null,null,{"$f":"APU4","v":"2026-01-18"},null,null,null,null,null,null,{"$f":"AQB4","v":"2026-01-25"},null,null,null,null,null,null,{"$f":"AQI4","v":"2026-02-01"},null,null,null,null,null,null,{"$f":"AQP4","v":"2026-02-08"},null,null,null,null,null,null,{"$f":"AQW4","v":"2026-02-15"},null,null,null,null,null,null,{"$f":"ARD4","v":"2026-02-22"},null,null,null,null,null,null,{"$f":"ARK4","v":"2026-03-01"},null,null,null,null,null,null,{"$f":"ARR4","v":"2026-03-08"},null,null,null,null,null,null,{"$f":"ARY4","v":"2026-03-15"},null,null,null,null,null,null,{"$f":"ASF4","v":"2026-03-22"},null,null,null,null,null,null,{"$f":"ASM4","v":"2026-03-29"},null,null,null,null,null,null,{"$f":"AST4","v":"2026-04-05"},null,null,null,null,null,null,{"$f":"ATA4","v":"2026-04-12"},null,null,null,null,null,null,{"$f":"ATH4","v":"2026-04-19"},null,null,null,null,null,null,{"$f":"ATO4","v":"2026-04-26"},null,null,null,null,null,null,{"$f":"ATV4","v":"2026-05-03"},null,null,null,null,null,null,{"$f":"AUC4","v":"2026-05-10"},null,null,null,null,null,null,{"$f":"AUJ4","v":"2026-05-17"},null,null,null,null,null,null,{"$f":"AUQ4","v":"2026-05-24"},null,null,null,null,null,null,{"$f":"AUX4","v":"2026-05-31"},null,null,null,null,null,null,{"$f":"AVE4","v":"2026-06-07"},null,null,null,null,null,null,{"$f":"AVL4","v":"2026-06-14"},null,null,null,null,null,null,{"$f":"AVS4","v":"2026-06-21"},null,null,null,null,null,null,{"$f":"AVZ4","v":"2026-06-28"},null,null,null,null,null,null,{"$f":"AWG4","v":"2026-07-05"},null,null,null,null,null,null,{"$f":"AWN4","v":"2026-07-12"},null,null,null,null,null,null,{"$f":"AWU4","v":"2026-07-19"},null,null,null,null,null,null,{"$f":"AXB4","v":"2026-07-26"},null,null,null,null,null,null,{"$f":"AXI4","v":"2026-08-02"},null,null,null,null,null,null,{"$f":"AXP4","v":"2026-08-09"},null,null,null,null,null,null,{"$f":"AXW4","v":"2026-08-16"},null,null,null,null,null,null,{"$f":"AYD4","v":"2026-08-23"},null,null,null,null,null,null,{"$f":"AYK4","v":"2026-08-30"},null,null,null,null,null,null,{"$f":"AYR4","v":"2026-09-06"},null,null,null,null,null,null,{"$f":"AYY4","v":"2026-09-13"},null,null,null,null,null,null,{"$f":"AZF4","v":"2026-09-20"},null,null,null,null,null,null,{"$f":"AZM4","v":"2026-09-27"},null,null,null,null,null,null,{"$f":"AZT4","v":"2026-10-04"},null,null,null,null,null,null,{"$f":"BAA4","v":"2026-10-11"},null,null,null,null,null,null,{"$f":"BAH4","v":"2026-10-18"},null,null,null,null,null,null,{"$f":"BAO4","v":"2026-10-25"},null,null,null,null,null,null,{"$f":"BAV4","v":"2026-11-01"},null,null,null,null,null,null,{"$f":"BBC4","v":"2026-11-08"},null,null,null,null,null,null,{"$f":"BBJ4","v":"2026-11-15"},null,null,null,null,null,null,{"$f":"BBQ4","v":"2026-11-22"},null,null,null,null,null,null,{"$f":"BBX4","v":"2026-11-29"},null,null,null,null,null,null,{"$f":"BCE4","v":"2026-12-06"},null,null,null,null,null,null,{"$f":"BCL4","v":"2026-12-13"},null,null,null,null,null,null,{"$f":"BCS4","v":"2026-12-20"},null,null,null,null,null,null,{"$f":"BCZ4","v":"2026-12-27"},null,null,null,null,null,null,{"$f":"BDG4","v":"2027-01-03"},null,null,null,null,null,null,{"$f":"BDN4","v":"2027-01-10"},null,null,null,null,null,null,{"$f":"BDU4","v":"2027-01-17"},null,null,null,null,null,null,{"$f":"BEB4","v":"2027-01-24"},null,null,null,null,null,null,{"$f":"BEI4","v":"2027-01-31"},null,null,null,null,null,null,{"$f":"BEP4","v":"2027-02-07"},null,null,null,null,null,null,{"$f":"BEW4","v":"2027-02-14"},null,null,null,null,null,null,{"$f":"BFD4","v":"2027-02-21"},null,null,null,null,null,null,{"$f":"BFK4","v":"2027-02-28"},null,null,null,null,null,null,{"$f":"BFR4","v":"2027-03-07"},null,null,null,null,null,null,{"$f":"BFY4","v":"2027-03-14"},null,null,null,null,null,null,{"$f":"BGF4","v":"2027-03-21"},null,null,null,null,null,null,{"$f":"BGM4","v":"2027-03-28"},null,null,null,null,null,null,{"$f":"BGT4","v":"2027-04-04"},null,null,null,null,null,null,{"$f":"BHA4","v":"2027-04-11"},null,null,null,null,null,null,{"$f":"BHH4","v":"2027-04-18"},null,null,null,null,null,null,{"$f":"BHO4","v":"2027-04-25"},null,null,null,null,null,null,{"$f":"BHV4","v":"2027-05-02"},null,null,null,null,null,null,{"$f":"BIC4","v":"2027-05-09"},null,null,null,null,null,null,{"$f":"BIJ4","v":"2027-05-16"},null,null,null,null,null,null,{"$f":"BIQ4","v":"2027-05-23"},null,null,null,null,null,null,{"$f":"BIX4","v":"2027-05-30"},null,null,null,null,null,null,{"$f":"BJE4","v":"2027-06-06"},null,null,null,null,null,null,{"$f":"BJL4","v":"2027-06-13"},null,null,null,null,null,null,{"$f":"BJS4","v":"2027-06-20"},null,null,null,null,null,null,{"$f":"BJZ4","v":"2027-06-27"},null,null,null,null,null,null,{"$f":"BKG4","v":"2027-07-04"},null,null,null,null,null,null,{"$f":"BKN4","v":"2027-07-11"},null,null,null,null,null,null,{"$f":"BKU4","v":"2027-07-18"},null,null,null,null,null,null,{"$f":"BLB4","v":"2027-07-25"},null,null,null,null,null,null,{"$f":"BLI4","v":"2027-08-01"},null,null,null,null,null,null,{"$f":"BLP4","v":"2027-08-08"},null,null,null,null,null,null,{"$f":"BLW4","v":"2027-08-15"},null,null,null,null,null,null,{"$f":"BMD4","v":"2027-08-22"},null,null,null,null,null,null,{"$f":"BMK4","v":"2027-08-29"},null,null,null,null,null,null,{"$f":"BMR4","v":"2027-09-05"},null,null,null,null,null,null,{"$f":"BMY4","v":"2027-09-12"},null,null,null,null,null,null,{"$f":"BNF4","v":"2027-09-19"},null,null,null,null,null,null,{"$f":"BNM4","v":"2027-09-26"},null,null,null,null,null,null,{"$f":"BNT4","v":"2027-10-03"},null,null,null,null,null,null,{"$f":"BOA4","v":"2027-10-10"},null,null,null,null,null,null,{"$f":"BOH4","v":"2027-10-17"},null,null,null,null,null,null,{"$f":"BOO4","v":"2027-10-24"},null,null,null,null,null,null,{"$f":"BOV4","v":"2027-10-31"},null,null,null,null,null,null,{"$f":"BPC4","v":"2027-11-07"},null,null,null,null,null,null,{"$f":"BPJ4","v":"2027-11-14"},null,null,null,null,null,null,{"$f":"BPQ4","v":"2027-11-21"},null,null,null,null,null,null,{"$f":"BPX4","v":"2027-11-28"},null,null,null,null,null,null,{"$f":"BQE4","v":"2027-12-05"},null,null,null,null,null,null,{"$f":"BQL4","v":"2027-12-12"},null,null,null,null,null,null,{"$f":"BQS4","v":"2027-12-19"},null,null,null,null,null,null,{"$f":"BQZ4","v":"2027-12-26"},null,null,null,null,null,null,{"$f":"BRG4","v":"2028-01-02"},null,null,null,null,null,null,{"$f":"BRN4","v":"2028-01-09"},null,null,null,null,null,null,{"$f":"BRU4","v":"2028-01-16"},null,null,null,null,null,null,{"$f":"BSB4","v":"2028-01-23"},null,null,null,null,null,null,{"$f":"BSI4","v":"2028-01-30"},null,null,null,null,null,null,{"$f":"BSP4","v":"2028-02-06"},null,null,null,null,null,null,{"$f":"BSW4","v":"2028-02-13"},null,null,null,null,null,null,{"$f":"BTD4","v":"2028-02-20"},null,null,null,null,null,null,{"$f":"BTK4","v":"2028-02-27"},null,null,null,null,null,null,{"$f":"BTR4","v":"2028-03-05"},null,null,null,null,null,null,{"$f":"BTY4","v":"2028-03-12"},null,null,null,null,null,null,{"$f":"BUF4","v":"2028-03-19"},null,null,null,null,null,null,{"$f":"BUM4","v":"2028-03-26"},null,null,null,null,null,null,{"$f":"BUT4","v":"2028-04-02"},null,null,null,null,null,null,{"$f":"BVA4","v":"2028-04-09"},null,null,null,null,null,null,{"$f":"BVH4","v":"2028-04-16"},null,null,null,null,null,null,{"$f":"BVO4","v":"2028-04-23"},null,null,null,null,null,null,{"$f":"BVV4","v":"2028-04-30"},null,null,null,null,null,null,{"$f":"BWC4","v":"2028-05-07"},null,null,null,null,null,null,{"$f":"BWJ4","v":"2028-05-14"},null,null,null,null,null,null,{"$f":"BWQ4","v":"2028-05-21"},null,null,null,null,null,null,{"$f":"BWX4","v":"2028-05-28"},null,null,null,null,null,null,{"$f":"BXE4","v":"2028-06-04"},null,null,null,null,null,null,{"$f":"BXL4","v":"2028-06-11"},null,null,null,null,null,null,{"$f":"BXS4","v":"2028-06-18"},null,null,null,null,null,null,{"$f":"BXZ4","v":"2028-06-25"},null,null,null,null,null,null,{"$f":"BYG4","v":"2028-07-02"},null,null,null,null,null,null,{"$f":"BYN4","v":"2028-07-09"},null,null,null,null,null,null,{"$f":"BYU4","v":"2028-07-16"},null,null,null,null,null,null,{"$f":"BZB4","v":"2028-07-23"},null,null,null,null,null,null,{"$f":"BZI4","v":"2028-07-30"},null,null,null,null,null,null,{"$f":"BZP4","v":"2028-08-06"},null,null,null,null,null,null,{"$f":"BZW4","v":"2028-08-13"},null,null,null,null,null,null,{"$f":"CAD4","v":"2028-08-20"},null,null,null,null,null,null,{"$f":"CAK4","v":"2028-08-27"},null,null,null,null,null,null,{"$f":"CAR4","v":"2028-09-03"},null,null,null,null,null,null,{"$f":"CAY4","v":"2028-09-10"},null,null,null,null,null,null,{"$f":"CBF4","v":"2028-09-17"},null,null,null,null,null,null,{"$f":"CBM4","v":"2028-09-24"},null,null,null,null,null,null,{"$f":"CBT4","v":"2028-10-01"},null,null,null,null,null,null,{"$f":"CCA4","v":"2028-10-08"},null,null,null,null,null,null,{"$f":"CCH4","v":"2028-10-15"},null,null,null,null,null,null,{"$f":"CCO4","v":"2028-10-22"},null,null,null,null,null,null,{"$f":"CCV4","v":"2028-10-29"},null,null,null,null,null,null,{"$f":"CDC4","v":"2028-11-05"},null,null,null,null,null,null,{"$f":"CDJ4","v":"2028-11-12"},null,null,null,null,null,null,{"$f":"CDQ4","v":"2028-11-19"},null,null,null,null,null,null,{"$f":"CDX4","v":"2028-11-26"},null,null,null,null,null,null,{"$f":"CEE4","v":"2028-12-03"},null,null,null,null,null,null,{"$f":"CEL4","v":"2028-12-10"},null,null,null,null,null,null,{"$f":"CES4","v":"2028-12-17"},null,null,null,null,null,null,{"$f":"CEZ4","v":"2028-12-24"},null,null,null,null,null,null,{"$f":"CFG4","v":"2028-12-31"},null,null,null,null,null,null,{"$f":"CFN4","v":"2029-01-07"},null,null,null,null,null,null,{"$f":"CFU4","v":"2029-01-14"},null,null,null,null,null,null,{"$f":"CGB4","v":"2029-01-21"},null,null,null,null,null,null,{"$f":"CGI4","v":"2029-01-28"},null,null,null,null,null,null,{"$f":"CGP4","v":"2029-02-04"},null,null,null,null,null,null,{"$f":"CGW4","v":"2029-02-11"},null,null,null,null,null,null,{"$f":"CHD4","v":"2029-02-18"},null,null,null,null,null,null,{"$f":"CHK4","v":"2029-02-25"},null,null,null,null,null,null,{"$f":"CHR4","v":"2029-03-04"},null,null,null,null,null,null,{"$f":"CHY4","v":"2029-03-11"},null,null,null,null,null,null,{"$f":"CIF4","v":"2029-03-18"},null,null,null,null,null,null,{"$f":"CIM4","v":"2029-03-25"},null,null,null,null,null,null,{"$f":"CIT4","v":"2029-04-01"},null,null,null,null,null,null,{"$f":"CJA4","v":"2029-04-08"},null,null,null,null,null,null,{"$f":"CJH4","v":"2029-04-15"},null,null,null,null,null,null,{"$f":"CJO4","v":"2029-04-22"},null,null,null,null,null,null,{"$f":"CJV4","v":"2029-04-29"},null,null,null,null,null,null,{"$f":"CKC4","v":"2029-05-06"},null,null,null,null,null,null,{"$f":"CKJ4","v":"2029-05-13"},null,null,null,null,null,null,{"$f":"CKQ4","v":"2029-05-20"},null,null,null,null,null,null,{"$f":"CKX4","v":"2029-05-27"},null,null,null,null,null,null,{"$f":"CLE4","v":"2029-06-03"},null,null,null,null,null,null,{"$f":"CLL4","v":"2029-06-10"},null,null,null,null,null,null,{"$f":"CLS4","v":"2029-06-17"},null,null,null,null,null,null,{"$f":"CLZ4","v":"2029-06-24"},null,null,null,null,null,null,{"$f":"CMG4","v":"2029-07-01"},null,null,null,null,null,null,{"$f":"CMN4","v":"2029-07-08"},null,null,null,null,null,null,{"$f":"CMU4","v":"2029-07-15"},null,null,null,null,null,null,{"$f":"CNB4","v":"2029-07-22"},null,null,null,null,null,null,{"$f":"CNI4","v":"2029-07-29"},null,null,null,null,null,null,{"$f":"CNP4","v":"2029-08-05"},null,null,null,null,null,null,{"$f":"CNW4","v":"2029-08-12"},null,null,null,null,null,null,{"$f":"COD4","v":"2029-08-19"},null,null,null,null,null,null,{"$f":"COK4","v":"2029-08-26"},null,null,null,null,null,null,{"$f":"COR4","v":"2029-09-02"},null,null,null,null,null,null,{"$f":"COY4","v":"2029-09-09"},null,null,null,null,null,null,{"$f":"CPF4","v":"2029-09-16"},null,null,null,null,null,null,{"$f":"CPM4","v":"2029-09-23"},null,null,null,null,null,null,{"$f":"CPT4","v":"2029-09-30"},null,null,null,null,null,null,{"$f":"CQA4","v":"2029-10-07"},null,null,null,null,null,null,{"$f":"CQH4","v":"2029-10-14"},null,null,null,null,null,null,{"$f":"CQO4","v":"2029-10-21"},null,null,null,null,null,null,{"$f":"CQV4","v":"2029-10-28"},null,null,null,null,null,null,{"$f":"CRC4","v":"2029-11-04"},null,null,null,null,null,null,{"$f":"CRJ4","v":"2029-11-11"},null,null,null,null,null,null,{"$f":"CRQ4","v":"2029-11-18"},null,null,null,null,null,null,{"$f":"CRX4","v":"2029-11-25"},null,null,null,null,null,null,{"$f":"CSE4","v":"2029-12-02"},null,null,null,null,null,null,{"$f":"CSL4","v":"2029-12-09"},null,null,null,null,null,null,{"$f":"CSS4","v":"2029-12-16"},null,null,null,null,null,null,{"$f":"CSZ4","v":"2029-12-23"},null,null,null,null,null,null,{"$f":"CTG4","v":"2029-12-30"},null,null,null,null,null,null,{"$f":"CTN4","v":"2030-01-06"},null,null,null,null,null,null,{"$f":"CTU4","v":"2030-01-13"},null,null,null,null,null,null,{"$f":"CUB4","v":"2030-01-20"},null,null,null,null,null,null,{"$f":"CUI4","v":"2030-01-27"},null,null,null,null,null,null,{"$f":"CUP4","v":"2030-02-03"},null,null,null,null,null,null,{"$f":"CUW4","v":"2030-02-10"},null,null,null,null,null,null,{"$f":"CVD4","v":"2030-02-17"},null,null,null,null,null,null,{"$f":"CVK4","v":"2030-02-24"},null,null,null,null,null,null,{"$f":"CVR4","v":"2030-03-03"},null,null,null,null,null,null,{"$f":"CVY4","v":"2030-03-10"},null,null,null,null,null,null,{"$f":"CWF4","v":"2030-03-17"},null,null,null,null,null,null,{"$f":"CWM4","v":"2030-03-24"},null,null,null,null,null,null,{"$f":"CWT4","v":"2030-03-31"},null,null,null,null,null,null,{"$f":"CXA4","v":"2030-04-07"},null,null,null,null,null,null,{"$f":"CXH4","v":"2030-04-14"},null,null,null,null,null,null,{"$f":"CXO4","v":"2030-04-21"},null,null,null,null,null,null,{"$f":"CXV4","v":"2030-04-28"},null,null,null,null,null,null,{"$f":"CYC4","v":"2030-05-05"},null,null,null,null,null,null,{"$f":"CYJ4","v":"2030-05-12"},null,null,null,null,null,null,{"$f":"CYQ4","v":"2030-05-19"},null,null,null,null,null,null,{"$f":"CYX4","v":"2030-05-26"},null,null,null,null,null,null,{"$f":"CZE4","v":"2030-06-02"},null,null,null,null,null,null,{"$f":"CZL4","v":"2030-06-09"},null,null,null,null,null,null,{"$f":"CZS4","v":"2030-06-16"},null,null,null,null,null,null,{"$f":"CZZ4","v":"2030-06-23"},null,null,null,null,null,null,{"$f":"DAG4","v":"2030-06-30"},null,null,null,null,null,null,{"$f":"DAN4","v":"2030-07-07"},null,null,null,null,null,null,{"$f":"DAU4","v":"2030-07-14"},null,null,null,null,null,null,{"$f":"DBB4","v":"2030-07-21"},null,null,null,null,null,null,{"$f":"DBI4","v":"2030-07-28"},null,null,null,null,null,null,{"$f":"DBP4","v":"2030-08-04"},null,null,null,null,null,null,{"$f":"DBW4","v":"2030-08-11"},null,null,null,null,null,null,{"$f":"DCD4","v":"2030-08-18"},null,null,null,null,null,null,{"$f":"DCK4","v":"2030-08-25"},null,null,null,null,null,null,{"$f":"DCR4","v":"2030-09-01"},null,null,null,null,null,null,{"$f":"DCY4","v":"2030-09-08"},null,null,null,null,null,null,{"$f":"DDF4","v":"2030-09-15"},null,null,null,null,null,null,{"$f":"DDM4","v":"2030-09-22"},null,null,null,null,null,null,{"$f":"DDT4","v":"2030-09-29"},null,null,null,null,null,null,{"$f":"DEA4","v":"2030-10-06"},null,null,null,null,null,null,{"$f":"DEH4","v":"2030-10-13"},null,null,null,null,null,null,{"$f":"DEO4","v":"2030-10-20"},null,null,null,null,null,null,{"$f":"DEV4","v":"2030-10-27"},null,null,null,null,null,null,{"$f":"DFC4","v":"2030-11-03"},null,null,null,null,null,null,{"$f":"DFJ4","v":"2030-11-10"},null,null,null,null,null,null,{"$f":"DFQ4","v":"2030-11-17"},null,null,null,null,null,null,{"$f":"DFX4","v":"2030-11-24"},null,null,null,null,null,null,{"$f":"DGE4","v":"2030-12-01"},null,null,null,null,null,null,{"$f":"DGL4","v":"2030-12-08"},null,null,null,null,null,null,{"$f":"DGS4","v":"2030-12-15"},null,null,null,null,null,null,{"$f":"DGZ4","v":"2030-12-22"},null,null,null,null,null,null,{"$f":"DHG4","v":"2030-12-29"},null,null,null,null,null,null,{"$f":"DHN4","v":"2031-01-05"},null,null,null,null,null,null,{"$f":"DHU4","v":"2031-01-12"},null,null,null,null,null,null,{"$f":"DIB4","v":"2031-01-19"},null,null,null,null,null,null,{"$f":"DII4","v":"2031-01-26"},null,null,null,null,null,null,{"$f":"DIP4","v":"2031-02-02"},null,null,null,null,null,null,{"$f":"DIW4","v":"2031-02-09"},null,null,null,null,null,null,{"$f":"DJD4","v":"2031-02-16"},null,null,null,null,null,null,{"$f":"DJK4","v":"2031-02-23"},null,null,null,null,null,null,{"$f":"DJR4","v":"2031-03-02"},null,null,null,null,null,null,{"$f":"DJY4","v":"2031-03-09"},null,null,null,null,null,null,{"$f":"DKF4","v":"2031-03-16"},null,null,null,null,null,null,{"$f":"DKM4","v":"2031-03-23"},null,null,null,null,null,null,{"$f":"DKT4","v":"2031-03-30"},null,null,null,null,null,null,{"$f":"DLA4","v":"2031-04-06"},null,null,null,null,null,null,{"$f":"DLH4","v":"2031-04-13"},null,null,null,null,null,null,{"$f":"DLO4","v":"2031-04-20"},null,null,null,null,null,null,{"$f":"DLV4","v":"2031-04-27"},null,null,null,null,null,null,{"$f":"DMC4","v":"2031-05-04"},null,null,null,null,null,null,{"$f":"DMJ4","v":"2031-05-11"},null,null,null,null,null,null,{"$f":"DMQ4","v":"2031-05-18"},null,null,null,null,null,null,{"$f":"DMX4","v":"2031-05-25"},null,null,null,null,null,null,{"$f":"DNE4","v":"2031-06-01"},null,null,null,null,null,null,{"$f":"DNL4","v":"2031-06-08"},null,null,null,null,null,null,{"$f":"DNS4","v":"2031-06-15"},null,null,null,null,null,null,{"$f":"DNZ4","v":"2031-06-22"},null,null,null,null,null,null,{"$f":"DOG4","v":"2031-06-29"},null,null,null,null,null,null,{"$f":"DON4","v":"2031-07-06"},null,null,null,null,null,null,{"$f":"DOU4","v":"2031-07-13"},null,null,null,null,null,null,{"$f":"DPB4","v":"2031-07-20"},null,null,null,null,null,null,{"$f":"DPI4","v":"2031-07-27"},null,null,null,null,null,null,{"$f":"DPP4","v":"2031-08-03"},null,null,null,null,null,null,{"$f":"DPW4","v":"2031-08-10"},null,null,null,null,null,null,{"$f":"DQD4","v":"2031-08-17"},null,null,null,null,null,null,{"$f":"DQK4","v":"2031-08-24"},null,null,null,null,null,null,{"$f":"DQR4","v":"2031-08-31"},null,null,null,null,null,null,{"$f":"DQY4","v":"2031-09-07"},null,null,null,null,null,null,{"$f":"DRF4","v":"2031-09-14"},null,null,null,null,null,null,{"$f":"DRM4","v":"2031-09-21"},null,null,null,null,null,null,{"$f":"DRT4","v":"2031-09-28"},null,null,null,null,null,null,{"$f":"DSA4","v":"2031-10-05"},null,null,null,null,null,null,{"$f":"DSH4","v":"2031-10-12"},null,null,null,null,null,null,{"$f":"DSO4","v":"2031-10-19"},null,null,null,null,null,null,{"$f":"DSV4","v":"2031-10-26"},null,null,null,null,null,null,{"$f":"DTC4","v":"2031-11-02"},null,null,null,null,null,null,{"$f":"DTJ4","v":"2031-11-09"},null,null,null,null,null,null,{"$f":"DTQ4","v":"2031-11-16"},null,null,null,null,null,null,{"$f":"DTX4","v":"2031-11-23"},null,null,null,null,null,null,{"$f":"DUE4","v":"2031-11-30"},null,null,null,null,null,null,{"$f":"DUL4","v":"2031-12-07"},null,null,null,null,null,null,{"$f":"DUS4","v":"2031-12-14"},null,null,null,null,null,null,{"$f":"DUZ4","v":"2031-12-21"},null,null,null,null,null,null,{"$f":"DVG4","v":"2031-12-28"},null,null,null,null,null,null,{"$f":"DVN4","v":"2032-01-04"},null,null,null,null,null,null,{"$f":"DVU4","v":"2032-01-11"},null,null,null,null,null,null,{"$f":"DWB4","v":"2032-01-18"},null,null,null,null,null,null,{"$f":"DWI4","v":"2032-01-25"},null,null,null,null,null,null,{"$f":"DWP4","v":"2032-02-01"},null,null,null,null,null,null,{"$f":"DWW4","v":"2032-02-08"},null,null,null,null,null,null,{"$f":"DXD4","v":"2032-02-15"},null,null,null,null,null,null,{"$f":"DXK4","v":"2032-02-22"},null,null,null,null,null,null,{"$f":"DXR4","v":"2032-02-29"},null,null,null,null,null,null,{"$f":"DXY4","v":"2032-03-07"},null,null,null,null,null,null,{"$f":"DYF4","v":"2032-03-14"},null,null,null,null,null,null,{"$f":"DYM4","v":"2032-03-21"},null,null,null,null,null,null,{"$f":"DYT4","v":"2032-03-28"},null,null,null,null,null,null,{"$f":"DZA4","v":"2032-04-04"},null,null,null,null,null,null,{"$f":"DZH4","v":"2032-04-11"},null,null,null,null,null,null,{"$f":"DZO4","v":"2032-04-18"},null,null,null,null,null,null,{"$f":"DZV4","v":"2032-04-25"},null,null,null,null,null,null,{"$f":"EAC4","v":"2032-05-02"},null,null,null,null,null,null,{"$f":"EAJ4","v":"2032-05-09"},null,null,null,null,null,null,{"$f":"EAQ4","v":"2032-05-16"},null,null,null,null,null,null,{"$f":"EAX4","v":"2032-05-23"},null,null,null,null,null,null,{"$f":"EBE4","v":"2032-05-30"},null,null,null,null,null,null,{"$f":"EBL4","v":"2032-06-06"},null,null,null,null,null,null,{"$f":"EBS4","v":"2032-06-13"},null,null,null,null,null,null,{"$f":"EBZ4","v":"2032-06-20"},null,null,null,null,null,null,{"$f":"ECG4","v":"2032-06-27"},null,null,null,null,null,null,{"$f":"ECN4","v":"2032-07-04"},null,null,null,null,null,null,{"$f":"ECU4","v":"2032-07-11"},null,null,null,null,null,null,{"$f":"EDB4","v":"2032-07-18"},null,null,null,null,null,null,{"$f":"EDI4","v":"2032-07-25"},null,null,null,null,null,null,{"$f":"EDP4","v":"2032-08-01"},null,null,null,null,null,null,{"$f":"EDW4","v":"2032-08-08"},null,null,null,null,null,null,{"$f":"EED4","v":"2032-08-15"},null,null,null,null,null,null,{"$f":"EEK4","v":"2032-08-22"},null,null,null,null,null,null,{"$f":"EER4","v":"2032-08-29"},null,null,null,null,null,null,{"$f":"EEY4","v":"2032-09-05"},null,null,null,null,null,null,{"$f":"EFF4","v":"2032-09-12"},null,null,null,null,null,null,{"$f":"EFM4","v":"2032-09-19"},null,null,null,null,null,null,{"$f":"EFT4","v":"2032-09-26"},null,null,null,null,null,null,{"$f":"EGA4","v":"2032-10-03"},null,null,null,null,null,null,{"$f":"EGH4","v":"2032-10-10"},null,null,null,null,null,null,{"$f":"EGO4","v":"2032-10-17"},null,null,null,null,null,null,{"$f":"EGV4","v":"2032-10-24"},null,null,null,null,null,null,{"$f":"EHC4","v":"2032-10-31"},null,null,null,null,null,null,{"$f":"EHJ4","v":"2032-11-07"},null,null,null,null,null,null,{"$f":"EHQ4","v":"2032-11-14"},null,null,null,null,null,null,{"$f":"EHX4","v":"2032-11-21"},null,null,null,null,null,null,{"$f":"EIE4","v":"2032-11-28"},null,null,null,null,null,null,{"$f":"EIL4","v":"2032-12-05"},null,null,null,null,null,null,{"$f":"EIS4","v":"2032-12-12"},null,null,null,null,null,null,{"$f":"EIZ4","v":"2032-12-19"},null,null,null,null,null,null,{"$f":"EJG4","v":"2032-12-26"},null,null,null,null,null,null,{"$f":"EJN4","v":"2033-01-02"},null,null,null,null,null,null,{"$f":"EJU4","v":"2033-01-09"},null,null,null,null,null,null,{"$f":"EKB4","v":"2033-01-16"},null,null,null,null,null,null,{"$f":"EKI4","v":"2033-01-23"},null,null,null,null,null,null,{"$f":"EKP4","v":"2033-01-30"},null,null,null,null,null,null,{"$f":"EKW4","v":"2033-02-06"},null,null,null,null,null,null,{"$f":"ELD4","v":"2033-02-13"},null,null,null,null,null,null,{"$f":"ELK4","v":"2033-02-20"},null,null,null,null,null,null,{"$f":"ELR4","v":"2033-02-27"},null,null,null,null,null,null,{"$f":"ELY4","v":"2033-03-06"},null,null,null,null,null,null,{"$f":"EMF4","v":"2033-03-13"},null,null,null,null,null,null,{"$f":"EMM4","v":"2033-03-20"},null,null,null,null,null,null,{"$f":"EMT4","v":"2033-03-27"},null,null,null,null,null,null,{"$f":"ENA4","v":"2033-04-03"},null,null,null,null,null,null,{"$f":"ENH4","v":"2033-04-10"},null,null,null,null,null,null,{"$f":"ENO4","v":"2033-04-17"},null,null,null,null,null,null,{"$f":"ENV4","v":"2033-04-24"},null,null,null,null,null,null,{"$f":"EOC4","v":"2033-05-01"},null,null,null,null,null,null,{"$f":"EOJ4","v":"2033-05-08"},null,null,null,null,null,null,{"$f":"EOQ4","v":"2033-05-15"},null,null,null,null,null,null,{"$f":"EOX4","v":"2033-05-22"},null,null,null,null,null,null,{"$f":"EPE4","v":"2033-05-29"},null,null,null,null,null,null,{"$f":"EPL4","v":"2033-06-05"},null,null,null,null,null,null,{"$f":"EPS4","v":"2033-06-12"},null,null,null,null,null,null,{"$f":"EPZ4","v":"2033-06-19"},null,null,null,null,null,null,{"$f":"EQG4","v":"2033-06-26"},null,null,null,null,null,null,{"$f":"EQN4","v":"2033-07-03"},null,null,null,null,null,null,{"$f":"EQU4","v":"2033-07-10"},null,null,null,null,null,null,{"$f":"ERB4","v":"2033-07-17"},null,null,null,null,null,null,{"$f":"ERI4","v":"2033-07-24"},null,null,null,null,null,null,{"$f":"ERP4","v":"2033-07-31"},null,null,null,null,null,null,{"$f":"ERW4","v":"2033-08-07"},null,null,null,null,null,null,{"$f":"ESD4","v":"2033-08-14"},null,null,null,null,null,null,{"$f":"ESK4","v":"2033-08-21"},null,null,null,null,null,null,{"$f":"ESR4","v":"2033-08-28"},null,null,null,null,null,null,{"$f":"ESY4","v":"2033-09-04"},null,null,null,null,null,null,{"$f":"ETF4","v":"2033-09-11"},null,null,null,null,null,null,{"$f":"ETM4","v":"2033-09-18"},null,null,null,null,null,null,{"$f":"ETT4","v":"2033-09-25"},null,null,null,null,null,null,{"$f":"EUA4","v":"2033-10-02"},null,null,null,null,null,null,{"$f":"EUH4","v":"2033-10-09"},null,null,null,null,null,null,{"$f":"EUO4","v":"2033-10-16"},null,null,null,null,null,null,{"$f":"EUV4","v":"2033-10-23"},null,null,null,null,null,null,{"$f":"EVC4","v":"2033-10-30"},null,null,null,null,null,null,{"$f":"EVJ4","v":"2033-11-06"},null,null,null,null,null,null,{"$f":"EVQ4","v":"2033-11-13"},null,null,null,null,null,null,{"$f":"EVX4","v":"2033-11-20"},null,null,null,null,null,null,{"$f":"EWE4","v":"2033-11-27"},null,null,null,null,null,null,{"$f":"EWL4","v":"2033-12-04"},null,null,null,null,null,null,{"$f":"EWS4","v":"2033-12-11"},null,null,null,null,null,null,{"$f":"EWZ4","v":"2033-12-18"},null,null,null,null,null,null,{"$f":"EXG4","v":"2033-12-25"},null,null,null,null,null,null,{"$f":"EXN4","v":"2034-01-01"},null,null,null,null,null,null,{"$f":"EXU4","v":"2034-01-08"},null,null,null,null,null,null,{"$f":"EYB4","v":"2034-01-15"},null,null,null,null,null,null,{"$f":"EYI4","v":"2034-01-22"},null,null,null,null,null,null,{"$f":"EYP4","v":"2034-01-29"},null,null,null,null,null,null,{"$f":"EYW4","v":"2034-02-05"},null,null,null,null,null,null,{"$f":"EZD4","v":"2034-02-12"},null,null,null,null,null,null,{"$f":"EZK4","v":"2034-02-19"},null,null,null,null,null,null,{"$f":"EZR4","v":"2034-02-26"},null,null,null,null,null,null,{"$f":"EZY4","v":"2034-03-05"},null,null,null,null,null,null,{"$f":"FAF4","v":"2034-03-12"},null,null,null,null,null,null,{"$f":"FAM4","v":"2034-03-19"},null,null,null,null,null,null,{"$f":"FAT4","v":"2034-03-26"},null,null,null,null,null,null,{"$f":"FBA4","v":"2034-04-02"},null,null,null,null,null,null,{"$f":"FBH4","v":"2034-04-09"},null,null,null,null,null,null,{"$f":"FBO4","v":"2034-04-16"},null,null,null,null,null,null,{"$f":"FBV4","v":"2034-04-23"},null,null,null,null,null,null,{"$f":"FCC4","v":"2034-04-30"},null,null,null,null,null,null,{"$f":"FCJ4","v":"2034-05-07"},null,null,null,null,null,null,{"$f":"FCQ4","v":"2034-05-14"},null,null,null,null,null,null,{"$f":"FCX4","v":"2034-05-21"},null,null,null,null,null,null,{"$f":"FDE4","v":"2034-05-28"},null,null,null,null,null,null,{"$f":"FDL4","v":"2034-06-04"},null,null,null,null,null,null,{"$f":"FDS4","v":"2034-06-11"},null,null,null,null,null,null,{"$f":"FDZ4","v":"2034-06-18"},null,null,null,null,null,null,{"$f":"FEG4","v":"2034-06-25"},null,null,null,null,null,null,{"$f":"FEN4","v":"2034-07-02"},null,null,null,null,null,null,{"$f":"FEU4","v":"2034-07-09"},null,null,null,null,null,null,{"$f":"FFB4","v":"2034-07-16"},null,null,null,null,null,null,{"$f":"FFI4","v":"2034-07-23"},null,null,null,null,null,null,{"$f":"FFP4","v":"2034-07-30"},null,null,null,null,null,null,{"$f":"FFW4","v":"2034-08-06"},null,null,null,null,null,null,{"$f":"FGD4","v":"2034-08-13"},null,null,null,null,null,null,{"$f":"FGK4","v":"2034-08-20"},null,null,null,null,null,null,{"$f":"FGR4","v":"2034-08-27"},null,null,null,null,null,null,{"$f":"FGY4","v":"2034-09-03"},null,null,null,null,null,null,{"$f":"FHF4","v":"2034-09-10"},null,null,null,null,null,null,{"$f":"FHM4","v":"2034-09-17"},null,null,null,null,null,null,{"$f":"FHT4","v":"2034-09-24"},null,null,null,null,null,null,{"$f":"FIA4","v":"2034-10-01"},null,null,null,null,null,null,{"$f":"FIH4","v":"2034-10-08"},null,null,null,null,null,null,{"$f":"FIO4","v":"2034-10-15"},null,null,null,null,null,null,{"$f":"FIV4","v":"2034-10-22"},null,null,null,null,null,null,{"$f":"FJC4","v":"2034-10-29"},null,null,null,null,null,null,{"$f":"FJJ4","v":"2034-11-05"},null,null,null,null,null,null,{"$f":"FJQ4","v":"2034-11-12"},null,null,null,null,null,null,{"$f":"FJX4","v":"2034-11-19"},null,null,null,null,null,null,{"$f":"FKE4","v":"2034-11-26"},null,null,null,null,null,null,{"$f":"FKL4","v":"2034-12-03"},null,null,null,null,null,null,{"$f":"FKS4","v":"2034-12-10"},null,null,null,null,null,null,{"$f":"FKZ4","v":"2034-12-17"},null,null,null,null,null,null,{"$f":"FLG4","v":"2034-12-24"},null,null,null,null,null,null,{"$f":"FLN4","v":"2034-12-31"},null,null,null,null,null,null,{"$f":"FLU4","v":"2035-01-07"},null,null,null,null,null,null,{"$f":"FMB4","v":"2035-01-14"},null,null,null,null,null,null,{"$f":"FMI4","v":"2035-01-21"},null,null,null,null,null,null,{"$f":"FMP4","v":"2035-01-28"},null,null,null,null,null,null,{"$f":"FMW4","v":"2035-02-04"},null,null,null,null,null,null,{"$f":"FND4","v":"2035-02-11"},null,null,null,null,null,null,{"$f":"FNK4","v":"2035-02-18"},null,null,null,null,null,null,{"$f":"FNR4","v":"2035-02-25"},null,null,null,null,null,null,{"$f":"FNY4","v":"2035-03-04"},null,null,null,null,null,null,{"$f":"FOF4","v":"2035-03-11"},null,null,null,null,null,null,{"$f":"FOM4","v":"2035-03-18"},null,null,null,null,null,null,{"$f":"FOT4","v":"2035-03-25"},null,null,null,null,null,null,{"$f":"FPA4","v":"2035-04-01"},null,null,null,null,null,null,{"$f":"FPH4","v":"2035-04-08"},null,null,null,null,null,null,{"$f":"FPO4","v":"2035-04-15"},null,null,null,null,null,null,{"$f":"FPV4","v":"2035-04-22"},null,null,null,null,null,null,{"$f":"FQC4","v":"2035-04-29"},null,null,null,null,null,null,{"$f":"FQJ4","v":"2035-05-06"},null,null,null,null,null,null,{"$f":"FQQ4","v":"2035-05-13"},null,null,null,null,null,null,{"$f":"FQX4","v":"2035-05-20"},null,null,null,null,null,null,{"$f":"FRE4","v":"2035-05-27"},null,null,null,null,null,null,{"$f":"FRL4","v":"2035-06-03"},null,null,null,null,null,null,{"$f":"FRS4","v":"2035-06-10"},null,null,null,null,null,null,{"$f":"FRZ4","v":"2035-06-17"},null,null,null,null,null,null,{"$f":"FSG4","v":"2035-06-24"},null,null,null,null,null,null,{"$f":"FSN4","v":"2035-07-01"},null,null,null,null,null,null,{"$f":"FSU4","v":"2035-07-08"},null,null,null,null,null,null,{"$f":"FTB4","v":"2035-07-15"},null,null,null,null,null,null,{"$f":"FTI4","v":"2035-07-22"},null,null,null,null,null,null,{"$f":"FTP4","v":"2035-07-29"},null,null,null,null,null,null,{"$f":"FTW4","v":"2035-08-05"},null,null,null,null,null,null,{"$f":"FUD4","v":"2035-08-12"},null,null,null,null,null,null,{"$f":"FUK4","v":"2035-08-19"},null,null,null,null,null,null,{"$f":"FUR4","v":"2035-08-26"},null,null,null,null,null,null,{"$f":"FUY4","v":"2035-09-02"},null,null,null,null,null,null,{"$f":"FVF4","v":"2035-09-09"},null,null,null,null,null,null,{"$f":"FVM4","v":"2035-09-16"},null,null,null,null,null,null,{"$f":"FVT4","v":"2035-09-23"},null,null,null,null,null,null,{"$f":"FWA4","v":"2035-09-30"},null,null,null,null,null,null,{"$f":"FWH4","v":"2035-10-07"},null,null,null,null,null,null,{"$f":"FWO4","v":"2035-10-14"},null,null,null,null,null,null,{"$f":"FWV4","v":"2035-10-21"},null,null,null,null,null,null,{"$f":"FXC4","v":"2035-10-28"},null,null,null,null,null,null,{"$f":"FXJ4","v":"2035-11-04"},null,null,null,null,null,null,{"$f":"FXQ4","v":"2035-11-11"},null,null,null,null,null,null,{"$f":"FXX4","v":"2035-11-18"},null,null,null,null,null,null,{"$f":"FYE4","v":"2035-11-25"},null,null,null,null,null,null,{"$f":"FYL4","v":"2035-12-02"},null,null,null,null,null,null,{"$f":"FYS4","v":"2035-12-09"},null,null,null,null,null,null,{"$f":"FYZ4","v":"2035-12-16"},null,null,null,null,null,null,{"$f":"FZG4","v":"2035-12-23"},null,null,null,null,null,null,{"$f":"FZN4","v":"2035-12-30"},null,null,null,null,null,null,{"$f":"FZU4","v":"2036-01-06"},null,null,null,null,null,null,{"$f":"GAB4","v":"2036-01-13"},null,null,null,null,null,null,{"$f":"GAI4","v":"2036-01-20"},null,null,null,null,null,null,{"$f":"GAP4","v":"2036-01-27"},null,null,null,null,null,null,{"$f":"GAW4","v":"2036-02-03"},null,null,null,null,null,null,{"$f":"GBD4","v":"2036-02-10"},null,null,null,null,null,null,{"$f":"GBK4","v":"2036-02-17"},null,null,null,null,null,null,{"$f":"GBR4","v":"2036-02-24"},null,null,null,null,null,null,{"$f":"GBY4","v":"2036-03-02"},null,null,null,null,null,null,{"$f":"GCF4","v":"2036-03-09"},null,null,null,null,null,null,{"$f":"GCM4","v":"2036-03-16"},null,null,null,null,null,null,{"$f":"GCT4","v":"2036-03-23"},null,null,null,null,null,null,{"$f":"GDA4","v":"2036-03-30"},null,null,null,null,null,null,{"$f":"GDH4","v":"2036-04-06"},null,null,null,null,null,null,{"$f":"GDO4","v":"2036-04-13"},null,null,null,null,null,null,{"$f":"GDV4","v":"2036-04-20"},null,null,null,null,null,null,{"$f":"GEC4","v":"2036-04-27"},null,null,null,null,null,null,{"$f":"GEJ4","v":"2036-05-04"},null,null,null,null,null,null,{"$f":"GEQ4","v":"2036-05-11"},null,null,null,null,null,null,{"$f":"GEX4","v":"2036-05-18"},null,null,null,null,null,null,{"$f":"GFE4","v":"2036-05-25"},null,null,null,null,null,null,{"$f":"GFL4","v":"2036-06-01"},null,null,null,null,null,null,{"$f":"GFS4","v":"2036-06-08"},null,null,null,null,null,null,{"$f":"GFZ4","v":"2036-06-15"},null,null,null,null,null,null,{"$f":"GGG4","v":"2036-06-22"},null,null,null,null,null,null,{"$f":"GGN4","v":"2036-06-29"},null,null,null,null,null,null,{"$f":"GGU4","v":"2036-07-06"},null,null,null,null,null,null,{"$f":"GHB4","v":"2036-07-13"},null,null,null,null,null,null,{"$f":"GHI4","v":"2036-07-20"},null,null,null,null,null,null,{"$f":"GHP4","v":"2036-07-27"},null,null,null,null,null,null,{"$f":"GHW4","v":"2036-08-03"},null,null,null,null,null,null,{"$f":"GID4","v":"2036-08-10"},null,null,null,null,null,null,{"$f":"GIK4","v":"2036-08-17"},null,null,null,null,null,null,{"$f":"GIR4","v":"2036-08-24"},null,null,null,null,null,null,{"$f":"GIY4","v":"2036-08-31"},null,null,null,null,null,null,{"$f":"GJF4","v":"2036-09-07"},null,null,null,null,null,null,{"$f":"GJM4","v":"2036-09-14"},null,null,null,null,null,null,{"$f":"GJT4","v":"2036-09-21"},null,null,null,null,null,null,{"$f":"GKA4","v":"2036-09-28"},null,null,null,null,null,null,{"$f":"GKH4","v":"2036-10-05"},null,null,null,null,null,null,{"$f":"GKO4","v":"2036-10-12"},null,null,null,null,null,null,{"$f":"GKV4","v":"2036-10-19"},null,null,null,null,null,null,{"$f":"GLC4","v":"2036-10-26"},null,null,null,null,null,null,{"$f":"GLJ4","v":"2036-11-02"},null,null,null,null,null,null,{"$f":"GLQ4","v":"2036-11-09"},null,null,null,null,null,null,{"$f":"GLX4","v":"2036-11-16"},null,null,null,null,null,null,{"$f":"GME4","v":"2036-11-23"},null,null,null,null,null,null,{"$f":"GML4","v":"2036-11-30"},null,null,null,null,null,null,{"$f":"GMS4","v":"2036-12-07"},null,null,null,null,null,null,{"$f":"GMZ4","v":"2036-12-14"},null,null,null,null,null,null,{"$f":"GNG4","v":"2036-12-21"},null,null,null,null,null,null,{"$f":"GNN4","v":"2036-12-28"},null,null,null,null,null,null,{"$f":"GNU4","v":"2037-01-04"},null,null,null,null,null,null,{"$f":"GOB4","v":"2037-01-11"},null,null,null,null,null,null,{"$f":"GOI4","v":"2037-01-18"},null,null,null,null,null,null,{"$f":"GOP4","v":"2037-01-25"},null,null,null,null,null,null,{"$f":"GOW4","v":"2037-02-01"},null,null,null,null,null,null,{"$f":"GPD4","v":"2037-02-08"},null,null,null,null,null,null,{"$f":"GPK4","v":"2037-02-15"},null,null,null,null,null,null,{"$f":"GPR4","v":"2037-02-22"},null,null,null,null,null,null,{"$f":"GPY4","v":"2037-03-01"},null,null,null,null,null,null,{"$f":"GQF4","v":"2037-03-08"},null,null,null,null,null,null,{"$f":"GQM4","v":"2037-03-15"},null,null,null,null,null,null,{"$f":"GQT4","v":"2037-03-22"},null,null,null,null,null,null,{"$f":"GRA4","v":"2037-03-29"},null,null,null,null,null,null,{"$f":"GRH4","v":"2037-04-05"},null,null,null,null,null,null,{"$f":"GRO4","v":"2037-04-12"},null,null,null,null,null,null,{"$f":"GRV4","v":"2037-04-19"},null,null,null,null,null,null,{"$f":"GSC4","v":"2037-04-26"},null,null,null,null,null,null,{"$f":"GSJ4","v":"2037-05-03"},null,null,null,null,null,null,{"$f":"GSQ4","v":"2037-05-10"},null,null,null,null,null,null,{"$f":"GSX4","v":"2037-05-17"},null,null,null,null,null,null,{"$f":"GTE4","v":"2037-05-24"},null,null,null,null,null,null,{"$f":"GTL4","v":"2037-05-31"},null,null,null,null,null,null,{"$f":"GTS4","v":"2037-06-07"},null,null,null,null,null,null,{"$f":"GTZ4","v":"2037-06-14"},null,null,null,null,null,null,{"$f":"GUG4","v":"2037-06-21"},null,null,null,null,null,null,{"$f":"GUN4","v":"2037-06-28"},null,null,null,null,null,null,{"$f":"GUU4","v":"2037-07-05"},null,null,null,null,null,null,{"$f":"GVB4","v":"2037-07-12"},null,null,null,null,null,null,{"$f":"GVI4","v":"2037-07-19"},null,null,null,null,null,null,{"$f":"GVP4","v":"2037-07-26"},null,null,null,null,null,null,{"$f":"GVW4","v":"2037-08-02"},null,null,null,null,null,null,{"$f":"GWD4","v":"2037-08-09"},null,null,null,null,null,null,{"$f":"GWK4","v":"2037-08-16"},null,null,null,null,null,null,{"$f":"GWR4","v":"2037-08-23"},null,null,null,null,null,null,{"$f":"GWY4","v":"2037-08-30"},null,null,null,null,null,null,{"$f":"GXF4","v":"2037-09-06"},null,null,null,null,null,null,{"$f":"GXM4","v":"2037-09-13"},null,null,null,null,null,null,{"$f":"GXT4","v":"2037-09-20"},null,null,null,null,null,null,{"$f":"GYA4","v":"2037-09-27"},null,null,null,null,null,null,{"$f":"GYH4","v":"2037-10-04"},null,null,null,null,null,null,{"$f":"GYO4","v":"2037-10-11"},null,null,null,null,null,null,{"$f":"GYV4","v":"2037-10-18"},null,null,null,null,null,null,{"$f":"GZC4","v":"2037-10-25"},null,null,null,null,null,null,{"$f":"GZJ4","v":"2037-11-01"},null,null,null,null,null,null,{"$f":"GZQ4","v":"2037-11-08"},null,null,null,null,null,null,{"$f":"GZX4","v":"2037-11-15"},null,null,null,null,null,null,{"$f":"HAE4","v":"2037-11-22"},null,null,null,null,null,null,{"$f":"HAL4","v":"2037-11-29"},null,null,null,null,null,null,{"$f":"HAS4","v":"2037-12-06"},null,null,null,null,null,null,{"$f":"HAZ4","v":"2037-12-13"},null,null,null,null,null,null,{"$f":"HBG4","v":"2037-12-20"},null,null,null,null,null,null,{"$f":"HBN4","v":"2037-12-27"},null,null,null,null,null,null,{"$f":"HBU4","v":"2038-01-03"},null,null,null,null,null,null,{"$f":"HCB4","v":"2038-01-10"},null,null,null,null,null,null,{"$f":"HCI4","v":"2038-01-17"},null,null,null,null,null,null,{"$f":"HCP4","v":"2038-01-24"},null,null,null,null,null,null,{"$f":"HCW4","v":"2038-01-31"},null,null,null,null,null,null,{"$f":"HDD4","v":"2038-02-07"},null,null,null,null,null,null,{"$f":"HDK4","v":"2038-02-14"},null,null,null,null,null,null,{"$f":"HDR4","v":"2038-02-21"},null,null,null,null,null,null,{"$f":"HDY4","v":"2038-02-28"},null,null,null,null,null,null,{"$f":"HEF4","v":"2038-03-07"},null,null,null,null,null,null,{"$f":"HEM4","v":"2038-03-14"},null,null,null,null,null,null,{"$f":"HET4","v":"2038-03-21"},null,null,null,null,null,null,{"$f":"HFA4","v":"2038-03-28"},null,null,null,null,null,null,{"$f":"HFH4","v":"2038-04-04"},null,null,null,null,null,null,{"$f":"HFO4","v":"2038-04-11"},null,null,null,null,null,null,{"$f":"HFV4","v":"2038-04-18"},null,null,null,null,null,null,{"$f":"HGC4","v":"2038-04-25"},null,null,null,null,null,null,{"$f":"HGJ4","v":"2038-05-02"},null,null,null,null,null,null,{"$f":"HGQ4","v":"2038-05-09"},null,null,null,null,null,null,{"$f":"HGX4","v":"2038-05-16"},null,null,null,null,null,null,{"$f":"HHE4","v":"2038-05-23"},null,null,null,null,null,null,{"$f":"HHL4","v":"2038-05-30"},null,null,null,null,null,null,{"$f":"HHS4","v":"2038-06-06"},null,null,null,null,null,null,{"$f":"HHZ4","v":"2038-06-13"},null,null,null,null,null,null,{"$f":"HIG4","v":"2038-06-20"},null,null,null,null,null,null,{"$f":"HIN4","v":"2038-06-27"},null,null,null,null,null,null,{"$f":"HIU4","v":"2038-07-04"},null,null,null,null,null,null,{"$f":"HJB4","v":"2038-07-11"},null,null,null,null,null,null,{"$f":"HJI4","v":"2038-07-18"},null,null,null,null,null,null,{"$f":"HJP4","v":"2038-07-25"},null,null,null,null,null,null,{"$f":"HJW4","v":"2038-08-01"},null,null,null,null,null,null,{"$f":"HKD4","v":"2038-08-08"},null,null,null,null,null,null,{"$f":"HKK4","v":"2038-08-15"},null,null,null,null,null,null,{"$f":"HKR4","v":"2038-08-22"},null,null,null,null,null,null,{"$f":"HKY4","v":"2038-08-29"},null,null,null,null,null,null,{"$f":"HLF4","v":"2038-09-05"},null,null,null,null,null,null,{"$f":"HLM4","v":"2038-09-12"},null,null,null,null,null,null,{"$f":"HLT4","v":"2038-09-19"},null,null,null,null,null,null,{"$f":"HMA4","v":"2038-09-26"},null,null,null,null,null,null,{"$f":"HMH4","v":"2038-10-03"},null,null,null,null,null,null,{"$f":"HMO4","v":"2038-10-10"},null,null,null,null,null,null,{"$f":"HMV4","v":"2038-10-17"},null,null,null,null,null,null,{"$f":"HNC4","v":"2038-10-24"},null,null,null,null,null,null,{"$f":"HNJ4","v":"2038-10-31"},null,null,null,null,null,null,{"$f":"HNQ4","v":"2038-11-07"},null,null,null,null,null,null,{"$f":"HNX4","v":"2038-11-14"},null,null,null,null,null,null,{"$f":"HOE4","v":"2038-11-21"},null,null,null,null,null,null,{"$f":"HOL4","v":"2038-11-28"},null,null,null,null,null,null,{"$f":"HOS4","v":"2038-12-05"},null,null,null,null,null,null,{"$f":"HOZ4","v":"2038-12-12"},null,null,null,null,null,null,{"$f":"HPG4","v":"2038-12-19"},null,null,null,null,null,null,{"$f":"HPN4","v":"2038-12-26"},null,null,null,null,null,null,{"$f":"HPU4","v":"2039-01-02"},null,null,null,null,null,null,{"$f":"HQB4","v":"2039-01-09"},null,null,null,null,null,null,{"$f":"HQI4","v":"2039-01-16"},null,null,null,null,null,null,{"$f":"HQP4","v":"2039-01-23"},null,null,null,null,null,null,{"$f":"HQW4","v":"2039-01-30"},null,null,null,null,null,null,{"$f":"HRD4","v":"2039-02-06"},null,null,null,null,null,null,{"$f":"HRK4","v":"2039-02-13"},null,null,null,null,null,null,{"$f":"HRR4","v":"2039-02-20"},null,null,null,null,null,null,{"$f":"HRY4","v":"2039-02-27"},null,null,null,null,null,null,{"$f":"HSF4","v":"2039-03-06"},null,null,null,null,null,null,{"$f":"HSM4","v":"2039-03-13"},null,null,null,null,null,null,{"$f":"HST4","v":"2039-03-20"},null,null,null,null,null,null,{"$f":"HTA4","v":"2039-03-27"},null,null,null,null,null,null,{"$f":"HTH4","v":"2039-04-03"},null,null,null,null,null,null,{"$f":"HTO4","v":"2039-04-10"},null,null,null,null,null,null,{"$f":"HTV4","v":"2039-04-17"},null,null,null,null,null,null,{"$f":"HUC4","v":"2039-04-24"},null,null,null,null,null,null,{"$f":"HUJ4","v":"2039-05-01"},null,null,null,null,null,null,{"$f":"HUQ4","v":"2039-05-08"},null,null,null,null,null,null,{"$f":"HUX4","v":"2039-05-15"},null,null,null,null,null,null,{"$f":"HVE4","v":"2039-05-22"},null,null,null,null,null,null,{"$f":"HVL4","v":"2039-05-29"},null,null,null,null,null,null,{"$f":"HVS4","v":"2039-06-05"},null,null,null,null,null,null,{"$f":"HVZ4","v":"2039-06-12"},null,null,null,null,null,null,{"$f":"HWG4","v":"2039-06-19"},null,null,null,null,null,null,{"$f":"HWN4","v":"2039-06-26"},null,null,null,null,null,null,{"$f":"HWU4","v":"2039-07-03"},null,null,null,null,null,null,{"$f":"HXB4","v":"2039-07-10"},null,null,null,null,null,null,{"$f":"HXI4","v":"2039-07-17"},null,null,null,null,null,null,{"$f":"HXP4","v":"2039-07-24"},null,null,null,null,null,null,{"$f":"HXW4","v":"2039-07-31"},null,null,null,null,null,null,{"$f":"HYD4","v":"2039-08-07"},null,null,null,null,null,null,{"$f":"HYK4","v":"2039-08-14"},null,null,null,null,null,null,{"$f":"HYR4","v":"2039-08-21"},null,null,null,null,null,null,{"$f":"HYY4","v":"2039-08-28"},null,null,null,null,null,null,{"$f":"HZF4","v":"2039-09-04"},null,null,null,null,null,null,{"$f":"HZM4","v":"2039-09-11"},null,null,null,null,null,null,{"$f":"HZT4","v":"2039-09-18"},null,null,null,null,null,null,{"$f":"IAA4","v":"2039-09-25"},null,null,null,null,null,null,{"$f":"IAH4","v":"2039-10-02"},null,null,null,null,null,null,{"$f":"IAO4","v":"2039-10-09"},null,null,null,null,null,null,{"$f":"IAV4","v":"2039-10-16"},null,null,null,null,null,null,{"$f":"IBC4","v":"2039-10-23"},null,null,null,null,null,null,{"$f":"IBJ4","v":"2039-10-30"},null,null,null,null,null,null,{"$f":"IBQ4","v":"2039-11-06"},null,null,null,null,null,null,{"$f":"IBX4","v":"2039-11-13"},null,null,null,null,null,null,{"$f":"ICE4","v":"2039-11-20"},null,null,null,null,null,null,{"$f":"ICL4","v":"2039-11-27"},null,null,null,null,null,null,{"$f":"ICS4","v":"2039-12-04"},null,null,null,null,null,null,{"$f":"ICZ4","v":"2039-12-11"},null,null,null,null,null,null,{"$f":"IDG4","v":"2039-12-18"},null,null,null,null,null,null,{"$f":"IDN4","v":"2039-12-25"},null,null,null,null,null,null,{"$f":"IDU4","v":"2040-01-01"},null,null,null,null,null,null,{"$f":"IEB4","v":"2040-01-08"},null,null,null,null,null,null,{"$f":"IEI4","v":"2040-01-15"},null,null,null,null,null,null,{"$f":"IEP4","v":"2040-01-22"},null,null,null,null,null,null,{"$f":"IEW4","v":"2040-01-29"},null,null,null,null,null,null,{"$f":"IFD4","v":"2040-02-05"},null,null,null,null,null,null,{"$f":"IFK4","v":"2040-02-12"},null,null,null,null,null,null,{"$f":"IFR4","v":"2040-02-19"},null,null,null,null,null,null,{"$f":"IFY4","v":"2040-02-26"},null,null,null,null,null,null,{"$f":"IGF4","v":"2040-03-04"},null,null,null,null,null,null,{"$f":"IGM4","v":"2040-03-11"},null,null,null,null,null,null,{"$f":"IGT4","v":"2040-03-18"},null,null,null,null,null,null,{"$f":"IHA4","v":"2040-03-25"},null,null,null,null,null,null,{"$f":"IHH4","v":"2040-04-01"},null,null,null,null,null,null,{"$f":"IHO4","v":"2040-04-08"},null,null,null,null,null,null,{"$f":"IHV4","v":"2040-04-15"},null,null,null,null,null,null,{"$f":"IIC4","v":"2040-04-22"},null,null,null,null,null,null,{"$f":"IIJ4","v":"2040-04-29"},null,null,null,null,null,null,{"$f":"IIQ4","v":"2040-05-06"},null,null,null,null,null,null,{"$f":"IIX4","v":"2040-05-13"},null,null,null,null,null,null,{"$f":"IJE4","v":"2040-05-20"},null,null,null,null,null,null,{"$f":"IJL4","v":"2040-05-27"},null,null,null,null,null,null,{"$f":"IJS4","v":"2040-06-03"},null,null,null,null,null,null,{"$f":"IJZ4","v":"2040-06-10"},null,null,null,null,null,null,{"$f":"IKG4","v":"2040-06-17"},null,null,null,null,null,null,{"$f":"IKN4","v":"2040-06-24"},null,null,null,null,null,null,{"$f":"IKU4","v":"2040-07-01"},null,null,null,null,null,null,{"$f":"ILB4","v":"2040-07-08"},null,null,null,null,null,null,{"$f":"ILI4","v":"2040-07-15"},null,null,null,null,null,null,{"$f":"ILP4","v":"2040-07-22"},null,null,null,null,null,null,{"$f":"ILW4","v":"2040-07-29"},null,null,null,null,null,null,{"$f":"IMD4","v":"2040-08-05"},null,null,null,null,null,null,{"$f":"IMK4","v":"2040-08-12"},null,null,null,null,null,null,{"$f":"IMR4","v":"2040-08-19"},null,null,null,null,null,null,{"$f":"IMY4","v":"2040-08-26"},null,null,null,null,null,null,{"$f":"INF4","v":"2040-09-02"},null,null,null,null,null,null,{"$f":"INM4","v":"2040-09-09"},null,null,null,null,null,null,{"$f":"INT4","v":"2040-09-16"},null,null,null,null,null,null,{"$f":"IOA4","v":"2040-09-23"},null,null,null,null,null,null,{"$f":"IOH4","v":"2040-09-30"},null,null,null,null,null,null,{"$f":"IOO4","v":"2040-10-07"},null,null,null,null,null,null,{"$f":"IOV4","v":"2040-10-14"},null,null,null,null,null,null,{"$f":"IPC4","v":"2040-10-21"},null,null,null,null,null,null,{"$f":"IPJ4","v":"2040-10-28"},null,null,null,null,null,null,{"$f":"IPQ4","v":"2040-11-04"},null,null,null,null,null,null,{"$f":"IPX4","v":"2040-11-11"},null,null,null,null,null,null,{"$f":"IQE4","v":"2040-11-18"},null,null,null,null,null,null,{"$f":"IQL4","v":"2040-11-25"},null,null,null,null,null,null,{"$f":"IQS4","v":"2040-12-02"},null,null,null,null,null,null,{"$f":"IQZ4","v":"2040-12-09"},null,null,null,null,null,null,{"$f":"IRG4","v":"2040-12-16"},null,null,null,null,null,null,{"$f":"IRN4","v":"2040-12-23"},null,null,null,null,null,null,{"$f":"IRU4","v":"2040-12-30"},null,null,null,null,null,null,{"$f":"ISB4","v":"2041-01-06"},null,null,null,null,null,null,{"$f":"ISI4","v":"2041-01-13"},null,null,null,null,null,null,{"$f":"ISP4","v":"2041-01-20"},null,null,null,null,null,null,{"$f":"ISW4","v":"2041-01-27"},null,null,null,null,null,null,{"$f":"ITD4","v":"2041-02-03"},null,null,null,null,null,null,{"$f":"ITK4","v":"2041-02-10"},null,null,null,null,null,null,{"$f":"ITR4","v":"2041-02-17"},null,null,null,null,null,null,{"$f":"ITY4","v":"2041-02-24"},null,null,null,null,null,null,{"$f":"IUF4","v":"2041-03-03"},null,null,null,null,null,null,{"$f":"IUM4","v":"2041-03-10"},null,null,null,null,null,null,{"$f":"IUT4","v":"2041-03-17"},null,null,null,null,null,null,{"$f":"IVA4","v":"2041-03-24"},null,null,null,null,null,null,{"$f":"IVH4","v":"2041-03-31"},null,null,null,null,null,null,{"$f":"IVO4","v":"2041-04-07"},null,null,null,null,null,null,{"$f":"IVV4","v":"2041-04-14"},null,null,null,null,null,null,{"$f":"IWC4","v":"2041-04-21"},null,null,null,null,null,null,{"$f":"IWJ4","v":"2041-04-28"},null,null,null,null,null,null,{"$f":"IWQ4","v":"2041-05-05"},null,null,null,null,null,null,{"$f":"IWX4","v":"2041-05-12"},null,null,null,null,null,null,{"$f":"IXE4","v":"2041-05-19"},null,null,null,null,null,null,{"$f":"IXL4","v":"2041-05-26"},null,null,null,null,null,null,{"$f":"IXS4","v":"2041-06-02"},null,null,null,null,null,null,{"$f":"IXZ4","v":"2041-06-09"},null,null,null,null,null,null,{"$f":"IYG4","v":"2041-06-16"},null,null,null,null,null,null,{"$f":"IYN4","v":"2041-06-23"},null,null,null,null,null,null,{"$f":"IYU4","v":"2041-06-30"},null,null,null,null,null,null,{"$f":"IZB4","v":"2041-07-07"},null,null,null,null,null,null,{"$f":"IZI4","v":"2041-07-14"},null,null,null,null,null,null,{"$f":"IZP4","v":"2041-07-21"},null,null,null,null,null,null,{"$f":"IZW4","v":"2041-07-28"},null,null,null,null,null,null,{"$f":"JAD4","v":"2041-08-04"},null,null,null,null,null,null,{"$f":"JAK4","v":"2041-08-11"},null,null,null,null,null,null,{"$f":"JAR4","v":"2041-08-18"},null,null,null,null,null,null,{"$f":"JAY4","v":"2041-08-25"},null,null,null,null,null,null,{"$f":"JBF4","v":"2041-09-01"},null,null,null,null,null,null,{"$f":"JBM4","v":"2041-09-08"},null,null,null,null,null,null,{"$f":"JBT4","v":"2041-09-15"},null,null,null,null,null,null,{"$f":"JCA4","v":"2041-09-22"},null,null,null,null,null,null,{"$f":"JCH4","v":"2041-09-29"},null,null,null,null,null,null,{"$f":"JCO4","v":"2041-10-06"},null,null,null,null,null,null,{"$f":"JCV4","v":"2041-10-13"},null,null,null,null,null,null,{"$f":"JDC4","v":"2041-10-20"},null,null,null,null,null,null,{"$f":"JDJ4","v":"2041-10-27"},null,null,null,null,null,null,{"$f":"JDQ4","v":"2041-11-03"},null,null,null,null,null,null,{"$f":"JDX4","v":"2041-11-10"},null,null,null,null,null,null,{"$f":"JEE4","v":"2041-11-17"},null,null,null,null,null,null,{"$f":"JEL4","v":"2041-11-24"},null,null,null,null,null,null,{"$f":"JES4","v":"2041-12-01"},null,null,null,null,null,null,{"$f":"JEZ4","v":"2041-12-08"},null,null,null,null,null,null,{"$f":"JFG4","v":"2041-12-15"},null,null,null,null,null,null,{"$f":"JFN4","v":"2041-12-22"},null,null,null,null,null,null,{"$f":"JFU4","v":"2041-12-29"},null,null,null,null,null,null,{"$f":"JGB4","v":"2042-01-05"},null,null,null,null,null,null,{"$f":"JGI4","v":"2042-01-12"},null,null,null,null,null,null,{"$f":"JGP4","v":"2042-01-19"},null,null,null,null,null,null,{"$f":"JGW4","v":"2042-01-26"},null,null,null,null,null,null,{"$f":"JHD4","v":"2042-02-02"},null,null,null,null,null,null,{"$f":"JHK4","v":"2042-02-09"},null,null,null,null,null,null,{"$f":"JHR4","v":"2042-02-16"},null,null,null,null,null,null,{"$f":"JHY4","v":"2042-02-23"},null,null,null,null,null,null,{"$f":"JIF4","v":"2042-03-02"},null,null,null,null,null,null,{"$f":"JIM4","v":"2042-03-09"},null,null,null,null,null,null,{"$f":"JIT4","v":"2042-03-16"},null,null,null,null,null,null,{"$f":"JJA4","v":"2042-03-23"},null,null,null,null,null,null,{"$f":"JJH4","v":"2042-03-30"},null,null,null,null,null,null,{"$f":"JJO4","v":"2042-04-06"},null,null,null,null,null,null,{"$f":"JJV4","v":"2042-04-13"},null,null,null,null,null,null,{"$f":"JKC4","v":"2042-04-20"},null,null,null,null,null,null,{"$f":"JKJ4","v":"2042-04-27"},null,null,null,null,null,null,{"$f":"JKQ4","v":"2042-05-04"},null,null,null,null,null,null,{"$f":"JKX4","v":"2042-05-11"},null,null,null,null,null,null,{"$f":"JLE4","v":"2042-05-18"},null,null,null,null,null,null,{"$f":"JLL4","v":"2042-05-25"},null,null,null,null,null,null,{"$f":"JLS4","v":"2042-06-01"},null,null,null,null,null,null,{"$f":"JLZ4","v":"2042-06-08"},null,null,null,null,null,null,{"$f":"JMG4","v":"2042-06-15"},null,null,null,null,null,null,{"$f":"JMN4","v":"2042-06-22"},null,null,null,null,null,null,{"$f":"JMU4","v":"2042-06-29"},null,null,null,null,null,null,{"$f":"JNB4","v":"2042-07-06"},null,null,null,null,null,null,{"$f":"JNI4","v":"2042-07-13"},null,null,null,null,null,null,{"$f":"JNP4","v":"2042-07-20"},null,null,null,null,null,null,{"$f":"JNW4","v":"2042-07-27"},null,null,null,null,null,null,{"$f":"JOD4","v":"2042-08-03"},null,null,null,null,null,null,{"$f":"JOK4","v":"2042-08-10"},null,null,null,null,null,null,{"$f":"JOR4","v":"2042-08-17"},null,null,null,null,null,null,{"$f":"JOY4","v":"2042-08-24"},null,null,null,null,null,null,{"$f":"JPF4","v":"2042-08-31"},null,null,null,null,null,null,{"$f":"JPM4","v":"2042-09-07"},null,null,null,null,null,null,{"$f":"JPT4","v":"2042-09-14"},null,null,null,null,null,null,{"$f":"JQA4","v":"2042-09-21"},null,null,null,null,null,null,{"$f":"JQH4","v":"2042-09-28"},null,null,null,null,null,null,{"$f":"JQO4","v":"2042-10-05"},null,null,null,null,null,null,{"$f":"JQV4","v":"2042-10-12"},null,null,null,null,null,null,{"$f":"JRC4","v":"2042-10-19"},null,null,null,null,null,null,{"$f":"JRJ4","v":"2042-10-26"},null,null,null,null,null,null,{"$f":"JRQ4","v":"2042-11-02"},null,null,null,null,null,null,{"$f":"JRX4","v":"2042-11-09"},null,null,null,null,null,null,{"$f":"JSE4","v":"2042-11-16"},null,null,null,null,null,null,{"$f":"JSL4","v":"2042-11-23"},null,null,null,null,null,null,{"$f":"JSS4","v":"2042-11-30"},null,null,null,null,null,null,{"$f":"JSZ4","v":"2042-12-07"},null,null,null,null,null,null,{"$f":"JTG4","v":"2042-12-14"},null,null,null,null,null,null,{"$f":"JTN4","v":"2042-12-21"},null,null,null,null,null,null,{"$f":"JTU4","v":"2042-12-28"},null,null,null,null,null,null,{"$f":"JUB4","v":"2043-01-04"},null,null,null,null,null,null,{"$f":"JUI4","v":"2043-01-11"},null,null,null,null,null,null,{"$f":"JUP4","v":"2043-01-18"},null,null,null,null,null,null,{"$f":"JUW4","v":"2043-01-25"},null,null,null,null,null,null,{"$f":"JVD4","v":"2043-02-01"},null,null,null,null,null,null,{"$f":"JVK4","v":"2043-02-08"},null,null,null,null,null,null,{"$f":"JVR4","v":"2043-02-15"},null,null,null,null,null,null,{"$f":"JVY4","v":"2043-02-22"},null,null,null,null,null,null,{"$f":"JWF4","v":"2043-03-01"},null,null,null,null,null,null,{"$f":"JWM4","v":"2043-03-08"},null,null,null,null,null,null,{"$f":"JWT4","v":"2043-03-15"},null,null,null,null,null,null,{"$f":"JXA4","v":"2043-03-22"},null,null,null,null,null,null,{"$f":"JXH4","v":"2043-03-29"},null,null,null,null,null,null,{"$f":"JXO4","v":"2043-04-05"},null,null,null,null,null,null,{"$f":"JXV4","v":"2043-04-12"},null,null,null,null,null,null,{"$f":"JYC4","v":"2043-04-19"},null,null,null,null,null,null,{"$f":"JYJ4","v":"2043-04-26"},null,null,null,null,null,null,{"$f":"JYQ4","v":"2043-05-03"},null,null,null,null,null,null,{"$f":"JYX4","v":"2043-05-10"},null,null,null,null,null,null,{"$f":"JZE4","v":"2043-05-17"},null,null,null,null,null,null,{"$f":"JZL4","v":"2043-05-24"},null,null,null,null,null,null,{"$f":"JZS4","v":"2043-05-31"},null,null,null,null,null,null,{"$f":"JZZ4","v":"2043-06-07"},null,null,null,null,null,null,{"$f":"KAG4","v":"2043-06-14"},null,null,null,null,null,null,{"$f":"KAN4","v":"2043-06-21"},null,null,null,null,null,null,{"$f":"KAU4","v":"2043-06-28"},null,null,null,null,null,null,{"$f":"KBB4","v":"2043-07-05"},null,null,null,null,null,null,{"$f":"KBI4","v":"2043-07-12"},null,null,null,null,null,null,{"$f":"KBP4","v":"2043-07-19"},null,null,null,null,null,null,{"$f":"KBW4","v":"2043-07-26"},null,null,null,null,null,null,{"$f":"KCD4","v":"2043-08-02"},null,null,null,null,null,null,{"$f":"KCK4","v":"2043-08-09"},null,null,null,null,null,null,{"$f":"KCR4","v":"2043-08-16"},null,null,null,null,null,null,{"$f":"KCY4","v":"2043-08-23"},null,null,null,null,null,null,{"$f":"KDF4","v":"2043-08-30"},null,null,null,null,null,null,{"$f":"KDM4","v":"2043-09-06"},null,null,null,null,null,null,{"$f":"KDT4","v":"2043-09-13"},null,null,null,null,null,null,{"$f":"KEA4","v":"2043-09-20"},null,null,null,null,null,null,{"$f":"KEH4","v":"2043-09-27"},null,null,null,null,null,null,{"$f":"KEO4","v":"2043-10-04"},null,null,null,null,null,null,{"$f":"KEV4","v":"2043-10-11"},null,null,null,null,null,null,{"$f":"KFC4","v":"2043-10-18"},null,null,null,null,null,null,{"$f":"KFJ4","v":"2043-10-25"},null,null,null,null,null,null,{"$f":"KFQ4","v":"2043-11-01"},null,null,null,null,null,null,{"$f":"KFX4","v":"2043-11-08"},null,null,null,null,null,null,{"$f":"KGE4","v":"2043-11-15"},null,null,null,null,null,null,{"$f":"KGL4","v":"2043-11-22"},null,null,null,null,null,null,{"$f":"KGS4","v":"2043-11-29"},null,null,null,null,null,null,{"$f":"KGZ4","v":"2043-12-06"},null,null,null,null,null,null,{"$f":"KHG4","v":"2043-12-13"},null,null,null,null,null,null,{"$f":"KHN4","v":"2043-12-20"},null,null,null,null,null,null,{"$f":"KHU4","v":"2043-12-27"},null,null,null,null,null,null,{"$f":"KIB4","v":"2044-01-03"},null,null,null,null,null,null,{"$f":"KII4","v":"2044-01-10"},null,null,null,null,null,null,{"$f":"KIP4","v":"2044-01-17"},null,null,null,null,null,null,{"$f":"KIW4","v":"2044-01-24"},null,null,null,null,null,null,{"$f":"KJD4","v":"2044-01-31"},null,null,null,null,null,null,{"$f":"KJK4","v":"2044-02-07"},null,null,null,null,null,null,{"$f":"KJR4","v":"2044-02-14"},null,null,null,null,null,null,{"$f":"KJY4","v":"2044-02-21"},null,null,null,null,null,null,{"$f":"KKF4","v":"2044-02-28"},null,null,null,null,null,null,{"$f":"KKM4","v":"2044-03-06"},null,null,null,null,null,null,{"$f":"KKT4","v":"2044-03-13"},null,null,null,null,null,null,{"$f":"KLA4","v":"2044-03-20"},null,null,null,null,null,null,{"$f":"KLH4","v":"2044-03-27"},null,null,null,null,null,null,{"$f":"KLO4","v":"2044-04-03"},null,null,null,null,null,null,{"$f":"KLV4","v":"2044-04-10"},null,null,null,null,null,null,{"$f":"KMC4","v":"2044-04-17"},null,null,null,null,null,null,{"$f":"KMJ4","v":"2044-04-24"},null,null,null,null,null,null,{"$f":"KMQ4","v":"2044-05-01"},null,null,null,null,null,null,{"$f":"KMX4","v":"2044-05-08"},null,null,null,null,null,null,{"$f":"KNE4","v":"2044-05-15"},null,null,null,null,null,null,{"$f":"KNL4","v":"2044-05-22"},null,null,null,null,null,null,{"$f":"KNS4","v":"2044-05-29"},null,null,null,null,null,null,{"$f":"KNZ4","v":"2044-06-05"},null,null,null,null,null,null,{"$f":"KOG4","v":"2044-06-12"},null,null,null,null,null,null,{"$f":"KON4","v":"2044-06-19"},null,null,null,null,null,null,{"$f":"KOU4","v":"2044-06-26"},null,null,null,null,null,null,{"$f":"KPB4","v":"2044-07-03"},null,null,null,null,null,null,{"$f":"KPI4","v":"2044-07-10"},null,null,null,null,null,null,{"$f":"KPP4","v":"2044-07-17"},null,null,null,null,null,null,{"$f":"KPW4","v":"2044-07-24"},null,null,null,null,null,null,{"$f":"KQD4","v":"2044-07-31"},null,null,null,null,null,null,{"$f":"KQK4","v":"2044-08-07"},null,null,null,null,null,null,{"$f":"KQR4","v":"2044-08-14"},null,null,null,null,null,null,{"$f":"KQY4","v":"2044-08-21"},null,null,null,null,null,null,{"$f":"KRF4","v":"2044-08-28"},null,null,null,null,null,null,{"$f":"KRM4","v":"2044-09-04"},null,null,null,null,null,null,{"$f":"KRT4","v":"2044-09-11"},null,null,null,null,null,null,{"$f":"KSA4","v":"2044-09-18"},null,null,null,null,null,null,{"$f":"KSH4","v":"2044-09-25"},null,null,null,null,null,null,{"$f":"KSO4","v":"2044-10-02"},null,null,null,null,null,null,{"$f":"KSV4","v":"2044-10-09"},null,null,null,null,null,null,{"$f":"KTC4","v":"2044-10-16"},null,null,null,null,null,null,{"$f":"KTJ4","v":"2044-10-23"},null,null,null,null,null,null,{"$f":"KTQ4","v":"2044-10-30"},null,null,null,null,null,null,{"$f":"KTX4","v":"2044-11-06"},null,null,null,null,null,null,{"$f":"KUE4","v":"2044-11-13"},null,null,null,null,null,null,{"$f":"KUL4","v":"2044-11-20"},null,null,null,null,null,null,{"$f":"KUS4","v":"2044-11-27"},null,null,null,null,null,null,{"$f":"KUZ4","v":"2044-12-04"},null,null,null,null,null,null,{"$f":"KVG4","v":"2044-12-11"},null,null,null,null,null,null,{"$f":"KVN4","v":"2044-12-18"},null,null,null,null,null,null,{"$f":"KVU4","v":"2044-12-25"},null,null,null,null,null,null,{"$f":"KWB4","v":"2045-01-01"},null,null,null,null,null,null,{"$f":"KWI4","v":"2045-01-08"},null,null,null,null,null,null,{"$f":"KWP4","v":"2045-01-15"},null,null,null,null,null,null,{"$f":"KWW4","v":"2045-01-22"},null,null,null,null,null,null,{"$f":"KXD4","v":"2045-01-29"},null,null,null,null,null,null,{"$f":"KXK4","v":"2045-02-05"},null,null,null,null,null,null,{"$f":"KXR4","v":"2045-02-12"},null,null,null,null,null,null,{"$f":"KXY4","v":"2045-02-19"},null,null,null,null,null,null,{"$f":"KYF4","v":"2045-02-26"},null,null,null,null,null,null,{"$f":"KYM4","v":"2045-03-05"},null,null,null,null,null,null,{"$f":"KYT4","v":"2045-03-12"},null,null,null,null,null,null,{"$f":"KZA4","v":"2045-03-19"},null,null,null,null,null,null,{"$f":"KZH4","v":"2045-03-26"},null,null,null,null,null,null,{"$f":"KZO4","v":"2045-04-02"},null,null,null,null,null,null,{"$f":"KZV4","v":"2045-04-09"},null,null,null,null,null,null,{"$f":"LAC4","v":"2045-04-16"},null,null,null,null,null,null,{"$f":"LAJ4","v":"2045-04-23"},null,null,null,null,null,null,{"$f":"LAQ4","v":"2045-04-30"},null,null,null,null,null,null,{"$f":"LAX4","v":"2045-05-07"},null,null,null,null,null,null,{"$f":"LBE4","v":"2045-05-14"},null,null,null,null,null,null,{"$f":"LBL4","v":"2045-05-21"},null,null,null,null,null,null,{"$f":"LBS4","v":"2045-05-28"},null,null,null,null,null,null,{"$f":"LBZ4","v":"2045-06-04"},null,null,null,null,null,null,{"$f":"LCG4","v":"2045-06-11"},null,null,null,null,null,null,{"$f":"LCN4","v":"2045-06-18"},null,null,null,null,null,null,{"$f":"LCU4","v":"2045-06-25"},null,null,null,null,null,null,{"$f":"LDB4","v":"2045-07-02"},null,null,null,null,null,null,{"$f":"LDI4","v":"2045-07-09"},null,null,null,null,null,null,{"$f":"LDP4","v":"2045-07-16"},null,null,null,null,null,null,{"$f":"LDW4","v":"2045-07-23"},null,null,null,null,null,null,{"$f":"LED4","v":"2045-07-30"},null,null,null,null,null,null,{"$f":"LEK4","v":"2045-08-06"},null,null,null,null,null,null,{"$f":"LER4","v":"2045-08-13"},null,null,null,null,null,null,{"$f":"LEY4","v":"2045-08-20"},null,null,null,null,null,null,{"$f":"LFF4","v":"2045-08-27"},null,null,null,null,null,null,{"$f":"LFM4","v":"2045-09-03"},null,null,null,null,null,null,{"$f":"LFT4","v":"2045-09-10"},null,null,null,null,null,null,{"$f":"LGA4","v":"2045-09-17"},null,null,null,null,null,null,{"$f":"LGH4","v":"2045-09-24"},null,null,null,null,null,null,{"$f":"LGO4","v":"2045-10-01"},null,null,null,null,null,null,{"$f":"LGV4","v":"2045-10-08"},null,null,null,null,null,null,{"$f":"LHC4","v":"2045-10-15"},null,null,null,null,null,null,{"$f":"LHJ4","v":"2045-10-22"},null,null,null,null,null,null,{"$f":"LHQ4","v":"2045-10-29"},null,null,null,null,null,null,{"$f":"LHX4","v":"2045-11-05"},null,null,null,null,null,null,{"$f":"LIE4","v":"2045-11-12"},null,null,null,null,null,null,{"$f":"LIL4","v":"2045-11-19"},null,null,null,null,null,null,{"$f":"LIS4","v":"2045-11-26"},null,null,null,null,null,null,{"$f":"LIZ4","v":"2045-12-03"},null,null,null,null,null,null,{"$f":"LJG4","v":"2045-12-10"},null,null,null,null,null,null,{"$f":"LJN4","v":"2045-12-17"},null,null,null,null,null,null,{"$f":"LJU4","v":"2045-12-24"},null,null,null,null,null,null,{"$f":"LKB4","v":"2045-12-31"},null,null,null,null,null,null,{"$f":"LKI4","v":"2046-01-07"},null,null,null,null,null,null,{"$f":"LKP4","v":"2046-01-14"},null,null,null,null,null,null,{"$f":"LKW4","v":"2046-01-21"},null,null,null,null,null,null,{"$f":"LLD4","v":"2046-01-28"},null,null,null,null,null,null,{"$f":"LLK4","v":"2046-02-04"},null,null,null,null,null,null,{"$f":"LLR4","v":"2046-02-11"},null,null,null,null,null,null,{"$f":"LLY4","v":"2046-02-18"},null,null,null,null,null,null,{"$f":"LMF4","v":"2046-02-25"},null,null,null,null,null,null,{"$f":"LMM4","v":"2046-03-04"},null,null,null,null,null,null,{"$f":"LMT4","v":"2046-03-11"},null,null,null,null,null,null,{"$f":"LNA4","v":"2046-03-18"},null,null,null,null,null,null,{"$f":"LNH4","v":"2046-03-25"},null,null,null,null,null,null,{"$f":"LNO4","v":"2046-04-01"},null,null,null,null,null,null,{"$f":"LNV4","v":"2046-04-08"},null,null,null,null,null,null,{"$f":"LOC4","v":"2046-04-15"},null,null,null,null,null,null,{"$f":"LOJ4","v":"2046-04-22"},null,null,null,null,null,null,{"$f":"LOQ4","v":"2046-04-29"},null,null,null,null,null,null,{"$f":"LOX4","v":"2046-05-06"},null,null,null,null,null,null,{"$f":"LPE4","v":"2046-05-13"},null,null,null,null,null,null,{"$f":"LPL4","v":"2046-05-20"},null,null,null,null,null,null,{"$f":"LPS4","v":"2046-05-27"},null,null,null,null,null,null,{"$f":"LPZ4","v":"2046-06-03"},null,null,null,null,null,null,{"$f":"LQG4","v":"2046-06-10"},null,null,null,null,null,null,{"$f":"LQN4","v":"2046-06-17"},null,null,null,null,null,null,{"$f":"LQU4","v":"2046-06-24"},null,null,null,null,null,null,{"$f":"LRB4","v":"2046-07-01"},null,null,null,null,null,null,{"$f":"LRI4","v":"2046-07-08"},null,null,null,null,null,null,{"$f":"LRP4","v":"2046-07-15"},null,null,null,null,null,null,{"$f":"LRW4","v":"2046-07-22"},null,null,null,null,null,null,{"$f":"LSD4","v":"2046-07-29"},null,null,null,null,null,null,{"$f":"LSK4","v":"2046-08-05"},null,null,null,null,null,null,{"$f":"LSR4","v":"2046-08-12"},null,null,null,null,null,null,{"$f":"LSY4","v":"2046-08-19"},null,null,null,null,null,null,{"$f":"LTF4","v":"2046-08-26"},null,null,null,null,null,null,{"$f":"LTM4","v":"2046-09-02"},null,null,null,null,null,null,{"$f":"LTT4","v":"2046-09-09"},null,null,null,null,null,null,{"$f":"LUA4","v":"2046-09-16"},null,null,null,null,null,null,{"$f":"LUH4","v":"2046-09-23"},null,null,null,null,null,null,{"$f":"LUO4","v":"2046-09-30"},null,null,null,null,null,null,{"$f":"LUV4","v":"2046-10-07"},null,null,null,null,null,null,{"$f":"LVC4","v":"2046-10-14"},null,null,null,null,null,null,{"$f":"LVJ4","v":"2046-10-21"},null,null,null,null,null,null,{"$f":"LVQ4","v":"2046-10-28"},null,null,null,null,null,null,{"$f":"LVX4","v":"2046-11-04"},null,null,null,null,null,null,{"$f":"LWE4","v":"2046-11-11"},null,null,null,null,null,null,{"$f":"LWL4","v":"2046-11-18"},null,null,null,null,null,null,{"$f":"LWS4","v":"2046-11-25"},null,null,null,null,null,null,{"$f":"LWZ4","v":"2046-12-02"},null,null,null,null,null,null,{"$f":"LXG4","v":"2046-12-09"},null,null,null,null,null,null,{"$f":"LXN4","v":"2046-12-16"},null,null,null,null,null,null,{"$f":"LXU4","v":"2046-12-23"},null,null,null,null,null,null,{"$f":"LYB4","v":"2046-12-30"},null,null,null,null,null,null,{"$f":"LYI4","v":"2047-01-06"},null,null,null,null,null,null,{"$f":"LYP4","v":"2047-01-13"},null,null,null,null,null,null,{"$f":"LYW4","v":"2047-01-20"},null,null,null,null,null,null,{"$f":"LZD4","v":"2047-01-27"},null,null,null,null,null,null,{"$f":"LZK4","v":"2047-02-03"},null,null,null,null,null,null,{"$f":"LZR4","v":"2047-02-10"},null,null,null,null,null,null,{"$f":"LZY4","v":"2047-02-17"},null,null,null,null,null,null,{"$f":"MAF4","v":"2047-02-24"},null,null,null,null,null,null,{"$f":"MAM4","v":"2047-03-03"},null,null,null,null,null,null,{"$f":"MAT4","v":"2047-03-10"},null,null,null,null,null,null,{"$f":"MBA4","v":"2047-03-17"},null,null,null,null,null,null,{"$f":"MBH4","v":"2047-03-24"},null,null,null,null,null,null,{"$f":"MBO4","v":"2047-03-31"},null,null,null,null,null,null,{"$f":"MBV4","v":"2047-04-07"},null,null,null,null,null,null,{"$f":"MCC4","v":"2047-04-14"},null,null,null,null,null,null,{"$f":"MCJ4","v":"2047-04-21"},null,null,null,null,null,null,{"$f":"MCQ4","v":"2047-04-28"},null,null,null,null,null,null,{"$f":"MCX4","v":"2047-05-05"},null,null,null,null,null,null,{"$f":"MDE4","v":"2047-05-12"},null,null,null,null,null,null,{"$f":"MDL4","v":"2047-05-19"},null,null,null,null,null,null,{"$f":"MDS4","v":"2047-05-26"},null,null,null,null,null,null,{"$f":"MDZ4","v":"2047-06-02"},null,null,null,null,null,null,{"$f":"MEG4","v":"2047-06-09"},null,null,null,null,null,null,{"$f":"MEN4","v":"2047-06-16"},null,null,null,null,null,null,{"$f":"MEU4","v":"2047-06-23"},null,null,null,null,null,null,{"$f":"MFB4","v":"2047-06-30"},null,null,null,null,null,null,{"$f":"MFI4","v":"2047-07-07"},null,null,null,null,null,null,{"$f":"MFP4","v":"2047-07-14"},null,null,null,null,null,null,{"$f":"MFW4","v":"2047-07-21"},null,null,null,null,null,null,{"$f":"MGD4","v":"2047-07-28"},null,null,null,null,null,null,{"$f":"MGK4","v":"2047-08-04"},null,null,null,null,null,null,{"$f":"MGR4","v":"2047-08-11"},null,null,null,null,null,null,{"$f":"MGY4","v":"2047-08-18"},null,null,null,null,null,null,{"$f":"MHF4","v":"2047-08-25"},null,null,null,null,null,null,{"$f":"MHM4","v":"2047-09-01"},null,null,null,null,null,null,{"$f":"MHT4","v":"2047-09-08"},null,null,null,null,null,null,{"$f":"MIA4","v":"2047-09-15"},null,null,null,null,null,null,{"$f":"MIH4","v":"2047-09-22"},null,null,null,null,null,null,{"$f":"MIO4","v":"2047-09-29"},null,null,null,null,null,null,{"$f":"MIV4","v":"2047-10-06"},null,null,null,null,null,null,{"$f":"MJC4","v":"2047-10-13"},null,null,null,null,null,null,{"$f":"MJJ4","v":"2047-10-20"},null,null,null,null,null,null,{"$f":"MJQ4","v":"2047-10-27"},null,null,null,null,null,null,{"$f":"MJX4","v":"2047-11-03"},null,null,null,null,null,null,{"$f":"MKE4","v":"2047-11-10"},null,null,null,null,null,null,{"$f":"MKL4","v":"2047-11-17"},null,null,null,null,null,null,{"$f":"MKS4","v":"2047-11-24"},null,null,null,null,null,null,{"$f":"MKZ4","v":"2047-12-01"},null,null,null,null,null,null,{"$f":"MLG4","v":"2047-12-08"},null,null,null,null,null,null,{"$f":"MLN4","v":"2047-12-15"},null,null,null,null,null,null,{"$f":"MLU4","v":"2047-12-22"},null,null,null,null,null,null,{"$f":"MMB4","v":"2047-12-29"},null,null,null,null,null,null,{"$f":"MMI4","v":"2048-01-05"},null,null,null,null,null,null,{"$f":"MMP4","v":"2048-01-12"},null,null,null,null,null,null,{"$f":"MMW4","v":"2048-01-19"},null,null,null,null,null,null,{"$f":"MND4","v":"2048-01-26"},null,null,null,null,null,null,{"$f":"MNK4","v":"2048-02-02"},null,null,null,null,null,null,{"$f":"MNR4","v":"2048-02-09"},null,null,null,null,null,null,{"$f":"MNY4","v":"2048-02-16"},null,null,null,null,null,null,{"$f":"MOF4","v":"2048-02-23"},null,null,null,null,null,null,{"$f":"MOM4","v":"2048-03-01"},null,null,null,null,null,null,{"$f":"MOT4","v":"2048-03-08"},null,null,null,null,null,null,{"$f":"MPA4","v":"2048-03-15"},null,null,null,null,null,null,{"$f":"MPH4","v":"2048-03-22"},null,null,null,null,null,null,{"$f":"MPO4","v":"2048-03-29"},null,null,null,null,null,null,{"$f":"MPV4","v":"2048-04-05"},null,null,null,null,null,null,{"$f":"MQC4","v":"2048-04-12"},null,null,null,null,null,null,{"$f":"MQJ4","v":"2048-04-19"},null,null,null,null,null,null,{"$f":"MQQ4","v":"2048-04-26"},null,null,null,null,null,null,{"$f":"MQX4","v":"2048-05-03"},null,null,null,null,null,null,{"$f":"MRE4","v":"2048-05-10"},null,null,null,null,null,null,{"$f":"MRL4","v":"2048-05-17"},null,null,null,null,null,null,{"$f":"MRS4","v":"2048-05-24"},null,null,null,null,null,null,{"$f":"MRZ4","v":"2048-05-31"},null,null,null,null,null,null,{"$f":"MSG4","v":"2048-06-07"},null,null,null,null,null,null,{"$f":"MSN4","v":"2048-06-14"},null,null,null,null,null,null,{"$f":"MSU4","v":"2048-06-21"},null,null,null,null,null,null,{"$f":"MTB4","v":"2048-06-28"},null,null,null,null,null,null,{"$f":"MTI4","v":"2048-07-05"},null,null,null,null,null,null,{"$f":"MTP4","v":"2048-07-12"},null,null,null,null,null,null,{"$f":"MTW4","v":"2048-07-19"},null,null,null,null,null,null,{"$f":"MUD4","v":"2048-07-26"},null,null,null,null,null,null,{"$f":"MUK4","v":"2048-08-02"},null,null,null,null,null,null,{"$f":"MUR4","v":"2048-08-09"},null,null,null,null,null,null,{"$f":"MUY4","v":"2048-08-16"},null,null,null,null,null,null,{"$f":"MVF4","v":"2048-08-23"},null,null,null,null,null,null,{"$f":"MVM4","v":"2048-08-30"},null,null,null,null,null,null,{"$f":"MVT4","v":"2048-09-06"},null,null,null,null,null,null,{"$f":"MWA4","v":"2048-09-13"},null,null,null,null,null,null,{"$f":"MWH4","v":"2048-09-20"},null,null,null,null,null,null,{"$f":"MWO4","v":"2048-09-27"},null,null,null,null,null,null,{"$f":"MWV4","v":"2048-10-04"},null,null,null,null,null,null,{"$f":"MXC4","v":"2048-10-11"},null,null,null,null,null,null,{"$f":"MXJ4","v":"2048-10-18"},null,null,null,null,null,null,{"$f":"MXQ4","v":"2048-10-25"},null,null,null,null,null,null,{"$f":"MXX4","v":"2048-11-01"},null,null,null,null,null,null,{"$f":"MYE4","v":"2048-11-08"},null,null,null,null,null,null,{"$f":"MYL4","v":"2048-11-15"},null,null,null,null,null,null,{"$f":"MYS4","v":"2048-11-22"},null,null,null,null,null,null,{"$f":"MYZ4","v":"2048-11-29"},null,null,null,null,null,null,{"$f":"MZG4","v":"2048-12-06"},null,null,null,null,null,null,{"$f":"MZN4","v":"2048-12-13"},null,null,null,null,null,null,{"$f":"MZU4","v":"2048-12-20"},null,null,null,null,null,null,{"$f":"NAB4","v":"2048-12-27"},null,null,null,null,null,null,{"$f":"NAI4","v":"2049-01-03"},null,null,null,null,null,null,{"$f":"NAP4","v":"2049-01-10"},null,null,null,null,null,null,{"$f":"NAW4","v":"2049-01-17"},null,null,null,null,null,null,{"$f":"NBD4","v":"2049-01-24"},null,null,null,null,null,null,{"$f":"NBK4","v":"2049-01-31"},null,null,null,null,null,null,{"$f":"NBR4","v":"2049-02-07"},null,null,null,null,null,null,{"$f":"NBY4","v":"2049-02-14"},null,null,null,null,null,null,{"$f":"NCF4","v":"2049-02-21"},null,null,null,null,null,null,{"$f":"NCM4","v":"2049-02-28"},null,null,null,null,null,null,{"$f":"NCT4","v":"2049-03-07"},null,null,null,null,null,null,{"$f":"NDA4","v":"2049-03-14"},null,null,null,null,null,null,{"$f":"NDH4","v":"2049-03-21"},null,null,null,null,null,null,{"$f":"NDO4","v":"2049-03-28"},null,null,null,null,null,null,{"$f":"NDV4","v":"2049-04-04"},null,null,null,null,null,null,{"$f":"NEC4","v":"2049-04-11"},null,null,null,null,null,null,{"$f":"NEJ4","v":"2049-04-18"},null,null,null,null,null,null,{"$f":"NEQ4","v":"2049-04-25"},null,null,null,null,null,null,{"$f":"NEX4","v":"2049-05-02"},null,null,null,null,null,null,{"$f":"NFE4","v":"2049-05-09"},null,null,null,null,null,null,{"$f":"NFL4","v":"2049-05-16"},null,null,null,null,null,null,{"$f":"NFS4","v":"2049-05-23"},null,null,null,null,null,null,{"$f":"NFZ4","v":"2049-05-30"},null,null,null,null,null,null,{"$f":"NGG4","v":"2049-06-06"},null,null,null,null,null,null,{"$f":"NGN4","v":"2049-06-13"},null,null,null,null,null,null,{"$f":"NGU4","v":"2049-06-20"},null,null,null,null,null,null,{"$f":"NHB4","v":"2049-06-27"},null,null,null,null,null,null,{"$f":"NHI4","v":"2049-07-04"},null,null,null,null,null,null,{"$f":"NHP4","v":"2049-07-11"},null,null,null,null,null,null,{"$f":"NHW4","v":"2049-07-18"},null,null,null,null,null,null,{"$f":"NID4","v":"2049-07-25"},null,null,null,null,null,null,{"$f":"NIK4","v":"2049-08-01"},null,null,null,null,null,null,{"$f":"NIR4","v":"2049-08-08"},null,null,null,null,null,null,{"$f":"NIY4","v":"2049-08-15"},null,null,null,null,null,null,{"$f":"NJF4","v":"2049-08-22"},null,null,null,null,null,null,{"$f":"NJM4","v":"2049-08-29"},null,null,null,null,null,null,{"$f":"NJT4","v":"2049-09-05"},null,null,null,null,null,null,{"$f":"NKA4","v":"2049-09-12"},null,null,null,null,null,null,{"$f":"NKH4","v":"2049-09-19"},null,null,null,null,null,null,{"$f":"NKO4","v":"2049-09-26"},null,null,null,null,null,null,{"$f":"NKV4","v":"2049-10-03"},null,null,null,null,null,null,{"$f":"NLC4","v":"2049-10-10"},null,null,null,null,null,null,{"$f":"NLJ4","v":"2049-10-17"},null,null,null,null,null,null,{"$f":"NLQ4","v":"2049-10-24"},null,null,null,null,null,null,{"$f":"NLX4","v":"2049-10-31"},null,null,null,null,null,null,{"$f":"NME4","v":"2049-11-07"},null,null,null,null,null,null,{"$f":"NML4","v":"2049-11-14"},null,null,null,null,null,null,{"$f":"NMS4","v":"2049-11-21"},null,null,null,null,null,null,{"$f":"NMZ4","v":"2049-11-28"},null,null,null,null,null,null,{"$f":"NNG4","v":"2049-12-05"},null,null,null,null,null,null,{"$f":"NNN4","v":"2049-12-12"},null,null,null,null,null,null,{"$f":"NNU4","v":"2049-12-19"},null,null,null,null,null,null,{"$f":"NOB4","v":"2049-12-26"},null,null,null,null,null,null,{"$f":"NOI4","v":"2050-01-02"},null,null,null,null,null,null,{"$f":"NOP4","v":"2050-01-09"},null,null,null,null,null,null,{"$f":"NOW4","v":"2050-01-16"},null,null,null,null,null,null,{"$f":"NPD4","v":"2050-01-23"},null,null,null,null,null,null,{"$f":"NPK4","v":"2050-01-30"},null,null,null,null,null,null,{"$f":"NPR4","v":"2050-02-06"},null,null,null,null,null,null,{"$f":"NPY4","v":"2050-02-13"},null,null,null,null,null,null,{"$f":"NQF4","v":"2050-02-20"},null,null,null,null,null,null,{"$f":"NQM4","v":"2050-02-27"},null,null,null,null,null,null,{"$f":"NQT4","v":"2050-03-06"},null,null,null,null,null,null,{"$f":"NRA4","v":"2050-03-13"},null,null,null,null,null,null,{"$f":"NRH4","v":"2050-03-20"},null,null,null,null,null,null,{"$f":"NRO4","v":"2050-03-27"},null,null,null,null,null,null,{"$f":"NRV4","v":"2050-04-03"},null,null,null,null,null,null,{"$f":"NSC4","v":"2050-04-10"},null,null,null,null,null,null,{"$f":"NSJ4","v":"2050-04-17"},null,null,null,null,null,null,{"$f":"NSQ4","v":"2050-04-24"},null,null,null,null,null,null,{"$f":"NSX4","v":"2050-05-01"},null,null,null,null,null,null,{"$f":"NTE4","v":"2050-05-08"},null,null,null,null,null,null,{"$f":"NTL4","v":"2050-05-15"},null,null,null,null,null,null,{"$f":"NTS4","v":"2050-05-22"},null,null,null,null,null,null,{"$f":"NTZ4","v":"2050-05-29"},null,null,null,null,null,null,{"$f":"NUG4","v":"2050-06-05"},null,null,null,null,null,null,{"$f":"NUN4","v":"2050-06-12"},null,null,null,null,null,null,{"$f":"NUU4","v":"2050-06-19"},null,null,null,null,null,null,{"$f":"NVB4","v":"2050-06-26"},null,null,null,null,null,null,{"$f":"NVI4","v":"2050-07-03"},null,null,null,null,null,null,{"$f":"NVP4","v":"2050-07-10"},null,null,null,null,null,null,{"$f":"NVW4","v":"2050-07-17"},null,null,null,null,null,null,{"$f":"NWD4","v":"2050-07-24"},null,null,null,null,null,null,{"$f":"NWK4","v":"2050-07-31"},null,null,null,null,null,null,{"$f":"NWR4","v":"2050-08-07"},null,null,null,null,null,null,{"$f":"NWY4","v":"2050-08-14"},null,null,null,null,null,null,{"$f":"NXF4","v":"2050-08-21"},null,null,null,null,null,null,{"$f":"NXM4","v":"2050-08-28"},null,null,null,null,null,null,{"$f":"NXT4","v":"2050-09-04"},null,null,null,null,null,null,{"$f":"NYA4","v":"2050-09-11"},null,null,null,null,null,null,{"$f":"NYH4","v":"2050-09-18"},null,null,null,null,null,null,{"$f":"NYO4","v":"2050-09-25"},null,null,null,null,null,null,{"$f":"NYV4","v":"2050-10-02"},null,null,null,null,null,null,{"$f":"NZC4","v":"2050-10-09"},null,null,null,null,null,null,{"$f":"NZJ4","v":"2050-10-16"},null,null,null,null,null,null,{"$f":"NZQ4","v":"2050-10-23"},null,null,null,null,null,null,{"$f":"NZX4","v":"2050-10-30"},null,null,null,null,null,null,{"$f":"OAE4","v":"2050-11-06"},null,null,null,null,null,null,{"$f":"OAL4","v":"2050-11-13"},null,null,null,null,null,null,{"$f":"OAS4","v":"2050-11-20"},null,null,null,null,null,null,{"$f":"OAZ4","v":"2050-11-27"},null,null,null,null,null,null,{"$f":"OBG4","v":"2050-12-04"},null,null,null,null,null,null,{"$f":"OBN4","v":"2050-12-11"},null,null,null,null,null,null,{"$f":"OBU4","v":"2050-12-18"},null,null,null,null,null,null,{"$f":"OCB4","v":"2050-12-25"},null,null,null,null,null,null,{"$f":"OCI4","v":"2051-01-01"},null,null,null,null,null,null,{"$f":"OCP4","v":"2051-01-08"},null,null,null,null,null,null,{"$f":"OCW4","v":"2051-01-15"},null,null,null,null,null,null,{"$f":"ODD4","v":"2051-01-22"},null,null,null,null,null,null,{"$f":"ODK4","v":"2051-01-29"},null,null,null,null,null,null,{"$f":"ODR4","v":"2051-02-05"},null,null,null,null,null,null,{"$f":"ODY4","v":"2051-02-12"},null,null,null,null,null,null,{"$f":"OEF4","v":"2051-02-19"},null,null,null,null,null,null,{"$f":"OEM4","v":"2051-02-26"},null,null,null,null,null,null,{"$f":"OET4","v":"2051-03-05"},null,null,null,null,null,null,{"$f":"OFA4","v":"2051-03-12"},null,null,null,null,null,null,{"$f":"OFH4","v":"2051-03-19"},null,null,null,null,null,null,{"$f":"OFO4","v":"2051-03-26"},null,null,null,null,null,null,{"$f":"OFV4","v":"2051-04-02"},null,null,null,null,null,null,{"$f":"OGC4","v":"2051-04-09"},null,null,null,null,null,null,{"$f":"OGJ4","v":"2051-04-16"},null,null,null,null,null,null,{"$f":"OGQ4","v":"2051-04-23"},null,null,null,null,null,null,{"$f":"OGX4","v":"2051-04-30"},null,null,null,null,null,null,{"$f":"OHE4","v":"2051-05-07"},null,null,null,null,null,null,{"$f":"OHL4","v":"2051-05-14"},null,null,null,null,null,null,{"$f":"OHS4","v":"2051-05-21"},null,null,null,null,null,null,{"$f":"OHZ4","v":"2051-05-28"},null,null,null,null,null,null,{"$f":"OIG4","v":"2051-06-04"},null,null,null,null,null,null,{"$f":"OIN4","v":"2051-06-11"},null,null,null,null,null,null,{"$f":"OIU4","v":"2051-06-18"},null,null,null,null,null,null,{"$f":"OJB4","v":"2051-06-25"},null,null,null,null,null,null,{"$f":"OJI4","v":"2051-07-02"},null,null,null,null,null,null,{"$f":"OJP4","v":"2051-07-09"},null,null,null,null,null,null,{"$f":"OJW4","v":"2051-07-16"},null,null,null,null,null,null,{"$f":"OKD4","v":"2051-07-23"},null,null,null,null,null,null,{"$f":"OKK4","v":"2051-07-30"},null,null,null,null,null,null,{"$f":"OKR4","v":"2051-08-06"},null,null,null,null,null,null,{"$f":"OKY4","v":"2051-08-13"},null,null,null,null,null,null,{"$f":"OLF4","v":"2051-08-20"},null,null,null,null,null,null,{"$f":"OLM4","v":"2051-08-27"},null,null,null,null,null,null,{"$f":"OLT4","v":"2051-09-03"},null,null,null,null,null,null,{"$f":"OMA4","v":"2051-09-10"},null,null,null,null,null,null,{"$f":"OMH4","v":"2051-09-17"},null,null,null,null,null,null,{"$f":"OMO4","v":"2051-09-24"},null,null,null,null,null,null,{"$f":"OMV4","v":"2051-10-01"},null,null,null,null,null,null,{"$f":"ONC4","v":"2051-10-08"},null,null,null,null,null,null,{"$f":"ONJ4","v":"2051-10-15"},null,null,null,null,null,null,{"$f":"ONQ4","v":"2051-10-22"},null,null,null,null,null,null,{"$f":"ONX4","v":"2051-10-29"},null,null,null,null,null,null,{"$f":"OOE4","v":"2051-11-05"},null,null,null,null,null,null,{"$f":"OOL4","v":"2051-11-12"},null,null,null,null,null,null,{"$f":"OOS4","v":"2051-11-19"},null,null,null,null,null,null,{"$f":"OOZ4","v":"2051-11-26"},null,null,null,null,null,null,{"$f":"OPG4","v":"2051-12-03"},null,null,null,null,null,null,{"$f":"OPN4","v":"2051-12-10"},null,null,null,null,null,null,{"$f":"OPU4","v":"2051-12-17"},null,null,null,null,null,null,{"$f":"OQB4","v":"2051-12-24"},null,null,null,null,null,null,{"$f":"OQI4","v":"2051-12-31"},null,null,null,null,null,null,{"$f":"OQP4","v":"2052-01-07"},null,null,null,null,null,null,{"$f":"OQW4","v":"2052-01-14"},null,null,null,null,null,null,{"$f":"ORD4","v":"2052-01-21"},null,null,null,null,null,null,{"$f":"ORK4","v":"2052-01-28"},null,null,null,null,null,null,{"$f":"ORR4","v":"2052-02-04"},null,null,null,null,null,null,{"$f":"ORY4","v":"2052-02-11"},null,null,null,null,null,null,{"$f":"OSF4","v":"2052-02-18"},null,null,null,null,null,null,{"$f":"OSM4","v":"2052-02-25"},null,null,null,null,null,null,{"$f":"OST4","v":"2052-03-03"},null,null,null,null,null,null,{"$f":"OTA4","v":"2052-03-10"},null,null,null,null,null,null,{"$f":"OTH4","v":"2052-03-17"},null,null,null,null,null,null,{"$f":"OTO4","v":"2052-03-24"},null,null,null,null,null,null,{"$f":"OTV4","v":"2052-03-31"},null,null,null,null,null,null,{"$f":"OUC4","v":"2052-04-07"},null,null,null,null,null,null,{"$f":"OUJ4","v":"2052-04-14"},null,null,null,null,null,null,{"$f":"OUQ4","v":"2052-04-21"},null,null,null,null,null,null,{"$f":"OUX4","v":"2052-04-28"},null,null,null,null,null,null,{"$f":"OVE4","v":"2052-05-05"},null,null,null,null,null,null,{"$f":"OVL4","v":"2052-05-12"},null,null,null,null,null,null,{"$f":"OVS4","v":"2052-05-19"},null,null,null,null,null,null,{"$f":"OVZ4","v":"2052-05-26"},null,null,null,null,null,null,{"$f":"OWG4","v":"2052-06-02"},null,null,null,null,null,null,{"$f":"OWN4","v":"2052-06-09"},null,null,null,null,null,null,{"$f":"OWU4","v":"2052-06-16"},null,null,null,null,null,null,{"$f":"OXB4","v":"2052-06-23"},null,null,null,null,null,null,{"$f":"OXI4","v":"2052-06-30"},null,null,null,null,null,null,{"$f":"OXP4","v":"2052-07-07"},null,null,null,null,null,null,{"$f":"OXW4","v":"2052-07-14"},null,null,null,null,null,null,{"$f":"OYD4","v":"2052-07-21"},null,null,null,null,null,null,{"$f":"OYK4","v":"2052-07-28"},null,null,null,null,null,null,{"$f":"OYR4","v":"2052-08-04"},null,null,null,null,null,null,{"$f":"OYY4","v":"2052-08-11"},null,null,null,null,null,null,{"$f":"OZF4","v":"2052-08-18"},null,null,null,null,null,null,{"$f":"OZM4","v":"2052-08-25"},null,null,null,null,null,null,{"$f":"OZT4","v":"2052-09-01"},null,null,null,null,null,null,{"$f":"PAA4","v":"2052-09-08"},null,null,null,null,null,null,{"$f":"PAH4","v":"2052-09-15"},null,null,null,null,null,null,{"$f":"PAO4","v":"2052-09-22"},null,null,null,null,null,null,{"$f":"PAV4","v":"2052-09-29"},null,null,null,null,null,null,{"$f":"PBC4","v":"2052-10-06"},null,null,null,null,null,null,{"$f":"PBJ4","v":"2052-10-13"},null,null,null,null,null,null,{"$f":"PBQ4","v":"2052-10-20"},null,null,null,null,null,null,{"$f":"PBX4","v":"2052-10-27"},null,null,null,null,null,null,{"$f":"PCE4","v":"2052-11-03"},null,null,null,null,null,null,{"$f":"PCL4","v":"2052-11-10"},null,null,null,null,null,null,{"$f":"PCS4","v":"2052-11-17"},null,null,null,null,null,null,{"$f":"PCZ4","v":"2052-11-24"},null,null,null,null,null,null,{"$f":"PDG4","v":"2052-12-01"},null,null,null,null,null,null,{"$f":"PDN4","v":"2052-12-08"},null,null,null,null,null,null,{"$f":"PDU4","v":"2052-12-15"},null,null,null,null,null,null,{"$f":"PEB4","v":"2052-12-22"},null,null,null,null,null,null,{"$f":"PEI4","v":"2052-12-29"},null,null,null,null,null,null,{"$f":"PEP4","v":"2053-01-05"},null,null,null,null,null,null,{"$f":"PEW4","v":"2053-01-12"},null,null,null,null,null,null,{"$f":"PFD4","v":"2053-01-19"},null,null,null,null,null,null,{"$f":"PFK4","v":"2053-01-26"},null,null,null,null,null,null,{"$f":"PFR4","v":"2053-02-02"},null,null,null,null,null,null,{"$f":"PFY4","v":"2053-02-09"},null,null,null,null,null,null,{"$f":"PGF4","v":"2053-02-16"},null,null,null,null,null,null,{"$f":"PGM4","v":"2053-02-23"},null,null,null,null,null,null,{"$f":"PGT4","v":"2053-03-02"},null,null,null,null,null,null,{"$f":"PHA4","v":"2053-03-09"},null,null,null,null,null,null,{"$f":"PHH4","v":"2053-03-16"},null,null,null,null,null,null,{"$f":"PHO4","v":"2053-03-23"},null,null,null,null,null,null,{"$f":"PHV4","v":"2053-03-30"},null,null,null,null,null,null,{"$f":"PIC4","v":"2053-04-06"},null,null,null,null,null,null,{"$f":"PIJ4","v":"2053-04-13"},null,null,null,null,null,null,{"$f":"PIQ4","v":"2053-04-20"},null,null,null,null,null,null,{"$f":"PIX4","v":"2053-04-27"},null,null,null,null,null,null,{"$f":"PJE4","v":"2053-05-04"},null,null,null,null,null,null,{"$f":"PJL4","v":"2053-05-11"},null,null,null,null,null,null,{"$f":"PJS4","v":"2053-05-18"},null,null,null,null,null,null,{"$f":"PJZ4","v":"2053-05-25"},null,null,null,null,null,null,{"$f":"PKG4","v":"2053-06-01"},null,null,null,null,null,null,{"$f":"PKN4","v":"2053-06-08"},null,null,null,null,null,null,{"$f":"PKU4","v":"2053-06-15"},null,null,null,null,null,null,{"$f":"PLB4","v":"2053-06-22"},null,null,null,null,null,null,{"$f":"PLI4","v":"2053-06-29"},null,null,null,null,null,null,{"$f":"PLP4","v":"2053-07-06"},null,null,null,null,null,null,{"$f":"PLW4","v":"2053-07-13"},null,null,null,null,null,null,{"$f":"PMD4","v":"2053-07-20"},null,null,null,null,null,null,{"$f":"PMK4","v":"2053-07-27"},null,null,null,null,null,null,{"$f":"PMR4","v":"2053-08-03"},null,null,null,null,null,null,{"$f":"PMY4","v":"2053-08-10"},null,null,null,null,null,null,{"$f":"PNF4","v":"2053-08-17"},null,null,null,null,null,null,{"$f":"PNM4","v":"2053-08-24"},null,null,null,null,null,null,{"$f":"PNT4","v":"2053-08-31"},null,null,null,null,null,null,{"$f":"POA4","v":"2053-09-07"},null,null,null,null,null,null,{"$f":"POH4","v":"2053-09-14"},null,null,null,null,null,null,{"$f":"POO4","v":"2053-09-21"},null,null,null,null,null,null,{"$f":"POV4","v":"2053-09-28"},null,null,null,null,null,null,{"$f":"PPC4","v":"2053-10-05"},null,null,null,null,null,null,{"$f":"PPJ4","v":"2053-10-12"},null,null,null,null,null,null,{"$f":"PPQ4","v":"2053-10-19"},null,null,null,null,null,null,{"$f":"PPX4","v":"2053-10-26"},null,null,null,null,null,null,{"$f":"PQE4","v":"2053-11-02"},null,null,null,null,null,null,{"$f":"PQL4","v":"2053-11-09"},null,null,null,null,null,null,{"$f":"PQS4","v":"2053-11-16"},null,null,null,null,null,null,{"$f":"PQZ4","v":"2053-11-23"},null,null,null,null,null,null,{"$f":"PRG4","v":"2053-11-30"},null,null,null,null,null,null,{"$f":"PRN4","v":"2053-12-07"},null,null,null,null,null,null,{"$f":"PRU4","v":"2053-12-14"},null,null,null,null,null,null,{"$f":"PSB4","v":"2053-12-21"},null,null,null,null,null,null,{"$f":"PSI4","v":"2053-12-28"},null,null,null,null,null,null,{"$f":"PSP4","v":"2054-01-04"},null,null,null,null,null,null,{"$f":"PSW4","v":"2054-01-11"},null,null,null,null,null,null,{"$f":"PTD4","v":"2054-01-18"},null,null,null,null,null,null,{"$f":"PTK4","v":"2054-01-25"},null,null,null,null,null,null,{"$f":"PTR4","v":"2054-02-01"},null,null,null,null,null,null,{"$f":"PTY4","v":"2054-02-08"},null,null,null,null,null,null,{"$f":"PUF4","v":"2054-02-15"},null,null,null,null,null,null,{"$f":"PUM4","v":"2054-02-22"},null,null,null,null,null,null,{"$f":"PUT4","v":"2054-03-01"},null,null,null,null,null,null,{"$f":"PVA4","v":"2054-03-08"},null,null,null,null,null,null,{"$f":"PVH4","v":"2054-03-15"},null,null,null,null,null,null,{"$f":"PVO4","v":"2054-03-22"},null,null,null,null,null,null,{"$f":"PVV4","v":"2054-03-29"},null,null,null,null,null,null,{"$f":"PWC4","v":"2054-04-05"},null,null,null,null,null,null,{"$f":"PWJ4","v":"2054-04-12"},null,null,null,null,null,null,{"$f":"PWQ4","v":"2054-04-19"},null,null,null,null,null,null,{"$f":"PWX4","v":"2054-04-26"},null,null,null,null,null,null,{"$f":"PXE4","v":"2054-05-03"},null,null,null,null,null,null,{"$f":"PXL4","v":"2054-05-10"},null,null,null,null,null,null,{"$f":"PXS4","v":"2054-05-17"},null,null,null,null,null,null,{"$f":"PXZ4","v":"2054-05-24"},null,null,null,null,null,null,{"$f":"PYG4","v":"2054-05-31"},null,null,null,null,null,null,{"$f":"PYN4","v":"2054-06-07"},null,null,null,null,null,null,{"$f":"PYU4","v":"2054-06-14"},null,null,null,null,null,null,{"$f":"PZB4","v":"2054-06-21"},null,null,null,null,null,null,{"$f":"PZI4","v":"2054-06-28"},null,null,null,null,null,null,{"$f":"PZP4","v":"2054-07-05"},null,null,null,null,null,null,{"$f":"PZW4","v":"2054-07-12"},null,null,null,null,null,null,{"$f":"QAD4","v":"2054-07-19"},null,null,null,null,null,null,{"$f":"QAK4","v":"2054-07-26"},null,null,null,null,null,null,{"$f":"QAR4","v":"2054-08-02"},null,null,null,null,null,null,{"$f":"QAY4","v":"2054-08-09"},null,null,null,null,null,null,{"$f":"QBF4","v":"2054-08-16"},null,null,null,null,null,null,{"$f":"QBM4","v":"2054-08-23"},null,null,null,null,null,null,{"$f":"QBT4","v":"2054-08-30"},null,null,null,null,null,null,{"$f":"QCA4","v":"2054-09-06"},null,null,null,null,null,null,{"$f":"QCH4","v":"2054-09-13"},null,null,null,null,null,null,{"$f":"QCO4","v":"2054-09-20"},null,null,null,null,null,null,{"$f":"QCV4","v":"2054-09-27"},null,null,null,null,null,null,{"$f":"QDC4","v":"2054-10-04"},null,null,null,null,null,null,{"$f":"QDJ4","v":"2054-10-11"},null,null,null,null,null,null,{"$f":"QDQ4","v":"2054-10-18"},null,null,null,null,null,null,{"$f":"QDX4","v":"2054-10-25"},null,null,null,null,null,null,{"$f":"QEE4","v":"2054-11-01"},null,null,null,null,null,null,{"$f":"QEL4","v":"2054-11-08"},null,null,null,null,null,null,{"$f":"QES4","v":"2054-11-15"},null,null,null,null,null,null,{"$f":"QEZ4","v":"2054-11-22"},null,null,null,null,null,null,{"$f":"QFG4","v":"2054-11-29"},null,null,null,null,null,null,{"$f":"QFN4","v":"2054-12-06"},null,null,null,null,null,null,{"$f":"QFU4","v":"2054-12-13"},null,null,null,null,null,null,{"$f":"QGB4","v":"2054-12-20"},null,null,null,null,null,null,{"$f":"QGI4","v":"2054-12-27"},null,null,null,null,null,null,{"$f":"QGP4","v":"2055-01-03"},null,null,null,null,null,null,{"$f":"QGW4","v":"2055-01-10"},null,null,null,null,null,null,{"$f":"QHD4","v":"2055-01-17"},null,null,null,null,null,null,{"$f":"QHK4","v":"2055-01-24"},null,null,null,null,null,null,{"$f":"QHR4","v":"2055-01-31"},null,null,null,null,null,null,{"$f":"QHY4","v":"2055-02-07"},null,null,null,null,null,null,{"$f":"QIF4","v":"2055-02-14"},null,null,null,null,null,null,{"$f":"QIM4","v":"2055-02-21"},null,null,null,null,null,null,{"$f":"QIT4","v":"2055-02-28"},null,null,null,null,null,null,{"$f":"QJA4","v":"2055-03-07"},null,null,null,null,null,null,{"$f":"QJH4","v":"2055-03-14"},null,null,null,null,null,null,{"$f":"QJO4","v":"2055-03-21"},null,null,null,null,null,null,{"$f":"QJV4","v":"2055-03-28"},null,null,null,null,null,null,{"$f":"QKC4","v":"2055-04-04"},null,null,null,null,null,null,{"$f":"QKJ4","v":"2055-04-11"},null,null,null,null,null,null,{"$f":"QKQ4","v":"2055-04-18"},null,null,null,null,null,null,{"$f":"QKX4","v":"2055-04-25"},null,null,null,null,null,null,{"$f":"QLE4","v":"2055-05-02"},null,null,null,null,null,null,{"$f":"QLL4","v":"2055-05-09"},null,null,null,null,null,null,{"$f":"QLS4","v":"2055-05-16"},null,null,null,null,null,null,{"$f":"QLZ4","v":"2055-05-23"},null,null,null,null,null,null,{"$f":"QMG4","v":"2055-05-30"},null,null,null,null,null,null,{"$f":"QMN4","v":"2055-06-06"},null,null,null,null,null,null,{"$f":"QMU4","v":"2055-06-13"},null,null,null,null,null,null,{"$f":"QNB4","v":"2055-06-20"},null,null,null,null,null,null,{"$f":"QNI4","v":"2055-06-27"},null,null,null,null,null,null,{"$f":"QNP4","v":"2055-07-04"},null,null,null,null,null,null,{"$f":"QNW4","v":"2055-07-11"},null,null,null,null,null,null,{"$f":"QOD4","v":"2055-07-18"},null,null,null,null,null,null,{"$f":"QOK4","v":"2055-07-25"},null,null,null,null,null,null,{"$f":"QOR4","v":"2055-08-01"},null,null,null,null,null,null,{"$f":"QOY4","v":"2055-08-08"},null,null,null,null,null,null,{"$f":"QPF4","v":"2055-08-15"},null,null,null,null,null,null,{"$f":"QPM4","v":"2055-08-22"},null,null,null,null,null,null,{"$f":"QPT4","v":"2055-08-29"},null,null,null,null,null,null,{"$f":"QQA4","v":"2055-09-05"},null,null,null,null,null,null,{"$f":"QQH4","v":"2055-09-12"},null,null,null,null,null,null,{"$f":"QQO4","v":"2055-09-19"},null,null,null,null,null,null,{"$f":"QQV4","v":"2055-09-26"},null,null,null,null,null,null,{"$f":"QRC4","v":"2055-10-03"},null,null,null,null,null,null,{"$f":"QRJ4","v":"2055-10-10"},null,null,null,null,null,null,{"$f":"QRQ4","v":"2055-10-17"},null,null,null,null,null,null,{"$f":"QRX4","v":"2055-10-24"},null,null,null,null,null,null,{"$f":"QSE4","v":"2055-10-31"},null,null,null,null,null,null,{"$f":"QSL4","v":"2055-11-07"},null,null,null,null,null,null,{"$f":"QSS4","v":"2055-11-14"},null,null,null,null,null,null,{"$f":"QSZ4","v":"2055-11-21"},null,null,null,null,null,null,{"$f":"QTG4","v":"2055-11-28"},null,null,null,null,null,null,{"$f":"QTN4","v":"2055-12-05"},null,null,null,null,null,null,{"$f":"QTU4","v":"2055-12-12"},null,null,null,null,null,null,{"$f":"QUB4","v":"2055-12-19"},null,null,null,null,null,null,{"$f":"QUI4","v":"2055-12-26"},null,null,null,null,null,null,{"$f":"QUP4","v":"2056-01-02"},null,null,null,null,null,null,{"$f":"QUW4","v":"2056-01-09"},null,null,null,null,null,null,{"$f":"QVD4","v":"2056-01-16"},null,null,null,null,null,null,{"$f":"QVK4","v":"2056-01-23"},null,null,null,null,null,null,{"$f":"QVR4","v":"2056-01-30"},null,null,null,null,null,null,{"$f":"QVY4","v":"2056-02-06"},null,null,null,null,null,null,{"$f":"QWF4","v":"2056-02-13"},null,null,null,null,null,null,{"$f":"QWM4","v":"2056-02-20"},null,null,null,null,null,null,{"$f":"QWT4","v":"2056-02-27"},null,null,null,null,null,null,{"$f":"QXA4","v":"2056-03-05"},null,null,null,null,null,null,{"$f":"QXH4","v":"2056-03-12"},null,null,null,null,null,null,{"$f":"QXO4","v":"2056-03-19"},null,null,null,null,null,null,{"$f":"QXV4","v":"2056-03-26"},null,null,null,null,null,null,{"$f":"QYC4","v":"2056-04-02"},null,null,null,null,null,null,{"$f":"QYJ4","v":"2056-04-09"},null,null,null,null,null,null,{"$f":"QYQ4","v":"2056-04-16"},null,null,null,null,null,null,{"$f":"QYX4","v":"2056-04-23"},null,null,null,null,null,null,{"$f":"QZE4","v":"2056-04-30"},null,null,null,null,null,null,{"$f":"QZL4","v":"2056-05-07"},null,null,null,null,null,null,{"$f":"QZS4","v":"2056-05-14"},null,null,null,null,null,null,{"$f":"QZZ4","v":"2056-05-21"},null,null,null,null,null,null,{"$f":"RAG4","v":"2056-05-28"},null,null,null,null,null,null,{"$f":"RAN4","v":"2056-06-04"},null,null,null,null,null,null,{"$f":"RAU4","v":"2056-06-11"},null,null,null,null,null,null,{"$f":"RBB4","v":"2056-06-18"},null,null,null,null,null,null,{"$f":"RBI4","v":"2056-06-25"},null,null,null,null,null,null,{"$f":"RBP4","v":"2056-07-02"},null,null,null,null,null,null,{"$f":"RBW4","v":"2056-07-09"},null,null,null,null,null,null,{"$f":"RCD4","v":"2056-07-16"},null,null,null,null,null,null,{"$f":"RCK4","v":"2056-07-23"},null,null,null,null,null,null,{"$f":"RCR4","v":"2056-07-30"},null,null,null,null,null,null,{"$f":"RCY4","v":"2056-08-06"},null,null,null,null,null,null,{"$f":"RDF4","v":"2056-08-13"},null,null,null,null,null,null,{"$f":"RDM4","v":"2056-08-20"},null,null,null,null,null,null,{"$f":"RDT4","v":"2056-08-27"},null,null,null,null,null,null,{"$f":"REA4","v":"2056-09-03"},null,null,null,null,null,null,{"$f":"REH4","v":"2056-09-10"},null,null,null,null,null,null,{"$f":"REO4","v":"2056-09-17"},null,null,null,null,null,null,{"$f":"REV4","v":"2056-09-24"},null,null,null,null,null,null,{"$f":"RFC4","v":"2056-10-01"},null,null,null,null,null,null,{"$f":"RFJ4","v":"2056-10-08"},null,null,null,null,null,null,{"$f":"RFQ4","v":"2056-10-15"},null,null,null,null,null,null,{"$f":"RFX4","v":"2056-10-22"},null,null,null,null,null,null,{"$f":"RGE4","v":"2056-10-29"},null,null,null,null,null,null,{"$f":"RGL4","v":"2056-11-05"},null,null,null,null,null,null,{"$f":"RGS4","v":"2056-11-12"},null,null,null,null,null,null,{"$f":"RGZ4","v":"2056-11-19"},null,null,null,null,null,null,{"$f":"RHG4","v":"2056-11-26"},null,null,null,null,null,null,{"$f":"RHN4","v":"2056-12-03"},null,null,null,null,null,null,{"$f":"RHU4","v":"2056-12-10"},null,null,null,null,null,null,{"$f":"RIB4","v":"2056-12-17"},null,null,null,null,null,null,{"$f":"RII4","v":"2056-12-24"},null,null,null,null,null,null,{"$f":"RIP4","v":"2056-12-31"},null,null,null,null,null,null,{"$f":"RIW4","v":"2057-01-07"},null,null,null,null,null,null,{"$f":"RJD4","v":"2057-01-14"},null,null,null,null,null,null,{"$f":"RJK4","v":"2057-01-21"},null,null,null,null,null,null,{"$f":"RJR4","v":"2057-01-28"},null,null,null,null,null,null,{"$f":"RJY4","v":"2057-02-04"},null,null,null,null,null,null,{"$f":"RKF4","v":"2057-02-11"},null,null,null,null,null,null,{"$f":"RKM4","v":"2057-02-18"},null,null,null,null,null,null,{"$f":"RKT4","v":"2057-02-25"},null,null,null,null,null,null,{"$f":"RLA4","v":"2057-03-04"},null,null,null,null,null,null,{"$f":"RLH4","v":"2057-03-11"},null,null,null,null,null,null,{"$f":"RLO4","v":"2057-03-18"},null,null,null,null,null,null,{"$f":"RLV4","v":"2057-03-25"},null,null,null,null,null,null,{"$f":"RMC4","v":"2057-04-01"},null,null,null,null,null,null,{"$f":"RMJ4","v":"2057-04-08"},null,null,null,null,null,null,{"$f":"RMQ4","v":"2057-04-15"},null,null,null,null,null,null,{"$f":"RMX4","v":"2057-04-22"},null,null,null,null,null,null,{"$f":"RNE4","v":"2057-04-29"},null,null,null,null,null,null,{"$f":"RNL4","v":"2057-05-06"},null,null,null,null,null,null,{"$f":"RNS4","v":"2057-05-13"},null,null,null,null,null,null,{"$f":"RNZ4","v":"2057-05-20"},null,null,null,null,null,null,{"$f":"ROG4","v":"2057-05-27"},null,null,null,null,null,null,{"$f":"RON4","v":"2057-06-03"},null,null,null,null,null,null,{"$f":"ROU4","v":"2057-06-10"},null,null,null,null,null,null,{"$f":"RPB4","v":"2057-06-17"},null,null,null,null,null,null,{"$f":"RPI4","v":"2057-06-24"},null,null,null,null,null,null,{"$f":"RPP4","v":"2057-07-01"},null,null,null,null,null,null,{"$f":"RPW4","v":"2057-07-08"},null,null,null,null,null,null,{"$f":"RQD4","v":"2057-07-15"},null,null,null,null,null,null,{"$f":"RQK4","v":"2057-07-22"},null,null,null,null,null,null,{"$f":"RQR4","v":"2057-07-29"},null,null,null,null,null,null,{"$f":"RQY4","v":"2057-08-05"},null,null,null,null,null,null,{"$f":"RRF4","v":"2057-08-12"},null,null,null,null,null,null,{"$f":"RRM4","v":"2057-08-19"},null,null,null,null,null,null,{"$f":"RRT4","v":"2057-08-26"},null,null,null,null,null,null,{"$f":"RSA4","v":"2057-09-02"},null,null,null,null,null,null,{"$f":"RSH4","v":"2057-09-09"},null,null,null,null,null,null,{"$f":"RSO4","v":"2057-09-16"},null,null,null,null,null,null,{"$f":"RSV4","v":"2057-09-23"},null,null,null,null,null,null,{"$f":"RTC4","v":"2057-09-30"},null,null,null,null,null,null,{"$f":"RTJ4","v":"2057-10-07"},null,null,null,null,null,null,{"$f":"RTQ4","v":"2057-10-14"},null,null,null,null,null,null,{"$f":"RTX4","v":"2057-10-21"},null,null,null,null,null,null,{"$f":"RUE4","v":"2057-10-28"},null,null,null,null,null,null,{"$f":"RUL4","v":"2057-11-04"},null,null,null,null,null,null,{"$f":"RUS4","v":"2057-11-11"},null,null,null,null,null,null,{"$f":"RUZ4","v":"2057-11-18"},null,null,null,null,null,null,{"$f":"RVG4","v":"2057-11-25"},null,null,null,null,null,null,{"$f":"RVN4","v":"2057-12-02"},null,null,null,null,null,null,{"$f":"RVU4","v":"2057-12-09"},null,null,null,null,null,null,{"$f":"RWB4","v":"2057-12-16"},null,null,null,null,null,null,{"$f":"RWI4","v":"2057-12-23"},null,null,null,null,null,null,{"$f":"RWP4","v":"2057-12-30"},null,null,null,null,null,null,{"$f":"RWW4","v":"2058-01-06"},null,null,null,null,null,null,{"$f":"RXD4","v":"2058-01-13"},null,null,null,null,null,null,{"$f":"RXK4","v":"2058-01-20"},null,null,null,null,null,null,{"$f":"RXR4","v":"2058-01-27"},null,null,null,null,null,null,{"$f":"RXY4","v":"2058-02-03"},null,null,null,null,null,null,{"$f":"RYF4","v":"2058-02-10"},null,null,null,null,null,null,{"$f":"RYM4","v":"2058-02-17"},null,null,null,null,null,null,{"$f":"RYT4","v":"2058-02-24"},null,null,null,null,null,null,{"$f":"RZA4","v":"2058-03-03"},null,null,null,null,null,null,{"$f":"RZH4","v":"2058-03-10"},null,null,null,null,null,null,{"$f":"RZO4","v":"2058-03-17"},null,null,null,null,null,null,{"$f":"RZV4","v":"2058-03-24"},null,null,null,null,null,null,{"$f":"SAC4","v":"2058-03-31"},null,null,null,null,null,null,{"$f":"SAJ4","v":"2058-04-07"},null,null,null,null,null,null,{"$f":"SAQ4","v":"2058-04-14"},null,null,null,null,null,null,{"$f":"SAX4","v":"2058-04-21"},null,null,null,null,null,null,{"$f":"SBE4","v":"2058-04-28"},null,null,null,null,null,null,{"$f":"SBL4","v":"2058-05-05"},null,null,null,null,null,null,{"$f":"SBS4","v":"2058-05-12"},null,null,null,null,null,null,{"$f":"SBZ4","v":"2058-05-19"},null,null,null,null,null,null,{"$f":"SCG4","v":"2058-05-26"},null,null,null,null,null,null,{"$f":"SCN4","v":"2058-06-02"},null,null,null,null,null,null,{"$f":"SCU4","v":"2058-06-09"},null,null,null,null,null,null,{"$f":"SDB4","v":"2058-06-16"},null,null,null,null,null,null,{"$f":"SDI4","v":"2058-06-23"},null,null,null,null,null,null,{"$f":"SDP4","v":"2058-06-30"},null,null,null,null,null,null,{"$f":"SDW4","v":"2058-07-07"},null,null,null,null,null,null,{"$f":"SED4","v":"2058-07-14"},null,null,null,null,null,null,{"$f":"SEK4","v":"2058-07-21"},null,null,null,null,null,null,{"$f":"SER4","v":"2058-07-28"},null,null,null,null,null,null,{"$f":"SEY4","v":"2058-08-04"},null,null,null,null,null,null,{"$f":"SFF4","v":"2058-08-11"},null,null,null,null,null,null,{"$f":"SFM4","v":"2058-08-18"},null,null,null,null,null,null,{"$f":"SFT4","v":"2058-08-25"},null,null,null,null,null,null,{"$f":"SGA4","v":"2058-09-01"},null,null,null,null,null,null,{"$f":"SGH4","v":"2058-09-08"},null,null,null,null,null,null,{"$f":"SGO4","v":"2058-09-15"},null,null,null,null,null,null,{"$f":"SGV4","v":"2058-09-22"},null,null,null,null,null,null,{"$f":"SHC4","v":"2058-09-29"},null,null,null,null,null,null,{"$f":"SHJ4","v":"2058-10-06"},null,null,null,null,null,null,{"$f":"SHQ4","v":"2058-10-13"},null,null,null,null,null,null,{"$f":"SHX4","v":"2058-10-20"},null,null,null,null,null,null,{"$f":"SIE4","v":"2058-10-27"},null,null,null,null,null,null,{"$f":"SIL4","v":"2058-11-03"},null,null,null,null,null,null,{"$f":"SIS4","v":"2058-11-10"},null,null,null,null,null,null,{"$f":"SIZ4","v":"2058-11-17"},null,null,null,null,null,null,{"$f":"SJG4","v":"2058-11-24"},null,null,null,null,null,null,{"$f":"SJN4","v":"2058-12-01"},null,null,null,null,null,null,{"$f":"SJU4","v":"2058-12-08"},null,null,null,null,null,null,{"$f":"SKB4","v":"2058-12-15"},null,null,null,null,null,null,{"$f":"SKI4","v":"2058-12-22"},null,null,null,null,null,null,{"$f":"SKP4","v":"2058-12-29"},null,null,null,null,null,null,{"$f":"SKW4","v":"2059-01-05"},null,null,null,null,null,null,{"$f":"SLD4","v":"2059-01-12"},null,null,null,null,null,null,{"$f":"SLK4","v":"2059-01-19"},null,null,null,null,null,null,{"$f":"SLR4","v":"2059-01-26"},null,null,null,null,null,null,{"$f":"SLY4","v":"2059-02-02"},null,null,null,null,null,null,{"$f":"SMF4","v":"2059-02-09"},null,null,null,null,null,null,{"$f":"SMM4","v":"2059-02-16"},null,null,null,null,null,null,{"$f":"SMT4","v":"2059-02-23"},null,null,null,null,null,null,{"$f":"SNA4","v":"2059-03-02"},null,null,null,null,null,null,{"$f":"SNH4","v":"2059-03-09"},null,null,null,null,null,null,{"$f":"SNO4","v":"2059-03-16"},null,null,null,null,null,null,{"$f":"SNV4","v":"2059-03-23"},null,null,null,null,null,null,{"$f":"SOC4","v":"2059-03-30"},null,null,null,null,null,null,{"$f":"SOJ4","v":"2059-04-06"},null,null,null,null,null,null,{"$f":"SOQ4","v":"2059-04-13"},null,null,null,null,null,null,{"$f":"SOX4","v":"2059-04-20"},null,null,null,null,null,null,{"$f":"SPE4","v":"2059-04-27"},null,null,null,null,null,null,{"$f":"SPL4","v":"2059-05-04"},null,null,null,null,null,null,{"$f":"SPS4","v":"2059-05-11"},null,null,null,null,null,null,{"$f":"SPZ4","v":"2059-05-18"},null,null,null,null,null,null,{"$f":"SQG4","v":"2059-05-25"},null,null,null,null,null,null,{"$f":"SQN4","v":"2059-06-01"},null,null,null,null,null,null,{"$f":"SQU4","v":"2059-06-08"},null,null,null,null,null,null,{"$f":"SRB4","v":"2059-06-15"},null,null,null,null,null,null,{"$f":"SRI4","v":"2059-06-22"},null,null,null,null,null,null,{"$f":"SRP4","v":"2059-06-29"},null,null,null,null,null,null,{"$f":"SRW4","v":"2059-07-06"},null,null,null,null,null,null,{"$f":"SSD4","v":"2059-07-13"},null,null,null,null,null,null,{"$f":"SSK4","v":"2059-07-20"},null,null,null,null,null,null,{"$f":"SSR4","v":"2059-07-27"},null,null,null,null,null,null,{"$f":"SSY4","v":"2059-08-03"},null,null,null,null,null,null,{"$f":"STF4","v":"2059-08-10"},null,null,null,null,null,null,{"$f":"STM4","v":"2059-08-17"},null,null,null,null,null,null,{"$f":"STT4","v":"2059-08-24"},null,null,null,null,null,null,{"$f":"SUA4","v":"2059-08-31"},null,null,null,null,null,null,{"$f":"SUH4","v":"2059-09-07"},null,null,null,null,null,null,{"$f":"SUO4","v":"2059-09-14"},null,null,null,null,null,null,{"$f":"SUV4","v":"2059-09-21"},null,null,null,null,null,null,{"$f":"SVC4","v":"2059-09-28"},null,null,null,null,null,null,{"$f":"SVJ4","v":"2059-10-05"},null,null,null,null,null,null,{"$f":"SVQ4","v":"2059-10-12"},null,null,null,null,null,null,{"$f":"SVX4","v":"2059-10-19"},null,null,null,null,null,null,{"$f":"SWE4","v":"2059-10-26"},null,null,null,null,null,null,{"$f":"SWL4","v":"2059-11-02"},null,null,null,null,null,null,{"$f":"SWS4","v":"2059-11-09"},null,null,null,null,null,null,{"$f":"SWZ4","v":"2059-11-16"},null,null,null,null,null,null,{"$f":"SXG4","v":"2059-11-23"},null,null,null,null,null,null,{"$f":"SXN4","v":"2059-11-30"},null,null,null,null,null,null,{"$f":"SXU4","v":"2059-12-07"},null,null,null,null,null,null,{"$f":"SYB4","v":"2059-12-14"},null,null,null,null,null,null,{"$f":"SYI4","v":"2059-12-21"},null,null,null,null,null,null,{"$f":"SYP4","v":"2059-12-28"},null,null,null,null,null,null,{"$f":"SYW4","v":"2060-01-04"},null,null,null,null,null,null,{"$f":"SZD4","v":"2060-01-11"},null,null,null,null,null,null,{"$f":"SZK4","v":"2060-01-18"},null,null,null,null,null,null,{"$f":"SZR4","v":"2060-01-25"},null,null,null,null,null,null,{"$f":"SZY4","v":"2060-02-01"},null,null,null,null,null,null,{"$f":"TAF4","v":"2060-02-08"},null,null,null,null,null,null,{"$f":"TAM4","v":"2060-02-15"},null,null,null,null,null,null,{"$f":"TAT4","v":"2060-02-22"},null,null,null,null,null,null,{"$f":"TBA4","v":"2060-02-29"},null,null,null,null,null,null,{"$f":"TBH4","v":"2060-03-07"},null,null,null,null,null,null,{"$f":"TBO4","v":"2060-03-14"},null,null,null,null,null,null,{"$f":"TBV4","v":"2060-03-21"},null,null,null,null,null,null,{"$f":"TCC4","v":"2060-03-28"},null,null,null,null,null,null,{"$f":"TCJ4","v":"2060-04-04"},null,null,null,null,null,null,{"$f":"TCQ4","v":"2060-04-11"},null,null,null,null,null,null,{"$f":"TCX4","v":"2060-04-18"},null,null,null,null,null,null,{"$f":"TDE4","v":"2060-04-25"},null,null,null,null,null,null,{"$f":"TDL4","v":"2060-05-02"},null,null,null,null,null,null,{"$f":"TDS4","v":"2060-05-09"},null,null,null,null,null,null,{"$f":"TDZ4","v":"2060-05-16"},null,null,null,null,null,null,{"$f":"TEG4","v":"2060-05-23"},null,null,null,null,null,null,{"$f":"TEN4","v":"2060-05-30"},null,null,null,null,null,null,{"$f":"TEU4","v":"2060-06-06"},null,null,null,null,null,null,{"$f":"TFB4","v":"2060-06-13"},null,null,null,null,null,null,{"$f":"TFI4","v":"2060-06-20"},null,null,null,null,null,null,{"$f":"TFP4","v":"2060-06-27"},null,null,null,null,null,null,{"$f":"TFW4","v":"2060-07-04"},null,null,null,null,null,null,{"$f":"TGD4","v":"2060-07-11"},null,null,null,null,null,null,{"$f":"TGK4","v":"2060-07-18"},null,null,null,null,null,null,{"$f":"TGR4","v":"2060-07-25"},null,null,null,null,null,null,{"$f":"TGY4","v":"2060-08-01"},null,null,null,null,null,null,{"$f":"THF4","v":"2060-08-08"},null,null,null,null,null,null,{"$f":"THM4","v":"2060-08-15"},null,null,null,null,null,null,{"$f":"THT4","v":"2060-08-22"},null,null,null,null,null,null,{"$f":"TIA4","v":"2060-08-29"},null,null,null,null,null,null,{"$f":"TIH4","v":"2060-09-05"},null,null,null,null,null,null,{"$f":"TIO4","v":"2060-09-12"},null,null,null,null,null,null,{"$f":"TIV4","v":"2060-09-19"},null,null,null,null,null,null,{"$f":"TJC4","v":"2060-09-26"},null,null,null,null,null,null,{"$f":"TJJ4","v":"2060-10-03"},null,null,null,null,null,null,{"$f":"TJQ4","v":"2060-10-10"},null,null,null,null,null,null,{"$f":"TJX4","v":"2060-10-17"},null,null,null,null,null,null,{"$f":"TKE4","v":"2060-10-24"},null,null,null,null,null,null,{"$f":"TKL4","v":"2060-10-31"},null,null,null,null,null,null,{"$f":"TKS4","v":"2060-11-07"},null,null,null,null,null,null,{"$f":"TKZ4","v":"2060-11-14"},null,null,null,null,null,null,{"$f":"TLG4","v":"2060-11-21"},null,null,null,null,null,null,{"$f":"TLN4","v":"2060-11-28"},null,null,null,null,null,null,{"$f":"TLU4","v":"2060-12-05"},null,null,null,null,null,null,{"$f":"TMB4","v":"2060-12-12"},null,null,null,null,null,null,{"$f":"TMI4","v":"2060-12-19"},null,null,null,null,null,null,{"$f":"TMP4","v":"2060-12-26"},null,null,null,null,null,null,{"$f":"TMW4","v":"2061-01-02"},null,null,null,null,null,null,{"$f":"TND4","v":"2061-01-09"},null,null,null,null,null,null,{"$f":"TNK4","v":"2061-01-16"},null,null,null,null,null,null,{"$f":"TNR4","v":"2061-01-23"},null,null,null,null,null,null,{"$f":"TNY4","v":"2061-01-30"},null,null,null,null,null,null,{"$f":"TOF4","v":"2061-02-06"},null,null,null,null,null,null,{"$f":"TOM4","v":"2061-02-13"},null,null,null,null,null,null,{"$f":"TOT4","v":"2061-02-20"},null,null,null,null,null,null,{"$f":"TPA4","v":"2061-02-27"},null,null,null,null,null,null,{"$f":"TPH4","v":"2061-03-06"},null,null,null,null,null,null,{"$f":"TPO4","v":"2061-03-13"},null,null,null,null,null,null,{"$f":"TPV4","v":"2061-03-20"},null,null,null,null,null,null,{"$f":"TQC4","v":"2061-03-27"},null,null,null,null,null,null,{"$f":"TQJ4","v":"2061-04-03"},null,null,null,null,null,null,{"$f":"TQQ4","v":"2061-04-10"},null,null,null,null,null,null,{"$f":"TQX4","v":"2061-04-17"},null,null,null,null,null,null,{"$f":"TRE4","v":"2061-04-24"},null,null,null,null,null,null,{"$f":"TRL4","v":"2061-05-01"},null,null,null,null,null,null,{"$f":"TRS4","v":"2061-05-08"},null,null,null,null,null,null,{"$f":"TRZ4","v":"2061-05-15"},null,null,null,null,null,null,{"$f":"TSG4","v":"2061-05-22"},null,null,null,null,null,null,{"$f":"TSN4","v":"2061-05-29"},null,null,null,null,null,null,{"$f":"TSU4","v":"2061-06-05"},null,null,null,null,null,null,{"$f":"TTB4","v":"2061-06-12"},null,null,null,null,null,null,{"$f":"TTI4","v":"2061-06-19"},null,null,null,null,null,null,{"$f":"TTP4","v":"2061-06-26"},null,null,null,null,null,null,{"$f":"TTW4","v":"2061-07-03"},null,null,null,null,null,null,{"$f":"TUD4","v":"2061-07-10"},null,null,null,null,null,null,{"$f":"TUK4","v":"2061-07-17"},null,null,null,null,null,null,{"$f":"TUR4","v":"2061-07-24"},null,null,null,null,null,null,{"$f":"TUY4","v":"2061-07-31"},null,null,null,null,null,null,{"$f":"TVF4","v":"2061-08-07"},null,null,null,null,null,null,{"$f":"TVM4","v":"2061-08-14"},null,null,null,null,null,null,{"$f":"TVT4","v":"2061-08-21"},null,null,null,null,null,null,{"$f":"TWA4","v":"2061-08-28"},null,null,null,null,null,null,{"$f":"TWH4","v":"2061-09-04"},null,null,null,null,null,null,{"$f":"TWO4","v":"2061-09-11"},null,null,null,null,null,null,{"$f":"TWV4","v":"2061-09-18"},null,null,null,null,null,null,{"$f":"TXC4","v":"2061-09-25"},null,null,null,null,null,null,{"$f":"TXJ4","v":"2061-10-02"},null,null,null,null,null,null,{"$f":"TXQ4","v":"2061-10-09"},null,null,null,null,null,null,{"$f":"TXX4","v":"2061-10-16"},null,null,null,null,null,null,{"$f":"TYE4","v":"2061-10-23"},null,null,null,null,null,null,{"$f":"TYL4","v":"2061-10-30"},null,null,null,null,null,null,{"$f":"TYS4","v":"2061-11-06"},null,null,null,null,null,null,{"$f":"TYZ4","v":"2061-11-13"},null,null,null,null,null,null,{"$f":"TZG4","v":"2061-11-20"},null,null,null,null,null,null,{"$f":"TZN4","v":"2061-11-27"},null,null,null,null,null,null,{"$f":"TZU4","v":"2061-12-04"},null,null,null,null,null,null,{"$f":"UAB4","v":"2061-12-11"},null,null,null,null,null,null,{"$f":"UAI4","v":"2061-12-18"},null,null,null,null,null,null,{"$f":"UAP4","v":"2061-12-25"},null,null,null,null,null,null,{"$f":"UAW4","v":"2062-01-01"},null,null,null,null,null,null,{"$f":"UBD4","v":"2062-01-08"},null,null,null,null,null,null,{"$f":"UBK4","v":"2062-01-15"},null,null,null,null,null,null,{"$f":"UBR4","v":"2062-01-22"},null,null,null,null,null,null,{"$f":"UBY4","v":"2062-01-29"},null,null,null,null,null,null,{"$f":"UCF4","v":"2062-02-05"},null,null,null,null,null,null,{"$f":"UCM4","v":"2062-02-12"},null,null,null,null,null,null,{"$f":"UCT4","v":"2062-02-19"},null,null,null,null,null,null,{"$f":"UDA4","v":"2062-02-26"},null,null,null,null,null,null,{"$f":"UDH4","v":"2062-03-05"},null,null,null,null,null,null,{"$f":"UDO4","v":"2062-03-12"},null,null,null,null,null,null,{"$f":"UDV4","v":"2062-03-19"},null,null,null,null,null,null,{"$f":"UEC4","v":"2062-03-26"},null,null,null,null,null,null,{"$f":"UEJ4","v":"2062-04-02"},null,null,null,null,null,null,{"$f":"UEQ4","v":"2062-04-09"},null,null,null,null,null,null,{"$f":"UEX4","v":"2062-04-16"},null,null,null,null,null,null,{"$f":"UFE4","v":"2062-04-23"},null,null,null,null,null,null,{"$f":"UFL4","v":"2062-04-30"},null,null,null,null,null,null,{"$f":"UFS4","v":"2062-05-07"},null,null,null,null,null,null,{"$f":"UFZ4","v":"2062-05-14"},null,null,null,null,null,null,{"$f":"UGG4","v":"2062-05-21"},null,null,null,null,null,null,{"$f":"UGN4","v":"2062-05-28"},null,null,null,null,null,null,{"$f":"UGU4","v":"2062-06-04"},null,null,null,null,null,null,{"$f":"UHB4","v":"2062-06-11"},null,null,null,null,null,null,{"$f":"UHI4","v":"2062-06-18"},null,null,null,null,null,null,{"$f":"UHP4","v":"2062-06-25"},null,null,null,null,null,null,{"$f":"UHW4","v":"2062-07-02"},null,null,null,null,null,null,{"$f":"UID4","v":"2062-07-09"},null,null,null,null,null,null,{"$f":"UIK4","v":"2062-07-16"},null,null,null,null,null,null,{"$f":"UIR4","v":"2062-07-23"},null,null,null,null,null,null,{"$f":"UIY4","v":"2062-07-30"},null,null,null,null,null,null,{"$f":"UJF4","v":"2062-08-06"},null,null,null,null,null,null,{"$f":"UJM4","v":"2062-08-13"},null,null,null,null,null,null,{"$f":"UJT4","v":"2062-08-20"},null,null,null,null,null,null,{"$f":"UKA4","v":"2062-08-27"},null,null,null,null,null,null,{"$f":"UKH4","v":"2062-09-03"},null,null,null,null,null,null,{"$f":"UKO4","v":"2062-09-10"},null,null,null,null,null,null,{"$f":"UKV4","v":"2062-09-17"},null,null,null,null,null,null,{"$f":"ULC4","v":"2062-09-24"},null,null,null,null,null,null,{"$f":"ULJ4","v":"2062-10-01"},null,null,null,null,null,null,{"$f":"ULQ4","v":"2062-10-08"},null,null,null,null,null,null,{"$f":"ULX4","v":"2062-10-15"},null,null,null,null,null,null,{"$f":"UME4","v":"2062-10-22"},null,null,null,null,null,null,{"$f":"UML4","v":"2062-10-29"},null,null,null,null,null,null,{"$f":"UMS4","v":"2062-11-05"},null,null,null,null,null,null,{"$f":"UMZ4","v":"2062-11-12"},null,null,null,null,null,null,{"$f":"UNG4","v":"2062-11-19"},null,null,null,null,null,null,{"$f":"UNN4","v":"2062-11-26"},null,null,null,null,null,null,{"$f":"UNU4","v":"2062-12-03"},null,null,null,null,null,null,{"$f":"UOB4","v":"2062-12-10"},null,null,null,null,null,null,{"$f":"UOI4","v":"2062-12-17"},null,null,null,null,null,null,{"$f":"UOP4","v":"2062-12-24"},null,null,null,null,null,null,{"$f":"UOW4","v":"2062-12-31"},null,null,null,null,null,null,{"$f":"UPD4","v":"2063-01-07"},null,null,null,null,null,null,{"$f":"UPK4","v":"2063-01-14"},null,null,null,null,null,null,{"$f":"UPR4","v":"2063-01-21"},null,null,null,null,null,null,{"$f":"UPY4","v":"2063-01-28"},null,null,null,null,null,null,{"$f":"UQF4","v":"2063-02-04"},null,null,null,null,null,null,{"$f":"UQM4","v":"2063-02-11"},null,null,null,null,null,null,{"$f":"UQT4","v":"2063-02-18"},null,null,null,null,null,null,{"$f":"URA4","v":"2063-02-25"},null,null,null,null,null,null,{"$f":"URH4","v":"2063-03-04"},null,null,null,null,null,null,{"$f":"URO4","v":"2063-03-11"},null,null,null,null,null,null,{"$f":"URV4","v":"2063-03-18"},null,null,null,null,null,null,{"$f":"USC4","v":"2063-03-25"},null,null,null,null,null,null,{"$f":"USJ4","v":"2063-04-01"},null,null,null,null,null,null,{"$f":"USQ4","v":"2063-04-08"},null,null,null,null,null,null,{"$f":"USX4","v":"2063-04-15"},null,null,null,null,null,null,{"$f":"UTE4","v":"2063-04-22"},null,null,null,null,null,null,{"$f":"UTL4","v":"2063-04-29"},null,null,null,null,null,null,{"$f":"UTS4","v":"2063-05-06"},null,null,null,null,null,null,{"$f":"UTZ4","v":"2063-05-13"},null,null,null,null,null,null,{"$f":"UUG4","v":"2063-05-20"},null,null,null,null,null,null,{"$f":"UUN4","v":"2063-05-27"},null,null,null,null,null,null,{"$f":"UUU4","v":"2063-06-03"},null,null,null,null,null,null,{"$f":"UVB4","v":"2063-06-10"},null,null,null,null,null,null,{"$f":"UVI4","v":"2063-06-17"},null,null,null,null,null,null,{"$f":"UVP4","v":"2063-06-24"},null,null,null,null,null,null,{"$f":"UVW4","v":"2063-07-01"},null,null,null,null,null,null,{"$f":"UWD4","v":"2063-07-08"},null,null,null,null,null,null,{"$f":"UWK4","v":"2063-07-15"},null,null,null,null,null,null,{"$f":"UWR4","v":"2063-07-22"},null,null,null,null,null,null,{"$f":"UWY4","v":"2063-07-29"},null,null,null,null,null,null,{"$f":"UXF4","v":"2063-08-05"},null,null,null,null,null,null,{"$f":"UXM4","v":"2063-08-12"},null,null,null,null,null,null,{"$f":"UXT4","v":"2063-08-19"},null,null,null,null,null,null,{"$f":"UYA4","v":"2063-08-26"},null,null,null,null,null,null,{"$f":"UYH4","v":"2063-09-02"},null,null,null,null,null,null,{"$f":"UYO4","v":"2063-09-09"},null,null,null,null,null,null,{"$f":"UYV4","v":"2063-09-16"},null,null,null,null,null,null,{"$f":"UZC4","v":"2063-09-23"},null,null,null,null,null,null,{"$f":"UZJ4","v":"2063-09-30"},null,null,null,null,null,null,{"$f":"UZQ4","v":"2063-10-07"},null,null,null,null,null,null,{"$f":"UZX4","v":"2063-10-14"},null,null,null,null,null,null,{"$f":"VAE4","v":"2063-10-21"},null,null,null,null,null,null,{"$f":"VAL4","v":"2063-10-28"},null,null,null,null,null,null,{"$f":"VAS4","v":"2063-11-04"},null,null,null,null,null,null,{"$f":"VAZ4","v":"2063-11-11"},null,null,null,null,null,null,{"$f":"VBG4","v":"2063-11-18"},null,null,null,null,null,null,{"$f":"VBN4","v":"2063-11-25"},null,null,null,null,null,null,{"$f":"VBU4","v":"2063-12-02"},null,null,null,null,null,null,{"$f":"VCB4","v":"2063-12-09"},null,null,null,null,null,null,{"$f":"VCI4","v":"2063-12-16"},null,null,null,null,null,null,{"$f":"VCP4","v":"2063-12-23"},null,null,null,null,null,null,{"$f":"VCW4","v":"2063-12-30"},null,null,null,null,null,null,{"$f":"VDD4","v":"2064-01-06"},null,null,null,null,null,null,{"$f":"VDK4","v":"2064-01-13"},null,null,null,null,null,null,{"$f":"VDR4","v":"2064-01-20"},null,null,null,null,null,null,{"$f":"VDY4","v":"2064-01-27"},null,null,null,null,null,null,{"$f":"VEF4","v":"2064-02-03"},null,null,null,null,null,null,{"$f":"VEM4","v":"2064-02-10"},null,null,null,null,null,null,{"$f":"VET4","v":"2064-02-17"},null,null,null,null,null,null,{"$f":"VFA4","v":"2064-02-24"},null,null,null,null,null,null,{"$f":"VFH4","v":"2064-03-02"},null,null,null,null,null,null,{"$f":"VFO4","v":"2064-03-09"},null,null,null,null,null,null,{"$f":"VFV4","v":"2064-03-16"},null,null,null,null,null,null,{"$f":"VGC4","v":"2064-03-23"},null,null,null,null,null,null,{"$f":"VGJ4","v":"2064-03-30"},null,null,null,null,null,null,{"$f":"VGQ4","v":"2064-04-06"},null,null,null,null,null,null,{"$f":"VGX4","v":"2064-04-13"},null,null,null,null,null,null,{"$f":"VHE4","v":"2064-04-20"},null,null,null,null,null,null,{"$f":"VHL4","v":"2064-04-27"},null,null,null,null,null,null,{"$f":"VHS4","v":"2064-05-04"},null,null,null,null,null,null,{"$f":"VHZ4","v":"2064-05-11"},null,null,null,null,null,null,{"$f":"VIG4","v":"2064-05-18"},null,null,null,null,null,null,{"$f":"VIN4","v":"2064-05-25"},null,null,null,null,null,null,{"$f":"VIU4","v":"2064-06-01"},null,null,null,null,null,null,{"$f":"VJB4","v":"2064-06-08"},null,null,null,null,null,null,{"$f":"VJI4","v":"2064-06-15"},null,null,null,null,null,null,{"$f":"VJP4","v":"2064-06-22"},null,null,null,null,null,null,{"$f":"VJW4","v":"2064-06-29"},null,null,null,null,null,null,{"$f":"VKD4","v":"2064-07-06"},null,null,null,null,null,null,{"$f":"VKK4","v":"2064-07-13"},null,null,null,null,null,null,{"$f":"VKR4","v":"2064-07-20"},null,null,null,null,null,null,{"$f":"VKY4","v":"2064-07-27"},null,null,null,null,null,null,{"$f":"VLF4","v":"2064-08-03"},null,null,null,null,null,null,{"$f":"VLM4","v":"2064-08-10"},null,null,null,null,null,null,{"$f":"VLT4","v":"2064-08-17"},null,null,null,null,null,null,{"$f":"VMA4","v":"2064-08-24"},null,null,null,null,null,null,{"$f":"VMH4","v":"2064-08-31"},null,null,null,null,null,null,{"$f":"VMO4","v":"2064-09-07"},null,null,null,null,null,null,{"$f":"VMV4","v":"2064-09-14"},null,null,null,null,null,null,{"$f":"VNC4","v":"2064-09-21"},null,null,null,null,null,null,{"$f":"VNJ4","v":"2064-09-28"},null,null,null,null,null,null,{"$f":"VNQ4","v":"2064-10-05"},null,null,null,null,null,null,{"$f":"VNX4","v":"2064-10-12"},null,null,null,null,null,null,{"$f":"VOE4","v":"2064-10-19"},null,null,null,null,null,null,{"$f":"VOL4","v":"2064-10-26"},null,null,null,null,null,null,{"$f":"VOS4","v":"2064-11-02"},null,null,null,null,null,null,{"$f":"VOZ4","v":"2064-11-09"},null,null,null,null,null,null,{"$f":"VPG4","v":"2064-11-16"},null,null,null,null,null,null,{"$f":"VPN4","v":"2064-11-23"},null,null,null,null,null,null,{"$f":"VPU4","v":"2064-11-30"},null,null,null,null,null,null,{"$f":"VQB4","v":"2064-12-07"},null,null,null,null,null,null,{"$f":"VQI4","v":"2064-12-14"},null,null,null,null,null,null,{"$f":"VQP4","v":"2064-12-21"},null,null,null,null,null,null,{"$f":"VQW4","v":"2064-12-28"},null,null,null,null,null,null,{"$f":"VRD4","v":"2065-01-04"},null,null,null,null,null,null,{"$f":"VRK4","v":"2065-01-11"},null,null,null,null,null,null,{"$f":"VRR4","v":"2065-01-18"},null,null,null,null,null,null,{"$f":"VRY4","v":"2065-01-25"},null,null,null,null,null,null,{"$f":"VSF4","v":"2065-02-01"},null,null,null,null,null,null,{"$f":"VSM4","v":"2065-02-08"},null,null,null,null,null,null,{"$f":"VST4","v":"2065-02-15"},null,null,null,null,null,null,{"$f":"VTA4","v":"2065-02-22"},null,null,null,null,null,null,{"$f":"VTH4","v":"2065-03-01"},null,null,null,null,null,null,{"$f":"VTO4","v":"2065-03-08"},null,null,null,null,null,null,{"$f":"VTV4","v":"2065-03-15"},null,null,null,null,null,null,{"$f":"VUC4","v":"2065-03-22"},null,null,null,null,null,null,{"$f":"VUJ4","v":"2065-03-29"},null,null,null,null,null,null,{"$f":"VUQ4","v":"2065-04-05"},null,null,null,null,null,null,{"$f":"VUX4","v":"2065-04-12"},null,null,null,null,null,null,{"$f":"VVE4","v":"2065-04-19"},null,null,null,null,null,null,{"$f":"VVL4","v":"2065-04-26"},null,null,null,null,null,null,{"$f":"VVS4","v":"2065-05-03"},null,null,null,null,null,null,{"$f":"VVZ4","v":"2065-05-10"},null,null,null,null,null,null,{"$f":"VWG4","v":"2065-05-17"},null,null,null,null,null,null,{"$f":"VWN4","v":"2065-05-24"},null,null,null,null,null,null,{"$f":"VWU4","v":"2065-05-31"},null,null,null,null,null,null,{"$f":"VXB4","v":"2065-06-07"},null,null,null,null,null,null,{"$f":"VXI4","v":"2065-06-14"},null,null,null,null,null,null,{"$f":"VXP4","v":"2065-06-21"},null,null,null,null,null,null,{"$f":"VXW4","v":"2065-06-28"},null,null,null,null,null,null,{"$f":"VYD4","v":"2065-07-05"},null,null,null,null,null,null,{"$f":"VYK4","v":"2065-07-12"},null,null,null,null,null,null,{"$f":"VYR4","v":"2065-07-19"},null,null,null,null,null,null,{"$f":"VYY4","v":"2065-07-26"},null,null,null,null,null,null,{"$f":"VZF4","v":"2065-08-02"},null,null,null,null,null,null,{"$f":"VZM4","v":"2065-08-09"},null,null,null,null,null,null,{"$f":"VZT4","v":"2065-08-16"},null,null,null,null,null,null,{"$f":"WAA4","v":"2065-08-23"},null,null,null,null,null,null,{"$f":"WAH4","v":"2065-08-30"},null,null,null,null,null,null,{"$f":"WAO4","v":"2065-09-06"},null,null,null,null,null,null,{"$f":"WAV4","v":"2065-09-13"},null,null,null,null,null,null,{"$f":"WBC4","v":"2065-09-20"},null,null,null,null,null,null,{"$f":"WBJ4","v":"2065-09-27"},null,null,null,null,null,null,{"$f":"WBQ4","v":"2065-10-04"},null,null,null,null,null,null,{"$f":"WBX4","v":"2065-10-11"},null,null,null,null,null,null,{"$f":"WCE4","v":"2065-10-18"},null,null,null,null,null,null,{"$f":"WCL4","v":"2065-10-25"},null,null,null,null,null,null,{"$f":"WCS4","v":"2065-11-01"},null,null,null,null,null,null,{"$f":"WCZ4","v":"2065-11-08"},null,null,null,null,null,null,{"$f":"WDG4","v":"2065-11-15"},null,null,null,null,null,null,{"$f":"WDN4","v":"2065-11-22"},null,null,null,null,null,null,{"$f":"WDU4","v":"2065-11-29"},null,null,null,null,null,null,{"$f":"WEB4","v":"2065-12-06"},null,null,null,null,null,null,{"$f":"WEI4","v":"2065-12-13"},null,null,null,null,null,null,{"$f":"WEP4","v":"2065-12-20"},null,null,null,null,null,null,{"$f":"WEW4","v":"2065-12-27"},null,null,null,null,null,null,{"$f":"WFD4","v":"2066-01-03"},null,null,null,null,null,null,{"$f":"WFK4","v":"2066-01-10"},null,null,null,null,null,null,{"$f":"WFR4","v":"2066-01-17"},null,null,null,null,null,null,{"$f":"WFY4","v":"2066-01-24"},null,null,null,null,null,null,{"$f":"WGF4","v":"2066-01-31"},null,null,null,null,null,null,{"$f":"WGM4","v":"2066-02-07"},null,null,null,null,null,null,{"$f":"WGT4","v":"2066-02-14"},null,null,null,null,null,null,{"$f":"WHA4","v":"2066-02-21"},null,null,null,null,null,null,{"$f":"WHH4","v":"2066-02-28"},null,null,null,null,null,null,{"$f":"WHO4","v":"2066-03-07"},null,null,null,null,null,null,{"$f":"WHV4","v":"2066-03-14"},null,null,null,null,null,null,{"$f":"WIC4","v":"2066-03-21"},null,null,null,null,null,null,{"$f":"WIJ4","v":"2066-03-28"},null,null,null,null,null,null,{"$f":"WIQ4","v":"2066-04-04"},null,null,null,null,null,null,{"$f":"WIX4","v":"2066-04-11"},null,null,null,null,null,null,{"$f":"WJE4","v":"2066-04-18"},null,null,null,null,null,null,{"$f":"WJL4","v":"2066-04-25"},null,null,null,null,null,null,{"$f":"WJS4","v":"2066-05-02"},null,null,null,null,null,null,{"$f":"WJZ4","v":"2066-05-09"},null,null,null,null,null,null,{"$f":"WKG4","v":"2066-05-16"},null,null,null,null,null,null,{"$f":"WKN4","v":"2066-05-23"},null,null,null,null,null,null,{"$f":"WKU4","v":"2066-05-30"},null,null,null,null,null,null,{"$f":"WLB4","v":"2066-06-06"},null,null,null,null,null,null,{"$f":"WLI4","v":"2066-06-13"},null,null,null,null,null,null,{"$f":"WLP4","v":"2066-06-20"},null,null,null,null,null,null,{"$f":"WLW4","v":"2066-06-27"},null,null,null,null,null,null,{"$f":"WMD4","v":"2066-07-04"},null,null,null,null,null,null,{"$f":"WMK4","v":"2066-07-11"},null,null,null,null,null,null,{"$f":"WMR4","v":"2066-07-18"},null,null,null,null,null,null,{"$f":"WMY4","v":"2066-07-25"},null,null,null,null,null,null,{"$f":"WNF4","v":"2066-08-01"},null,null,null,null,null,null,{"$f":"WNM4","v":"2066-08-08"},null,null,null,null,null,null,{"$f":"WNT4","v":"2066-08-15"},null,null,null,null,null,null,{"$f":"WOA4","v":"2066-08-22"},null,null,null,null,null,null,{"$f":"WOH4","v":"2066-08-29"},null,null,null,null,null,null,{"$f":"WOO4","v":"2066-09-05"},null,null,null,null,null,null,{"$f":"WOV4","v":"2066-09-12"},null,null,null,null,null,null,{"$f":"WPC4","v":"2066-09-19"},null,null,null,null,null,null,{"$f":"WPJ4","v":"2066-09-26"},null,null,null,null,null,null,{"$f":"WPQ4","v":"2066-10-03"},null,null,null,null,null,null,{"$f":"WPX4","v":"2066-10-10"},null,null,null,null,null,null,{"$f":"WQE4","v":"2066-10-17"},null,null,null,null,null,null,{"$f":"WQL4","v":"2066-10-24"},null,null,null,null,null,null,{"$f":"WQS4","v":"2066-10-31"},null,null,null,null,null,null,{"$f":"WQZ4","v":"2066-11-07"},null,null,null,null,null,null,{"$f":"WRG4","v":"2066-11-14"},null,null,null,null,null,null,{"$f":"WRN4","v":"2066-11-21"},null,null,null,null,null,null,{"$f":"WRU4","v":"2066-11-28"},null,null,null,null,null,null,{"$f":"WSB4","v":"2066-12-05"},null,null,null,null,null,null,{"$f":"WSI4","v":"2066-12-12"},null,null,null,null,null,null,{"$f":"WSP4","v":"2066-12-19"},null,null,null,null,null,null,{"$f":"WSW4","v":"2066-12-26"},null,null,null,null,null,null,{"$f":"WTD4","v":"2067-01-02"},null,null,null,null,null,null,{"$f":"WTK4","v":"2067-01-09"},null,null,null,null,null,null,{"$f":"WTR4","v":"2067-01-16"},null,null,null,null,null,null,{"$f":"WTY4","v":"2067-01-23"},null,null,null,null,null,null,{"$f":"WUF4","v":"2067-01-30"},null,null,null,null,null,null,{"$f":"WUM4","v":"2067-02-06"},null,null,null,null,null,null,{"$f":"WUT4","v":"2067-02-13"},null,null,null,null,null,null,{"$f":"WVA4","v":"2067-02-20"},null,null,null,null,null,null,{"$f":"WVH4","v":"2067-02-27"},null,null,null,null,null,null,{"$f":"WVO4","v":"2067-03-06"},null,null,null,null,null,null,{"$f":"WVV4","v":"2067-03-13"},null,null,null,null,null,null,{"$f":"WWC4","v":"2067-03-20"},null,null,null,null,null,null,{"$f":"WWJ4","v":"2067-03-27"},null,null,null,null,null,null,{"$f":"WWQ4","v":"2067-04-03"},null,null,null,null,null,null,{"$f":"WWX4","v":"2067-04-10"},null,null,null,null,null,null,{"$f":"WXE4","v":"2067-04-17"},null,null,null,null,null,null,{"$f":"WXL4","v":"2067-04-24"},null,null,null,null,null,null,{"$f":"WXS4","v":"2067-05-01"},null,null,null,null,null,null,{"$f":"WXZ4","v":"2067-05-08"},null,null,null,null,null,null,{"$f":"WYG4","v":"2067-05-15"},null,null,null,null,null,null,{"$f":"WYN4","v":"2067-05-22"},null,null,null,null,null,null,{"$f":"WYU4","v":"2067-05-29"},null,null,null,null,null,null,{"$f":"WZB4","v":"2067-06-05"},null,null,null,null,null,null,{"$f":"WZI4","v":"2067-06-12"},null,null,null,null,null,null,{"$f":"WZP4","v":"2067-06-19"},null,null,null,null,null,null,{"$f":"WZW4","v":"2067-06-26"},null,null,null,null,null,null,{"$f":"XAD4","v":"2067-07-03"},null,null,null,null,null,null,{"$f":"XAK4","v":"2067-07-10"},null,null,null,null,null,null,{"$f":"XAR4","v":"2067-07-17"},null,null,null,null,null,null,{"$f":"XAY4","v":"2067-07-24"},null,null,null,null,null,null,{"$f":"XBF4","v":"2067-07-31"},null,null,null,null,null,null,{"$f":"XBM4","v":"2067-08-07"},null,null,null,null,null,null,{"$f":"XBT4","v":"2067-08-14"},null,null,null,null,null,null,{"$f":"XCA4","v":"2067-08-21"},null,null,null,null,null,null,{"$f":"XCH4","v":"2067-08-28"},null,null,null,null,null,null,{"$f":"XCO4","v":"2067-09-04"},null,null,null,null,null,null,{"$f":"XCV4","v":"2067-09-11"},null,null,null,null,null,null,{"$f":"XDC4","v":"2067-09-18"},null,null,null,null,null,null,{"$f":"XDJ4","v":"2067-09-25"},null,null,null,null,null,null,{"$f":"XDQ4","v":"2067-10-02"},null,null,null,null,null,null,{"$f":"XDX4","v":"2067-10-09"},null,null,null,null,null,null,{"$f":"XEE4","v":"2067-10-16"},null,null,null,null,null,null,{"$f":"XEL4","v":"2067-10-23"},null,null,null,null,null,null,{"$f":"XES4","v":"2067-10-30"},null,null,null,null,null,null,{"$f":"XEZ4","v":"2067-11-06"}]
["Category","Task","Responsible","Completion Status","Comments","Number of Dependancies","Number of Dependants","Latest completion of dependancy activities","Dependany dates status",null,null,null,null,null,null,"gantt start date","gantt end date","Start date","Calculated duration","Target/ Finish Date","Duration\n(in days)","2023-01-23",{"$f":"V4+1","v":"2023-01-24"},{"$f":"W4+1","v":"2023-01-25"},"2023-01-26","2023-01-27","2023-01-28","2023-01-29","2023-01-30","2023-01-31","2023-02-01","2023-02-02","2023-02-03","2023-02-04","2023-02-05","2023-02-06","2023-02-07","2023-02-08","2023-02-09","2023-02-10","2023-02-11","2023-02-12","2023-02-13","2023-02-14","2023-02-15","2023-02-16","2023-02-17","2023-02-18","2023-02-19","2023-02-20","2023-02-21","2023-02-22","2023-02-23","2023-02-24","2023-02-25","2023-02-26","2023-02-27","2023-02-28","2023-03-01","2023-03-02","2023-03-03","2023-03-04","2023-03-05","2023-03-06","2023-03-07","2023-03-08","2023-03-09","2023-03-10","2023-03-11","2023-03-12","2023-03-13","2023-03-14","2023-03-15","2023-03-16","2023-03-17","2023-03-18","2023-03-19","2023-03-20","2023-03-21","2023-03-22","2023-03-23","2023-03-24","2023-03-25","2023-03-26",{"$f":"CF4+1","v":"2023-03-27"},"2023-03-28","2023-03-29",{"$f":"CI4+1","v":"2023-03-30"},"2023-03-31","2023-04-01","2023-04-02","2023-04-03","2023-04-04","2023-04-05","2023-04-06","2023-04-07","2023-04-08","2023-04-09","2023-04-10","2023-04-11","2023-04-12","2023-04-13","2023-04-14","2023-04-15","2023-04-16","2023-04-17","2023-04-18","2023-04-19","2023-04-20","2023-04-21","2023-04-22","2023-04-23","2023-04-24","2023-04-25","2023-04-26","2023-04-27","2023-04-28","2023-04-29","2023-04-30","2023-05-01","2023-05-02","2023-05-03","2023-05-04","2023-05-05","2023-05-06","2023-05-07","2023-05-08","2023-05-09","2023-05-10","2023-05-11","2023-05-12","2023-05-13","2023-05-14","2023-05-15","2023-05-16","2023-05-17","2023-05-18","2023-05-19","2023-05-20","2023-05-21","2023-05-22","2023-05-23","2023-05-24","2023-05-25","2023-05-26","2023-05-27","2023-05-28","2023-05-29","2023-05-30","2023-05-31","2023-06-01",{"$f":"EU4+1","v":"2023-06-02"},"2023-06-03","2023-06-04","2023-06-05","2023-06-06","2023-06-07","2023-06-08","2023-06-09","2023-06-10","2023-06-11","2023-06-12","2023-06-13","2023-06-14","2023-06-15","2023-06-16","2023-06-17","2023-06-18","2023-06-19","2023-06-20","2023-06-21","2023-06-22","2023-06-23","2023-06-24","2023-06-25","2023-06-26","2023-06-27","2023-06-28","2023-06-29","2023-06-30","2023-07-01","2023-07-02","2023-07-03","2023-07-04","2023-07-05","2023-07-06","2023-07-07","2023-07-08","2023-07-09","2023-07-10","2023-07-11","2023-07-12","2023-07-13","2023-07-14","2023-07-15","2023-07-16","2023-07-17","2023-07-18","2023-07-19","2023-07-20","2023-07-21","2023-07-22","2023-07-23","2023-07-24","2023-07-25","2023-07-26","2023-07-27","2023-07-28","2023-07-29","2023-07-30","2023-07-31","2023-08-01","2023-08-02","2023-08-03","2023-08-04",{"$f":"HG4+1","v":"2023-08-05"},"2023-08-06","2023-08-07","2023-08-08","2023-08-09","2023-08-10","2023-08-11","2023-08-12","2023-08-13","2023-08-14","2023-08-15","2023-08-16","2023-08-17","2023-08-18","2023-08-19","2023-08-20","2023-08-21","2023-08-22","2023-08-23","2023-08-24","2023-08-25","2023-08-26","2023-08-27","2023-08-28","2023-08-29","2023-08-30","2023-08-31","2023-09-01","2023-09-02","2023-09-03","2023-09-04","2023-09-05","2023-09-06","2023-09-07","2023-09-08","2023-09-09","2023-09-10","2023-09-11","2023-09-12","2023-09-13","2023-09-14","2023-09-15","2023-09-16","2023-09-17","2023-09-18","2023-09-19","2023-09-20","2023-09-21","2023-09-22","2023-09-23","2023-09-24","2023-09-25","2023-09-26","2023-09-27","2023-09-28","2023-09-29","2023-09-30","2023-10-01","2023-10-02","2023-10-03","2023-10-04","2023-10-05","2023-10-06","2023-10-07",{"$f":"JS4+1","v":"2023-10-08"},"2023-10-09","2023-10-10","2023-10-11","2023-10-12","2023-10-13","2023-10-14","2023-10-15","2023-10-16","2023-10-17","2023-10-18","2023-10-19","2023-10-20","2023-10-21","2023-10-22","2023-10-23","2023-10-24","2023-10-25","2023-10-26","2023-10-27","2023-10-28","2023-10-29","2023-10-30","2023-10-31","2023-11-01","2023-11-02","2023-11-03","2023-11-04","2023-11-05","2023-11-06","2023-11-07","2023-11-08","2023-11-09","2023-11-10","2023-11-11","2023-11-12","2023-11-13","2023-11-14","2023-11-15","2023-11-16","2023-11-17","2023-11-18","2023-11-19","2023-11-20","2023-11-21","2023-11-22","2023-11-23","2023-11-24","2023-11-25","2023-11-26","2023-11-27","2023-11-28","2023-11-29","2023-11-30","2023-12-01","2023-12-02","2023-12-03","2023-12-04","2023-12-05","2023-12-06","2023-12-07","2023-12-08","2023-12-09","2023-12-10",{"$f":"ME4+1","v":"2023-12-11"},"2023-12-12","2023-12-13","2023-12-14","2023-12-15","2023-12-16","2023-12-17","2023-12-18","2023-12-19","2023-12-20","2023-12-21","2023-12-22","2023-12-23","2023-12-24","2023-12-25","2023-12-26","2023-12-27","2023-12-28","2023-12-29","2023-12-30","2023-12-31","2024-01-01","2024-01-02","2024-01-03","2024-01-04","2024-01-05","2024-01-06","2024-01-07","2024-01-08","2024-01-09","2024-01-10","2024-01-11","2024-01-12","2024-01-13","2024-01-14","2024-01-15","2024-01-16","2024-01-17","2024-01-18","2024-01-19","2024-01-20","2024-01-21","2024-01-22","2024-01-23","2024-01-24","2024-01-25","2024-01-26","2024-01-27","2024-01-28","2024-01-29","2024-01-30","2024-01-31","2024-02-01","2024-02-02","2024-02-03","2024-02-04","2024-02-05","2024-02-06","2024-02-07","2024-02-08","2024-02-09","2024-02-10","2024-02-11","2024-02-12",{"$f":"OQ4+1","v":"2024-02-13"},"2024-02-14","2024-02-15","2024-02-16","2024-02-17","2024-02-18","2024-02-19","2024-02-20","2024-02-21","2024-02-22","2024-02-23","2024-02-24","2024-02-25","2024-02-26","2024-02-27","2024-02-28","2024-02-29","2024-03-01","2024-03-02","2024-03-03","2024-03-04","2024-03-05","2024-03-06","2024-03-07","2024-03-08","2024-03-09","2024-03-10","2024-03-11","2024-03-12","2024-03-13","2024-03-14","2024-03-15","2024-03-16","2024-03-17","2024-03-18","2024-03-19","2024-03-20","2024-03-21","2024-03-22","2024-03-23","2024-03-24","2024-03-25","2024-03-26","2024-03-27","2024-03-28","2024-03-29","2024-03-30","2024-03-31","2024-04-01","2024-04-02","2024-04-03","2024-04-04","2024-04-05","2024-04-06","2024-04-07","2024-04-08","2024-04-09","2024-04-10","2024-04-11","2024-04-12","2024-04-13","2024-04-14","2024-04-15","2024-04-16",{"$f":"RC4+1","v":"2024-04-17"},"2024-04-18","2024-04-19","2024-04-20","2024-04-21","2024-04-22","2024-04-23","2024-04-24","2024-04-25","2024-04-26","2024-04-27","2024-04-28","2024-04-29","2024-04-30","2024-05-01","2024-05-02","2024-05-03","2024-05-04","2024-05-05","2024-05-06","2024-05-07","2024-05-08","2024-05-09","2024-05-10","2024-05-11","2024-05-12","2024-05-13","2024-05-14","2024-05-15","2024-05-16","2024-05-17","2024-05-18","2024-05-19","2024-05-20","2024-05-21","2024-05-22","2024-05-23","2024-05-24","2024-05-25","2024-05-26","2024-05-27","2024-05-28","2024-05-29","2024-05-30","2024-05-31","2024-06-01","2024-06-02","2024-06-03","2024-06-04","2024-06-05","2024-06-06","2024-06-07","2024-06-08","2024-06-09","2024-06-10","2024-06-11","2024-06-12","2024-06-13","2024-06-14","2024-06-15","2024-06-16","2024-06-17","2024-06-18","2024-06-19",{"$f":"TO4+1","v":"2024-06-20"},"2024-06-21","2024-06-22","2024-06-23","2024-06-24","2024-06-25","2024-06-26","2024-06-27","2024-06-28","2024-06-29","2024-06-30","2024-07-01","2024-07-02","2024-07-03","2024-07-04","2024-07-05","2024-07-06","2024-07-07","2024-07-08","2024-07-09","2024-07-10","2024-07-11","2024-07-12","2024-07-13","2024-07-14","2024-07-15","2024-07-16","2024-07-17","2024-07-18","2024-07-19","2024-07-20","2024-07-21","2024-07-22","2024-07-23","2024-07-24","2024-07-25","2024-07-26","2024-07-27","2024-07-28","2024-07-29","2024-07-30","2024-07-31","2024-08-01","2024-08-02","2024-08-03","2024-08-04","2024-08-05","2024-08-06","2024-08-07","2024-08-08","2024-08-09","2024-08-10","2024-08-11","2024-08-12","2024-08-13","2024-08-14","2024-08-15","2024-08-16","2024-08-17","2024-08-18","2024-08-19","2024-08-20","2024-08-21","2024-08-22",{"$f":"WA4+1","v":"2024-08-23"},"2024-08-24","2024-08-25","2024-08-26","2024-08-27","2024-08-28","2024-08-29","2024-08-30","2024-08-31","2024-09-01","2024-09-02","2024-09-03","2024-09-04","2024-09-05","2024-09-06","2024-09-07","2024-09-08","2024-09-09","2024-09-10","2024-09-11","2024-09-12","2024-09-13","2024-09-14","2024-09-15","2024-09-16","2024-09-17","2024-09-18","2024-09-19","2024-09-20","2024-09-21","2024-09-22","2024-09-23","2024-09-24","2024-09-25","2024-09-26","2024-09-27","2024-09-28","2024-09-29","2024-09-30","2024-10-01","2024-10-02","2024-10-03","2024-10-04","2024-10-05","2024-10-06","2024-10-07","2024-10-08","2024-10-09","2024-10-10","2024-10-11","2024-10-12","2024-10-13","2024-10-14","2024-10-15","2024-10-16","2024-10-17","2024-10-18","2024-10-19","2024-10-20","2024-10-21","2024-10-22","2024-10-23","2024-10-24","2024-10-25",{"$f":"YM4+1","v":"2024-10-26"},"2024-10-27","2024-10-28","2024-10-29","2024-10-30","2024-10-31","2024-11-01","2024-11-02","2024-11-03","2024-11-04","2024-11-05","2024-11-06","2024-11-07","2024-11-08","2024-11-09","2024-11-10","2024-11-11","2024-11-12","2024-11-13","2024-11-14","2024-11-15","2024-11-16","2024-11-17","2024-11-18","2024-11-19","2024-11-20","2024-11-21","2024-11-22","2024-11-23","2024-11-24","2024-11-25","2024-11-26","2024-11-27","2024-11-28","2024-11-29","2024-11-30","2024-12-01","2024-12-02","2024-12-03","2024-12-04","2024-12-05","2024-12-06","2024-12-07","2024-12-08","2024-12-09","2024-12-10","2024-12-11","2024-12-12","2024-12-13","2024-12-14","2024-12-15","2024-12-16","2024-12-17","2024-12-18","2024-12-19","2024-12-20","2024-12-21","2024-12-22","2024-12-23","2024-12-24","2024-12-25","2024-12-26","2024-12-27","2024-12-28",{"$f":"AAY4+1","v":"2024-12-29"},"2024-12-30","2024-12-31","2025-01-01","2025-01-02","2025-01-03","2025-01-04","2025-01-05","2025-01-06","2025-01-07","2025-01-08","2025-01-09","2025-01-10","2025-01-11","2025-01-12","2025-01-13","2025-01-14","2025-01-15","2025-01-16","2025-01-17","2025-01-18","2025-01-19","2025-01-20","2025-01-21","2025-01-22","2025-01-23","2025-01-24","2025-01-25","2025-01-26","2025-01-27","2025-01-28","2025-01-29","2025-01-30","2025-01-31","2025-02-01","2025-02-02","2025-02-03","2025-02-04","2025-02-05","2025-02-06","2025-02-07","2025-02-08","2025-02-09","2025-02-10","2025-02-11","2025-02-12","2025-02-13","2025-02-14","2025-02-15","2025-02-16","2025-02-17","2025-02-18","2025-02-19","2025-02-20","2025-02-21","2025-02-22","2025-02-23","2025-02-24","2025-02-25","2025-02-26","2025-02-27","2025-02-28","2025-03-01","2025-03-02",{"$f":"ADK4+1","v":"2025-03-03"},"2025-03-04","2025-03-05","2025-03-06","2025-03-07","2025-03-08","2025-03-09","2025-03-10","2025-03-11","2025-03-12","2025-03-13","2025-03-14","2025-03-15","2025-03-16","2025-03-17","2025-03-18","2025-03-19","2025-03-20","2025-03-21","2025-03-22","2025-03-23","2025-03-24","2025-03-25","2025-03-26","2025-03-27","2025-03-28","2025-03-29","2025-03-30","2025-03-31","2025-04-01","2025-04-02","2025-04-03","2025-04-04","2025-04-05","2025-04-06","2025-04-07","2025-04-08","2025-04-09","2025-04-10","2025-04-11","2025-04-12","2025-04-13","2025-04-14","2025-04-15","2025-04-16","2025-04-17","2025-04-18","2025-04-19","2025-04-20","2025-04-21","2025-04-22","2025-04-23","2025-04-24","2025-04-25","2025-04-26","2025-04-27","2025-04-28","2025-04-29","2025-04-30","2025-05-01","2025-05-02","2025-05-03","2025-05-04","2025-05-05",{"$f":"AFW4+1","v":"2025-05-06"},"2025-05-07","2025-05-08","2025-05-09","2025-05-10","2025-05-11","2025-05-12","2025-05-13","2025-05-14","2025-05-15","2025-05-16","2025-05-17","2025-05-18","2025-05-19","2025-05-20","2025-05-21","2025-05-22","2025-05-23","2025-05-24","2025-05-25","2025-05-26","2025-05-27","2025-05-28","2025-05-29","2025-05-30","2025-05-31","2025-06-01","2025-06-02","2025-06-03","2025-06-04","2025-06-05","2025-06-06","2025-06-07","2025-06-08","2025-06-09","2025-06-10","2025-06-11","2025-06-12","2025-06-13","2025-06-14","2025-06-15","2025-06-16","2025-06-17","2025-06-18","2025-06-19","2025-06-20","2025-06-21","2025-06-22","2025-06-23","2025-06-24","2025-06-25","2025-06-26","2025-06-27","2025-06-28","2025-06-29","2025-06-30","2025-07-01","2025-07-02","2025-07-03","2025-07-04","2025-07-05","2025-07-06","2025-07-07","2025-07-08",{"$f":"AII4+1","v":"2025-07-09"},"2025-07-10","2025-07-11","2025-07-12","2025-07-13","2025-07-14","2025-07-15","2025-07-16","2025-07-17","2025-07-18","2025-07-19","2025-07-20","2025-07-21","2025-07-22","2025-07-23","2025-07-24","2025-07-25","2025-07-26","2025-07-27","2025-07-28","2025-07-29","2025-07-30","2025-07-31","2025-08-01","2025-08-02","2025-08-03","2025-08-04","2025-08-05","2025-08-06","2025-08-07","2025-08-08","2025-08-09","2025-08-10","2025-08-11","2025-08-12","2025-08-13","2025-08-14","2025-08-15","2025-08-16","2025-08-17","2025-08-18","2025-08-19","2025-08-20","2025-08-21","2025-08-22","2025-08-23","2025-08-24","2025-08-25","2025-08-26","2025-08-27","2025-08-28","2025-08-29","2025-08-30","2025-08-31","2025-09-01","2025-09-02","2025-09-03","2025-09-04","2025-09-05","2025-09-06","2025-09-07","2025-09-08","2025-09-09","2025-09-10",{"$f":"AKU4+1","v":"2025-09-11"},"2025-09-12","2025-09-13","2025-09-14","2025-09-15","2025-09-16","2025-09-17","2025-09-18","2025-09-19","2025-09-20","2025-09-21","2025-09-22","2025-09-23","2025-09-24","2025-09-25","2025-09-26","2025-09-27","2025-09-28","2025-09-29","2025-09-30","2025-10-01","2025-10-02","2025-10-03","2025-10-04","2025-10-05","2025-10-06","2025-10-07","2025-10-08","2025-10-09","2025-10-10","2025-10-11","2025-10-12","2025-10-13","2025-10-14","2025-10-15","2025-10-16","2025-10-17","2025-10-18","2025-10-19","2025-10-20","2025-10-21","2025-10-22","2025-10-23","2025-10-24","2025-10-25","2025-10-26","2025-10-27","2025-10-28","2025-10-29","2025-10-30","2025-10-31","2025-11-01","2025-11-02","2025-11-03","2025-11-04","2025-11-05","2025-11-06","2025-11-07","2025-11-08","2025-11-09","2025-11-10","2025-11-11","2025-11-12","2025-11-13",{"$f":"ANG4+1","v":"2025-11-14"},"2025-11-15","2025-11-16","2025-11-17","2025-11-18","2025-11-19","2025-11-20","2025-11-21","2025-11-22","2025-11-23","2025-11-24","2025-11-25","2025-11-26","2025-11-27","2025-11-28","2025-11-29","2025-11-30","2025-12-01","2025-12-02","2025-12-03","2025-12-04","2025-12-05","2025-12-06","2025-12-07","2025-12-08","2025-12-09","2025-12-10","2025-12-11","2025-12-12","2025-12-13","2025-12-14","2025-12-15","2025-12-16","2025-12-17","2025-12-18","2025-12-19","2025-12-20","2025-12-21","2025-12-22","2025-12-23","2025-12-24","2025-12-25","2025-12-26","2025-12-27","2025-12-28","2025-12-29","2025-12-30","2025-12-31","2026-01-01","2026-01-02","2026-01-03","2026-01-04","2026-01-05","2026-01-06","2026-01-07","2026-01-08","2026-01-09","2026-01-10","2026-01-11","2026-01-12","2026-01-13","2026-01-14","2026-01-15","2026-01-16",{"$f":"APS4+1","v":"2026-01-17"},"2026-01-18","2026-01-19","2026-01-20","2026-01-21","2026-01-22","2026-01-23","2026-01-24","2026-01-25","2026-01-26","2026-01-27","2026-01-28","2026-01-29","2026-01-30","2026-01-31","2026-02-01","2026-02-02","2026-02-03","2026-02-04","2026-02-05","2026-02-06","2026-02-07","2026-02-08","2026-02-09","2026-02-10","2026-02-11","2026-02-12","2026-02-13","2026-02-14","2026-02-15","2026-02-16","2026-02-17","2026-02-18","2026-02-19","2026-02-20","2026-02-21","2026-02-22","2026-02-23","2026-02-24","2026-02-25","2026-02-26","2026-02-27","2026-02-28","2026-03-01","2026-03-02","2026-03-03","2026-03-04","2026-03-05","2026-03-06","2026-03-07","2026-03-08","2026-03-09","2026-03-10","2026-03-11","2026-03-12","2026-03-13","2026-03-14","2026-03-15","2026-03-16","2026-03-17","2026-03-18","2026-03-19","2026-03-20","2026-03-21",{"$f":"ASE4+1","v":"2026-03-22"},"2026-03-23","2026-03-24","2026-03-25","2026-03-26","2026-03-27","2026-03-28","2026-03-29","2026-03-30","2026-03-31","2026-04-01","2026-04-02","2026-04-03","2026-04-04","2026-04-05","2026-04-06","2026-04-07","2026-04-08","2026-04-09","2026-04-10","2026-04-11","2026-04-12","2026-04-13","2026-04-14","2026-04-15","2026-04-16","2026-04-17","2026-04-18","2026-04-19","2026-04-20","2026-04-21","2026-04-22","2026-04-23","2026-04-24","2026-04-25","2026-04-26","2026-04-27","2026-04-28","2026-04-29","2026-04-30","2026-05-01","2026-05-02","2026-05-03","2026-05-04","2026-05-05","2026-05-06","2026-05-07","2026-05-08","2026-05-09","2026-05-10","2026-05-11","2026-05-12","2026-05-13","2026-05-14","2026-05-15","2026-05-16","2026-05-17","2026-05-18","2026-05-19","2026-05-20","2026-05-21","2026-05-22","2026-05-23","2026-05-24",{"$f":"AUQ4+1","v":"2026-05-25"},"2026-05-26","2026-05-27","2026-05-28","2026-05-29","2026-05-30","2026-05-31","2026-06-01","2026-06-02","2026-06-03","2026-06-04","2026-06-05","2026-06-06","2026-06-07","2026-06-08","2026-06-09","2026-06-10","2026-06-11","2026-06-12","2026-06-13","2026-06-14","2026-06-15","2026-06-16","2026-06-17","2026-06-18","2026-06-19","2026-06-20","2026-06-21","2026-06-22","2026-06-23","2026-06-24","2026-06-25","2026-06-26","2026-06-27","2026-06-28","2026-06-29","2026-06-30","2026-07-01","2026-07-02","2026-07-03","2026-07-04","2026-07-05","2026-07-06","2026-07-07","2026-07-08","2026-07-09","2026-07-10","2026-07-11","2026-07-12","2026-07-13","2026-07-14","2026-07-15","2026-07-16","2026-07-17","2026-07-18","2026-07-19","2026-07-20","2026-07-21","2026-07-22","2026-07-23","2026-07-24","2026-07-25","2026-07-26","2026-07-27",{"$f":"AXC4+1","v":"2026-07-28"},"2026-07-29","2026-07-30","2026-07-31","2026-08-01","2026-08-02","2026-08-03","2026-08-04","2026-08-05","2026-08-06","2026-08-07","2026-08-08","2026-08-09","2026-08-10","2026-08-11","2026-08-12","2026-08-13","2026-08-14","2026-08-15","2026-08-16","2026-08-17","2026-08-18","2026-08-19","2026-08-20","2026-08-21","2026-08-22","2026-08-23","2026-08-24","2026-08-25","2026-08-26","2026-08-27","2026-08-28","2026-08-29","2026-08-30","2026-08-31","2026-09-01","2026-09-02","2026-09-03","2026-09-04","2026-09-05","2026-09-06","2026-09-07","2026-09-08","2026-09-09","2026-09-10","2026-09-11","2026-09-12","2026-09-13","2026-09-14","2026-09-15","2026-09-16","2026-09-17","2026-09-18","2026-09-19","2026-09-20","2026-09-21","2026-09-22","2026-09-23","2026-09-24","2026-09-25","2026-09-26","2026-09-27","2026-09-28","2026-09-29",{"$f":"AZO4+1","v":"2026-09-30"},"2026-10-01","2026-10-02","2026-10-03","2026-10-04","2026-10-05","2026-10-06","2026-10-07","2026-10-08","2026-10-09","2026-10-10","2026-10-11","2026-10-12","2026-10-13","2026-10-14","2026-10-15","2026-10-16","2026-10-17","2026-10-18","2026-10-19","2026-10-20","2026-10-21","2026-10-22","2026-10-23","2026-10-24","2026-10-25","2026-10-26","2026-10-27","2026-10-28","2026-10-29","2026-10-30","2026-10-31","2026-11-01","2026-11-02","2026-11-03","2026-11-04","2026-11-05","2026-11-06","2026-11-07","2026-11-08","2026-11-09","2026-11-10","2026-11-11","2026-11-12","2026-11-13","2026-11-14","2026-11-15","2026-11-16","2026-11-17","2026-11-18","2026-11-19","2026-11-20","2026-11-21","2026-11-22","2026-11-23","2026-11-24","2026-11-25","2026-11-26","2026-11-27","2026-11-28","2026-11-29","2026-11-30","2026-12-01","2026-12-02",{"$f":"BCA4+1","v":"2026-12-03"},"2026-12-04","2026-12-05","2026-12-06","2026-12-07","2026-12-08","2026-12-09","2026-12-10","2026-12-11","2026-12-12","2026-12-13","2026-12-14","2026-12-15","2026-12-16","2026-12-17","2026-12-18","2026-12-19","2026-12-20","2026-12-21","2026-12-22","2026-12-23","2026-12-24","2026-12-25","2026-12-26","2026-12-27","2026-12-28","2026-12-29","2026-12-30","2026-12-31","2027-01-01","2027-01-02","2027-01-03","2027-01-04","2027-01-05","2027-01-06","2027-01-07","2027-01-08","2027-01-09","2027-01-10","2027-01-11","2027-01-12","2027-01-13","2027-01-14","2027-01-15","2027-01-16","2027-01-17","2027-01-18","2027-01-19","2027-01-20","2027-01-21","2027-01-22","2027-01-23","2027-01-24","2027-01-25","2027-01-26","2027-01-27","2027-01-28","2027-01-29","2027-01-30","2027-01-31","2027-02-01","2027-02-02","2027-02-03","2027-02-04",{"$f":"BEM4+1","v":"2027-02-05"},"2027-02-06","2027-02-07","2027-02-08","2027-02-09","2027-02-10","2027-02-11","2027-02-12","2027-02-13","2027-02-14","2027-02-15","2027-02-16","2027-02-17","2027-02-18","2027-02-19","2027-02-20","2027-02-21","2027-02-22","2027-02-23","2027-02-24","2027-02-25","2027-02-26","2027-02-27","2027-02-28","2027-03-01","2027-03-02","2027-03-03","2027-03-04","2027-03-05","2027-03-06","2027-03-07","2027-03-08","2027-03-09","2027-03-10","2027-03-11","2027-03-12","2027-03-13","2027-03-14","2027-03-15","2027-03-16","2027-03-17","2027-03-18","2027-03-19","2027-03-20","2027-03-21","2027-03-22","2027-03-23","2027-03-24","2027-03-25","2027-03-26","2027-03-27","2027-03-28","2027-03-29","2027-03-30","2027-03-31","2027-04-01","2027-04-02","2027-04-03","2027-04-04","2027-04-05","2027-04-06","2027-04-07","2027-04-08","2027-04-09",{"$f":"BGY4+1","v":"2027-04-10"},"2027-04-11","2027-04-12","2027-04-13","2027-04-14","2027-04-15","2027-04-16","2027-04-17","2027-04-18","2027-04-19","2027-04-20","2027-04-21","2027-04-22","2027-04-23","2027-04-24","2027-04-25","2027-04-26","2027-04-27","2027-04-28","2027-04-29","2027-04-30","2027-05-01","2027-05-02","2027-05-03","2027-05-04","2027-05-05","2027-05-06","2027-05-07","2027-05-08","2027-05-09","2027-05-10","2027-05-11","2027-05-12","2027-05-13","2027-05-14","2027-05-15","2027-05-16","2027-05-17","2027-05-18","2027-05-19","2027-05-20","2027-05-21","2027-05-22","2027-05-23","2027-05-24","2027-05-25","2027-05-26","2027-05-27","2027-05-28","2027-05-29","2027-05-30","2027-05-31","2027-06-01","2027-06-02","2027-06-03","2027-06-04","2027-06-05","2027-06-06","2027-06-07","2027-06-08","2027-06-09","2027-06-10","2027-06-11","2027-06-12",{"$f":"BJK4+1","v":"2027-06-13"},"2027-06-14","2027-06-15","2027-06-16","2027-06-17","2027-06-18","2027-06-19","2027-06-20","2027-06-21","2027-06-22","2027-06-23","2027-06-24","2027-06-25","2027-06-26","2027-06-27","2027-06-28","2027-06-29","2027-06-30","2027-07-01","2027-07-02","2027-07-03","2027-07-04","2027-07-05","2027-07-06","2027-07-07","2027-07-08","2027-07-09","2027-07-10","2027-07-11","2027-07-12","2027-07-13","2027-07-14","2027-07-15","2027-07-16","2027-07-17","2027-07-18","2027-07-19","2027-07-20","2027-07-21","2027-07-22","2027-07-23","2027-07-24","2027-07-25","2027-07-26","2027-07-27","2027-07-28","2027-07-29","2027-07-30","2027-07-31","2027-08-01","2027-08-02","2027-08-03","2027-08-04","2027-08-05","2027-08-06","2027-08-07","2027-08-08","2027-08-09","2027-08-10","2027-08-11","2027-08-12","2027-08-13","2027-08-14","2027-08-15",{"$f":"BLW4+1","v":"2027-08-16"},"2027-08-17","2027-08-18","2027-08-19","2027-08-20","2027-08-21","2027-08-22","2027-08-23","2027-08-24","2027-08-25","2027-08-26","2027-08-27","2027-08-28","2027-08-29","2027-08-30","2027-08-31","2027-09-01","2027-09-02","2027-09-03","2027-09-04","2027-09-05","2027-09-06","2027-09-07","2027-09-08","2027-09-09","2027-09-10","2027-09-11","2027-09-12","2027-09-13","2027-09-14","2027-09-15","2027-09-16","2027-09-17","2027-09-18","2027-09-19","2027-09-20","2027-09-21","2027-09-22","2027-09-23","2027-09-24","2027-09-25","2027-09-26","2027-09-27","2027-09-28","2027-09-29","2027-09-30","2027-10-01","2027-10-02","2027-10-03","2027-10-04","2027-10-05","2027-10-06","2027-10-07","2027-10-08","2027-10-09","2027-10-10","2027-10-11","2027-10-12","2027-10-13","2027-10-14","2027-10-15","2027-10-16","2027-10-17","2027-10-18",{"$f":"BOI4+1","v":"2027-10-19"},"2027-10-20","2027-10-21","2027-10-22","2027-10-23","2027-10-24","2027-10-25","2027-10-26","2027-10-27","2027-10-28","2027-10-29","2027-10-30","2027-10-31","2027-11-01","2027-11-02","2027-11-03","2027-11-04","2027-11-05","2027-11-06","2027-11-07","2027-11-08","2027-11-09","2027-11-10","2027-11-11","2027-11-12","2027-11-13","2027-11-14","2027-11-15","2027-11-16","2027-11-17","2027-11-18","2027-11-19","2027-11-20","2027-11-21","2027-11-22","2027-11-23","2027-11-24","2027-11-25","2027-11-26","2027-11-27","2027-11-28","2027-11-29","2027-11-30","2027-12-01","2027-12-02","2027-12-03","2027-12-04","2027-12-05","2027-12-06","2027-12-07","2027-12-08","2027-12-09","2027-12-10","2027-12-11","2027-12-12","2027-12-13","2027-12-14","2027-12-15","2027-12-16","2027-12-17","2027-12-18","2027-12-19","2027-12-20","2027-12-21",{"$f":"BQU4+1","v":"2027-12-22"},"2027-12-23","2027-12-24","2027-12-25","2027-12-26","2027-12-27","2027-12-28","2027-12-29","2027-12-30","2027-12-31","2028-01-01","2028-01-02","2028-01-03","2028-01-04","2028-01-05","2028-01-06","2028-01-07","2028-01-08","2028-01-09","2028-01-10","2028-01-11","2028-01-12","2028-01-13","2028-01-14","2028-01-15","2028-01-16","2028-01-17","2028-01-18","2028-01-19","2028-01-20","2028-01-21","2028-01-22","2028-01-23","2028-01-24","2028-01-25","2028-01-26","2028-01-27","2028-01-28","2028-01-29","2028-01-30","2028-01-31","2028-02-01","2028-02-02","2028-02-03","2028-02-04","2028-02-05","2028-02-06","2028-02-07","2028-02-08","2028-02-09","2028-02-10","2028-02-11","2028-02-12","2028-02-13","2028-02-14","2028-02-15","2028-02-16","2028-02-17","2028-02-18","2028-02-19","2028-02-20","2028-02-21","2028-02-22","2028-02-23",{"$f":"BTG4+1","v":"2028-02-24"},"2028-02-25","2028-02-26","2028-02-27","2028-02-28","2028-02-29","2028-03-01","2028-03-02","2028-03-03","2028-03-04","2028-03-05","2028-03-06","2028-03-07","2028-03-08","2028-03-09","2028-03-10","2028-03-11","2028-03-12","2028-03-13","2028-03-14","2028-03-15","2028-03-16","2028-03-17","2028-03-18","2028-03-19","2028-03-20","2028-03-21","2028-03-22","2028-03-23","2028-03-24","2028-03-25","2028-03-26","2028-03-27","2028-03-28","2028-03-29","2028-03-30","2028-03-31","2028-04-01","2028-04-02","2028-04-03","2028-04-04","2028-04-05","2028-04-06","2028-04-07","2028-04-08","2028-04-09","2028-04-10","2028-04-11","2028-04-12","2028-04-13","2028-04-14","2028-04-15","2028-04-16","2028-04-17","2028-04-18","2028-04-19","2028-04-20","2028-04-21","2028-04-22","2028-04-23","2028-04-24","2028-04-25","2028-04-26","2028-04-27",{"$f":"BVS4+1","v":"2028-04-28"},"2028-04-29","2028-04-30","2028-05-01","2028-05-02","2028-05-03","2028-05-04","2028-05-05","2028-05-06","2028-05-07","2028-05-08","2028-05-09","2028-05-10","2028-05-11","2028-05-12","2028-05-13","2028-05-14","2028-05-15","2028-05-16","2028-05-17","2028-05-18","2028-05-19","2028-05-20","2028-05-21","2028-05-22","2028-05-23","2028-05-24","2028-05-25","2028-05-26","2028-05-27","2028-05-28","2028-05-29","2028-05-30","2028-05-31","2028-06-01","2028-06-02","2028-06-03","2028-06-04","2028-06-05","2028-06-06","2028-06-07","2028-06-08","2028-06-09","2028-06-10","2028-06-11","2028-06-12","2028-06-13","2028-06-14","2028-06-15","2028-06-16","2028-06-17","2028-06-18","2028-06-19","2028-06-20","2028-06-21","2028-06-22","2028-06-23","2028-06-24","2028-06-25","2028-06-26","2028-06-27","2028-06-28","2028-06-29","2028-06-30",{"$f":"BYE4+1","v":"2028-07-01"},"2028-07-02","2028-07-03","2028-07-04","2028-07-05","2028-07-06","2028-07-07","2028-07-08","2028-07-09","2028-07-10","2028-07-11","2028-07-12","2028-07-13","2028-07-14","2028-07-15","2028-07-16","2028-07-17","2028-07-18","2028-07-19","2028-07-20","2028-07-21","2028-07-22","2028-07-23","2028-07-24","2028-07-25","2028-07-26","2028-07-27","2028-07-28","2028-07-29","2028-07-30","2028-07-31","2028-08-01","2028-08-02","2028-08-03","2028-08-04","2028-08-05","2028-08-06","2028-08-07","2028-08-08","2028-08-09","2028-08-10","2028-08-11","2028-08-12","2028-08-13","2028-08-14","2028-08-15","2028-08-16","2028-08-17","2028-08-18","2028-08-19","2028-08-20","2028-08-21","2028-08-22","2028-08-23","2028-08-24","2028-08-25","2028-08-26","2028-08-27","2028-08-28","2028-08-29","2028-08-30","2028-08-31","2028-09-01","2028-09-02",{"$f":"CAQ4+1","v":"2028-09-03"},"2028-09-04","2028-09-05","2028-09-06","2028-09-07","2028-09-08","2028-09-09","2028-09-10","2028-09-11","2028-09-12","2028-09-13","2028-09-14","2028-09-15","2028-09-16","2028-09-17","2028-09-18","2028-09-19","2028-09-20","2028-09-21","2028-09-22","2028-09-23","2028-09-24","2028-09-25","2028-09-26","2028-09-27","2028-09-28","2028-09-29","2028-09-30","2028-10-01","2028-10-02","2028-10-03","2028-10-04","2028-10-05","2028-10-06","2028-10-07","2028-10-08","2028-10-09","2028-10-10","2028-10-11","2028-10-12","2028-10-13","2028-10-14","2028-10-15","2028-10-16","2028-10-17","2028-10-18","2028-10-19","2028-10-20","2028-10-21","2028-10-22","2028-10-23","2028-10-24","2028-10-25","2028-10-26","2028-10-27","2028-10-28","2028-10-29","2028-10-30","2028-10-31","2028-11-01","2028-11-02","2028-11-03","2028-11-04","2028-11-05",{"$f":"CDC4+1","v":"2028-11-06"},"2028-11-07","2028-11-08","2028-11-09","2028-11-10","2028-11-11","2028-11-12","2028-11-13","2028-11-14","2028-11-15","2028-11-16","2028-11-17","2028-11-18","2028-11-19","2028-11-20","2028-11-21","2028-11-22","2028-11-23","2028-11-24","2028-11-25","2028-11-26","2028-11-27","2028-11-28","2028-11-29","2028-11-30","2028-12-01","2028-12-02","2028-12-03","2028-12-04","2028-12-05","2028-12-06","2028-12-07","2028-12-08","2028-12-09","2028-12-10","2028-12-11","2028-12-12","2028-12-13","2028-12-14","2028-12-15","2028-12-16","2028-12-17","2028-12-18","2028-12-19","2028-12-20","2028-12-21","2028-12-22","2028-12-23","2028-12-24","2028-12-25","2028-12-26","2028-12-27","2028-12-28","2028-12-29","2028-12-30","2028-12-31","2029-01-01","2029-01-02","2029-01-03","2029-01-04","2029-01-05","2029-01-06","2029-01-07","2029-01-08",{"$f":"CFO4+1","v":"2029-01-09"},"2029-01-10","2029-01-11","2029-01-12","2029-01-13","2029-01-14","2029-01-15","2029-01-16","2029-01-17","2029-01-18","2029-01-19","2029-01-20","2029-01-21","2029-01-22","2029-01-23","2029-01-24","2029-01-25","2029-01-26","2029-01-27","2029-01-28","2029-01-29","2029-01-30","2029-01-31","2029-02-01","2029-02-02","2029-02-03","2029-02-04","2029-02-05","2029-02-06","2029-02-07","2029-02-08","2029-02-09","2029-02-10","2029-02-11","2029-02-12","2029-02-13","2029-02-14","2029-02-15","2029-02-16","2029-02-17","2029-02-18","2029-02-19","2029-02-20","2029-02-21","2029-02-22","2029-02-23","2029-02-24","2029-02-25","2029-02-26","2029-02-27","2029-02-28","2029-03-01","2029-03-02","2029-03-03","2029-03-04","2029-03-05","2029-03-06","2029-03-07","2029-03-08","2029-03-09","2029-03-10","2029-03-11","2029-03-12","2029-03-13",{"$f":"CIA4+1","v":"2029-03-14"},"2029-03-15","2029-03-16","2029-03-17","2029-03-18","2029-03-19","2029-03-20","2029-03-21","2029-03-22","2029-03-23","2029-03-24","2029-03-25","2029-03-26","2029-03-27","2029-03-28","2029-03-29","2029-03-30","2029-03-31","2029-04-01","2029-04-02","2029-04-03","2029-04-04","2029-04-05","2029-04-06","2029-04-07","2029-04-08","2029-04-09","2029-04-10","2029-04-11","2029-04-12","2029-04-13","2029-04-14","2029-04-15","2029-04-16","2029-04-17","2029-04-18","2029-04-19","2029-04-20","2029-04-21","2029-04-22","2029-04-23","2029-04-24","2029-04-25","2029-04-26","2029-04-27","2029-04-28","2029-04-29","2029-04-30","2029-05-01","2029-05-02","2029-05-03","2029-05-04","2029-05-05","2029-05-06","2029-05-07","2029-05-08","2029-05-09","2029-05-10","2029-05-11","2029-05-12","2029-05-13","2029-05-14","2029-05-15","2029-05-16",{"$f":"CKM4+1","v":"2029-05-17"},"2029-05-18","2029-05-19","2029-05-20","2029-05-21","2029-05-22","2029-05-23","2029-05-24","2029-05-25","2029-05-26","2029-05-27","2029-05-28","2029-05-29","2029-05-30","2029-05-31","2029-06-01","2029-06-02","2029-06-03","2029-06-04","2029-06-05","2029-06-06","2029-06-07","2029-06-08","2029-06-09","2029-06-10","2029-06-11","2029-06-12","2029-06-13","2029-06-14","2029-06-15","2029-06-16","2029-06-17","2029-06-18","2029-06-19","2029-06-20","2029-06-21","2029-06-22","2029-06-23","2029-06-24","2029-06-25","2029-06-26","2029-06-27","2029-06-28","2029-06-29","2029-06-30","2029-07-01","2029-07-02","2029-07-03","2029-07-04","2029-07-05","2029-07-06","2029-07-07","2029-07-08","2029-07-09","2029-07-10","2029-07-11","2029-07-12","2029-07-13","2029-07-14","2029-07-15","2029-07-16","2029-07-17","2029-07-18","2029-07-19",{"$f":"CMY4+1","v":"2029-07-20"},"2029-07-21","2029-07-22","2029-07-23","2029-07-24","2029-07-25","2029-07-26","2029-07-27","2029-07-28","2029-07-29","2029-07-30","2029-07-31","2029-08-01","2029-08-02","2029-08-03","2029-08-04","2029-08-05","2029-08-06","2029-08-07","2029-08-08","2029-08-09","2029-08-10","2029-08-11","2029-08-12","2029-08-13","2029-08-14","2029-08-15","2029-08-16","2029-08-17","2029-08-18","2029-08-19","2029-08-20","2029-08-21","2029-08-22","2029-08-23","2029-08-24","2029-08-25","2029-08-26","2029-08-27","2029-08-28","2029-08-29","2029-08-30","2029-08-31","2029-09-01","2029-09-02","2029-09-03","2029-09-04","2029-09-05","2029-09-06","2029-09-07","2029-09-08","2029-09-09","2029-09-10","2029-09-11","2029-09-12","2029-09-13","2029-09-14","2029-09-15","2029-09-16","2029-09-17","2029-09-18","2029-09-19","2029-09-20","2029-09-21",{"$f":"CPK4+1","v":"2029-09-22"},"2029-09-23","2029-09-24","2029-09-25","2029-09-26","2029-09-27","2029-09-28","2029-09-29","2029-09-30","2029-10-01","2029-10-02","2029-10-03","2029-10-04","2029-10-05","2029-10-06","2029-10-07","2029-10-08","2029-10-09","2029-10-10","2029-10-11","2029-10-12","2029-10-13","2029-10-14","2029-10-15","2029-10-16","2029-10-17","2029-10-18","2029-10-19","2029-10-20","2029-10-21","2029-10-22","2029-10-23","2029-10-24","2029-10-25","2029-10-26","2029-10-27","2029-10-28","2029-10-29","2029-10-30","2029-10-31","2029-11-01","2029-11-02","2029-11-03","2029-11-04","2029-11-05","2029-11-06","2029-11-07","2029-11-08","2029-11-09","2029-11-10","2029-11-11","2029-11-12","2029-11-13","2029-11-14","2029-11-15","2029-11-16","2029-11-17","2029-11-18","2029-11-19","2029-11-20","2029-11-21","2029-11-22","2029-11-23","2029-11-24",{"$f":"CRW4+1","v":"2029-11-25"},"2029-11-26","2029-11-27","2029-11-28","2029-11-29","2029-11-30","2029-12-01","2029-12-02","2029-12-03","2029-12-04","2029-12-05","2029-12-06","2029-12-07","2029-12-08","2029-12-09","2029-12-10","2029-12-11","2029-12-12","2029-12-13","2029-12-14","2029-12-15","2029-12-16","2029-12-17","2029-12-18","2029-12-19","2029-12-20","2029-12-21","2029-12-22","2029-12-23","2029-12-24","2029-12-25","2029-12-26","2029-12-27","2029-12-28","2029-12-29","2029-12-30","2029-12-31","2030-01-01","2030-01-02","2030-01-03","2030-01-04","2030-01-05","2030-01-06","2030-01-07","2030-01-08","2030-01-09","2030-01-10","2030-01-11","2030-01-12","2030-01-13","2030-01-14","2030-01-15","2030-01-16","2030-01-17","2030-01-18","2030-01-19","2030-01-20","2030-01-21","2030-01-22","2030-01-23","2030-01-24","2030-01-25","2030-01-26","2030-01-27",{"$f":"CUI4+1","v":"2030-01-28"},"2030-01-29","2030-01-30","2030-01-31","2030-02-01","2030-02-02","2030-02-03","2030-02-04","2030-02-05","2030-02-06","2030-02-07","2030-02-08","2030-02-09","2030-02-10","2030-02-11","2030-02-12","2030-02-13","2030-02-14","2030-02-15","2030-02-16","2030-02-17","2030-02-18","2030-02-19","2030-02-20","2030-02-21","2030-02-22","2030-02-23","2030-02-24","2030-02-25","2030-02-26","2030-02-27","2030-02-28","2030-03-01","2030-03-02","2030-03-03","2030-03-04","2030-03-05","2030-03-06","2030-03-07","2030-03-08","2030-03-09","2030-03-10","2030-03-11","2030-03-12","2030-03-13","2030-03-14","2030-03-15","2030-03-16","2030-03-17","2030-03-18","2030-03-19","2030-03-20","2030-03-21","2030-03-22","2030-03-23","2030-03-24","2030-03-25","2030-03-26","2030-03-27","2030-03-28","2030-03-29","2030-03-30","2030-03-31","2030-04-01",{"$f":"CWU4+1","v":"2030-04-02"},"2030-04-03","2030-04-04","2030-04-05","2030-04-06","2030-04-07","2030-04-08","2030-04-09","2030-04-10","2030-04-11","2030-04-12","2030-04-13","2030-04-14","2030-04-15","2030-04-16","2030-04-17","2030-04-18","2030-04-19","2030-04-20","2030-04-21","2030-04-22","2030-04-23","2030-04-24","2030-04-25","2030-04-26","2030-04-27","2030-04-28","2030-04-29","2030-04-30","2030-05-01","2030-05-02","2030-05-03","2030-05-04","2030-05-05","2030-05-06","2030-05-07","2030-05-08","2030-05-09","2030-05-10","2030-05-11","2030-05-12","2030-05-13","2030-05-14","2030-05-15","2030-05-16","2030-05-17","2030-05-18","2030-05-19","2030-05-20","2030-05-21","2030-05-22","2030-05-23","2030-05-24","2030-05-25","2030-05-26","2030-05-27","2030-05-28","2030-05-29","2030-05-30","2030-05-31","2030-06-01","2030-06-02","2030-06-03","2030-06-04",{"$f":"CZG4+1","v":"2030-06-05"},"2030-06-06","2030-06-07","2030-06-08","2030-06-09","2030-06-10","2030-06-11","2030-06-12","2030-06-13","2030-06-14","2030-06-15","2030-06-16","2030-06-17","2030-06-18","2030-06-19","2030-06-20","2030-06-21","2030-06-22","2030-06-23","2030-06-24","2030-06-25","2030-06-26","2030-06-27","2030-06-28","2030-06-29","2030-06-30","2030-07-01","2030-07-02","2030-07-03","2030-07-04","2030-07-05","2030-07-06","2030-07-07","2030-07-08","2030-07-09","2030-07-10","2030-07-11","2030-07-12","2030-07-13","2030-07-14","2030-07-15","2030-07-16","2030-07-17","2030-07-18","2030-07-19","2030-07-20","2030-07-21","2030-07-22","2030-07-23","2030-07-24","2030-07-25","2030-07-26","2030-07-27","2030-07-28","2030-07-29","2030-07-30","2030-07-31","2030-08-01","2030-08-02","2030-08-03","2030-08-04","2030-08-05","2030-08-06","2030-08-07",{"$f":"DBS4+1","v":"2030-08-08"},"2030-08-09","2030-08-10","2030-08-11","2030-08-12","2030-08-13","2030-08-14","2030-08-15","2030-08-16","2030-08-17","2030-08-18","2030-08-19","2030-08-20","2030-08-21","2030-08-22","2030-08-23","2030-08-24","2030-08-25","2030-08-26","2030-08-27","2030-08-28","2030-08-29","2030-08-30","2030-08-31","2030-09-01","2030-09-02","2030-09-03","2030-09-04","2030-09-05","2030-09-06","2030-09-07","2030-09-08","2030-09-09","2030-09-10","2030-09-11","2030-09-12","2030-09-13","2030-09-14","2030-09-15","2030-09-16","2030-09-17","2030-09-18","2030-09-19","2030-09-20","2030-09-21","2030-09-22","2030-09-23","2030-09-24","2030-09-25","2030-09-26","2030-09-27","2030-09-28","2030-09-29","2030-09-30","2030-10-01","2030-10-02","2030-10-03","2030-10-04","2030-10-05","2030-10-06","2030-10-07","2030-10-08","2030-10-09","2030-10-10",{"$f":"DEE4+1","v":"2030-10-11"},"2030-10-12","2030-10-13","2030-10-14","2030-10-15","2030-10-16","2030-10-17","2030-10-18","2030-10-19","2030-10-20","2030-10-21","2030-10-22","2030-10-23","2030-10-24","2030-10-25","2030-10-26","2030-10-27","2030-10-28","2030-10-29","2030-10-30","2030-10-31","2030-11-01","2030-11-02","2030-11-03","2030-11-04","2030-11-05","2030-11-06","2030-11-07","2030-11-08","2030-11-09","2030-11-10","2030-11-11","2030-11-12","2030-11-13","2030-11-14","2030-11-15","2030-11-16","2030-11-17","2030-11-18","2030-11-19","2030-11-20","2030-11-21","2030-11-22","2030-11-23","2030-11-24","2030-11-25","2030-11-26","2030-11-27","2030-11-28","2030-11-29","2030-11-30","2030-12-01","2030-12-02","2030-12-03","2030-12-04","2030-12-05","2030-12-06","2030-12-07","2030-12-08","2030-12-09","2030-12-10","2030-12-11","2030-12-12","2030-12-13",{"$f":"DGQ4+1","v":"2030-12-14"},"2030-12-15","2030-12-16","2030-12-17","2030-12-18","2030-12-19","2030-12-20","2030-12-21","2030-12-22","2030-12-23","2030-12-24","2030-12-25","2030-12-26","2030-12-27","2030-12-28","2030-12-29","2030-12-30","2030-12-31","2031-01-01","2031-01-02","2031-01-03","2031-01-04","2031-01-05","2031-01-06","2031-01-07","2031-01-08","2031-01-09","2031-01-10","2031-01-11","2031-01-12","2031-01-13","2031-01-14","2031-01-15","2031-01-16","2031-01-17","2031-01-18","2031-01-19","2031-01-20","2031-01-21","2031-01-22","2031-01-23","2031-01-24","2031-01-25","2031-01-26","2031-01-27","2031-01-28","2031-01-29","2031-01-30","2031-01-31","2031-02-01","2031-02-02","2031-02-03","2031-02-04","2031-02-05","2031-02-06","2031-02-07","2031-02-08","2031-02-09","2031-02-10","2031-02-11","2031-02-12","2031-02-13","2031-02-14","2031-02-15",{"$f":"DJC4+1","v":"2031-02-16"},"2031-02-17","2031-02-18","2031-02-19","2031-02-20","2031-02-21","2031-02-22","2031-02-23","2031-02-24","2031-02-25","2031-02-26","2031-02-27","2031-02-28","2031-03-01","2031-03-02","2031-03-03","2031-03-04","2031-03-05","2031-03-06","2031-03-07","2031-03-08","2031-03-09","2031-03-10","2031-03-11","2031-03-12","2031-03-13","2031-03-14","2031-03-15","2031-03-16","2031-03-17","2031-03-18","2031-03-19","2031-03-20","2031-03-21","2031-03-22","2031-03-23","2031-03-24","2031-03-25","2031-03-26","2031-03-27","2031-03-28","2031-03-29","2031-03-30","2031-03-31","2031-04-01","2031-04-02","2031-04-03","2031-04-04","2031-04-05","2031-04-06","2031-04-07","2031-04-08","2031-04-09","2031-04-10","2031-04-11","2031-04-12","2031-04-13","2031-04-14","2031-04-15","2031-04-16","2031-04-17","2031-04-18","2031-04-19","2031-04-20",{"$f":"DLO4+1","v":"2031-04-21"},"2031-04-22","2031-04-23","2031-04-24","2031-04-25","2031-04-26","2031-04-27","2031-04-28","2031-04-29","2031-04-30","2031-05-01","2031-05-02","2031-05-03","2031-05-04","2031-05-05","2031-05-06","2031-05-07","2031-05-08","2031-05-09","2031-05-10","2031-05-11","2031-05-12","2031-05-13","2031-05-14","2031-05-15","2031-05-16","2031-05-17","2031-05-18","2031-05-19","2031-05-20","2031-05-21","2031-05-22","2031-05-23","2031-05-24","2031-05-25","2031-05-26","2031-05-27","2031-05-28","2031-05-29","2031-05-30","2031-05-31","2031-06-01","2031-06-02","2031-06-03","2031-06-04","2031-06-05","2031-06-06","2031-06-07","2031-06-08","2031-06-09","2031-06-10","2031-06-11","2031-06-12","2031-06-13","2031-06-14","2031-06-15","2031-06-16","2031-06-17","2031-06-18","2031-06-19","2031-06-20","2031-06-21","2031-06-22","2031-06-23",{"$f":"DOA4+1","v":"2031-06-24"},"2031-06-25","2031-06-26","2031-06-27","2031-06-28","2031-06-29","2031-06-30","2031-07-01","2031-07-02","2031-07-03","2031-07-04","2031-07-05","2031-07-06","2031-07-07","2031-07-08","2031-07-09","2031-07-10","2031-07-11","2031-07-12","2031-07-13","2031-07-14","2031-07-15","2031-07-16","2031-07-17","2031-07-18","2031-07-19","2031-07-20","2031-07-21","2031-07-22","2031-07-23","2031-07-24","2031-07-25","2031-07-26","2031-07-27","2031-07-28","2031-07-29","2031-07-30","2031-07-31","2031-08-01","2031-08-02","2031-08-03","2031-08-04","2031-08-05","2031-08-06","2031-08-07","2031-08-08","2031-08-09","2031-08-10","2031-08-11","2031-08-12","2031-08-13","2031-08-14","2031-08-15","2031-08-16","2031-08-17","2031-08-18","2031-08-19","2031-08-20","2031-08-21","2031-08-22","2031-08-23","2031-08-24","2031-08-25","2031-08-26",{"$f":"DQM4+1","v":"2031-08-27"},"2031-08-28","2031-08-29","2031-08-30","2031-08-31","2031-09-01","2031-09-02","2031-09-03","2031-09-04","2031-09-05","2031-09-06","2031-09-07","2031-09-08","2031-09-09","2031-09-10","2031-09-11","2031-09-12","2031-09-13","2031-09-14","2031-09-15","2031-09-16","2031-09-17","2031-09-18","2031-09-19","2031-09-20","2031-09-21","2031-09-22","2031-09-23","2031-09-24","2031-09-25","2031-09-26","2031-09-27","2031-09-28","2031-09-29","2031-09-30","2031-10-01","2031-10-02","2031-10-03","2031-10-04","2031-10-05","2031-10-06","2031-10-07","2031-10-08","2031-10-09","2031-10-10","2031-10-11","2031-10-12","2031-10-13","2031-10-14","2031-10-15","2031-10-16","2031-10-17","2031-10-18","2031-10-19","2031-10-20","2031-10-21","2031-10-22","2031-10-23","2031-10-24","2031-10-25","2031-10-26","2031-10-27","2031-10-28","2031-10-29",{"$f":"DSY4+1","v":"2031-10-30"},"2031-10-31","2031-11-01","2031-11-02","2031-11-03","2031-11-04","2031-11-05","2031-11-06","2031-11-07","2031-11-08","2031-11-09","2031-11-10","2031-11-11","2031-11-12","2031-11-13","2031-11-14","2031-11-15","2031-11-16","2031-11-17","2031-11-18","2031-11-19","2031-11-20","2031-11-21","2031-11-22","2031-11-23","2031-11-24","2031-11-25","2031-11-26","2031-11-27","2031-11-28","2031-11-29","2031-11-30","2031-12-01","2031-12-02","2031-12-03","2031-12-04","2031-12-05","2031-12-06","2031-12-07","2031-12-08","2031-12-09","2031-12-10","2031-12-11","2031-12-12","2031-12-13","2031-12-14","2031-12-15","2031-12-16","2031-12-17","2031-12-18","2031-12-19","2031-12-20","2031-12-21","2031-12-22","2031-12-23","2031-12-24","2031-12-25","2031-12-26","2031-12-27","2031-12-28","2031-12-29","2031-12-30","2031-12-31","2032-01-01",{"$f":"DVK4+1","v":"2032-01-02"},"2032-01-03","2032-01-04","2032-01-05","2032-01-06","2032-01-07","2032-01-08","2032-01-09","2032-01-10","2032-01-11","2032-01-12","2032-01-13","2032-01-14","2032-01-15","2032-01-16","2032-01-17","2032-01-18","2032-01-19","2032-01-20","2032-01-21","2032-01-22","2032-01-23","2032-01-24","2032-01-25","2032-01-26","2032-01-27","2032-01-28","2032-01-29","2032-01-30","2032-01-31","2032-02-01","2032-02-02","2032-02-03","2032-02-04","2032-02-05","2032-02-06","2032-02-07","2032-02-08","2032-02-09","2032-02-10","2032-02-11","2032-02-12","2032-02-13","2032-02-14","2032-02-15","2032-02-16","2032-02-17","2032-02-18","2032-02-19","2032-02-20","2032-02-21","2032-02-22","2032-02-23","2032-02-24","2032-02-25","2032-02-26","2032-02-27","2032-02-28","2032-02-29","2032-03-01","2032-03-02","2032-03-03","2032-03-04","2032-03-05",{"$f":"DXW4+1","v":"2032-03-06"},"2032-03-07","2032-03-08","2032-03-09","2032-03-10","2032-03-11","2032-03-12","2032-03-13","2032-03-14","2032-03-15","2032-03-16","2032-03-17","2032-03-18","2032-03-19","2032-03-20","2032-03-21","2032-03-22","2032-03-23","2032-03-24","2032-03-25","2032-03-26","2032-03-27","2032-03-28","2032-03-29","2032-03-30","2032-03-31","2032-04-01","2032-04-02","2032-04-03","2032-04-04","2032-04-05","2032-04-06","2032-04-07","2032-04-08","2032-04-09","2032-04-10","2032-04-11","2032-04-12","2032-04-13","2032-04-14","2032-04-15","2032-04-16","2032-04-17","2032-04-18","2032-04-19","2032-04-20","2032-04-21","2032-04-22","2032-04-23","2032-04-24","2032-04-25","2032-04-26","2032-04-27","2032-04-28","2032-04-29","2032-04-30","2032-05-01","2032-05-02","2032-05-03","2032-05-04","2032-05-05","2032-05-06","2032-05-07","2032-05-08",{"$f":"EAI4+1","v":"2032-05-09"},"2032-05-10","2032-05-11","2032-05-12","2032-05-13","2032-05-14","2032-05-15","2032-05-16","2032-05-17","2032-05-18","2032-05-19","2032-05-20","2032-05-21","2032-05-22","2032-05-23","2032-05-24","2032-05-25","2032-05-26","2032-05-27","2032-05-28","2032-05-29","2032-05-30","2032-05-31","2032-06-01","2032-06-02","2032-06-03","2032-06-04","2032-06-05","2032-06-06","2032-06-07","2032-06-08","2032-06-09","2032-06-10","2032-06-11","2032-06-12","2032-06-13","2032-06-14","2032-06-15","2032-06-16","2032-06-17","2032-06-18","2032-06-19","2032-06-20","2032-06-21","2032-06-22","2032-06-23","2032-06-24","2032-06-25","2032-06-26","2032-06-27","2032-06-28","2032-06-29","2032-06-30","2032-07-01","2032-07-02","2032-07-03","2032-07-04","2032-07-05","2032-07-06","2032-07-07","2032-07-08","2032-07-09","2032-07-10","2032-07-11",{"$f":"ECU4+1","v":"2032-07-12"},"2032-07-13","2032-07-14","2032-07-15","2032-07-16","2032-07-17","2032-07-18","2032-07-19","2032-07-20","2032-07-21","2032-07-22","2032-07-23","2032-07-24","2032-07-25","2032-07-26","2032-07-27","2032-07-28","2032-07-29","2032-07-30","2032-07-31","2032-08-01","2032-08-02","2032-08-03","2032-08-04","2032-08-05","2032-08-06","2032-08-07","2032-08-08","2032-08-09","2032-08-10","2032-08-11","2032-08-12","2032-08-13","2032-08-14","2032-08-15","2032-08-16","2032-08-17","2032-08-18","2032-08-19","2032-08-20","2032-08-21","2032-08-22","2032-08-23","2032-08-24","2032-08-25","2032-08-26","2032-08-27","2032-08-28","2032-08-29","2032-08-30","2032-08-31","2032-09-01","2032-09-02","2032-09-03","2032-09-04","2032-09-05","2032-09-06","2032-09-07","2032-09-08","2032-09-09","2032-09-10","2032-09-11","2032-09-12","2032-09-13",{"$f":"EFG4+1","v":"2032-09-14"},"2032-09-15","2032-09-16","2032-09-17","2032-09-18","2032-09-19","2032-09-20","2032-09-21","2032-09-22","2032-09-23","2032-09-24","2032-09-25","2032-09-26","2032-09-27","2032-09-28","2032-09-29","2032-09-30","2032-10-01","2032-10-02","2032-10-03","2032-10-04","2032-10-05","2032-10-06","2032-10-07","2032-10-08","2032-10-09","2032-10-10","2032-10-11","2032-10-12","2032-10-13","2032-10-14","2032-10-15","2032-10-16","2032-10-17","2032-10-18","2032-10-19","2032-10-20","2032-10-21","2032-10-22","2032-10-23","2032-10-24","2032-10-25","2032-10-26","2032-10-27","2032-10-28","2032-10-29","2032-10-30","2032-10-31","2032-11-01","2032-11-02","2032-11-03","2032-11-04","2032-11-05","2032-11-06","2032-11-07","2032-11-08","2032-11-09","2032-11-10","2032-11-11","2032-11-12","2032-11-13","2032-11-14","2032-11-15","2032-11-16",{"$f":"EHS4+1","v":"2032-11-17"},"2032-11-18","2032-11-19","2032-11-20","2032-11-21","2032-11-22","2032-11-23","2032-11-24","2032-11-25","2032-11-26","2032-11-27","2032-11-28","2032-11-29","2032-11-30","2032-12-01","2032-12-02","2032-12-03","2032-12-04","2032-12-05","2032-12-06","2032-12-07","2032-12-08","2032-12-09","2032-12-10","2032-12-11","2032-12-12","2032-12-13","2032-12-14","2032-12-15","2032-12-16","2032-12-17","2032-12-18","2032-12-19","2032-12-20","2032-12-21","2032-12-22","2032-12-23","2032-12-24","2032-12-25","2032-12-26","2032-12-27","2032-12-28","2032-12-29","2032-12-30","2032-12-31","2033-01-01","2033-01-02","2033-01-03","2033-01-04","2033-01-05","2033-01-06","2033-01-07","2033-01-08","2033-01-09","2033-01-10","2033-01-11","2033-01-12","2033-01-13","2033-01-14","2033-01-15","2033-01-16","2033-01-17","2033-01-18","2033-01-19",{"$f":"EKE4+1","v":"2033-01-20"},"2033-01-21","2033-01-22","2033-01-23","2033-01-24","2033-01-25","2033-01-26","2033-01-27","2033-01-28","2033-01-29","2033-01-30","2033-01-31","2033-02-01","2033-02-02","2033-02-03","2033-02-04","2033-02-05","2033-02-06","2033-02-07","2033-02-08","2033-02-09","2033-02-10","2033-02-11","2033-02-12","2033-02-13","2033-02-14","2033-02-15","2033-02-16","2033-02-17","2033-02-18","2033-02-19","2033-02-20","2033-02-21","2033-02-22","2033-02-23","2033-02-24","2033-02-25","2033-02-26","2033-02-27","2033-02-28","2033-03-01","2033-03-02","2033-03-03","2033-03-04","2033-03-05","2033-03-06","2033-03-07","2033-03-08","2033-03-09","2033-03-10","2033-03-11","2033-03-12","2033-03-13","2033-03-14","2033-03-15","2033-03-16","2033-03-17","2033-03-18","2033-03-19","2033-03-20","2033-03-21","2033-03-22","2033-03-23","2033-03-24",{"$f":"EMQ4+1","v":"2033-03-25"},"2033-03-26","2033-03-27","2033-03-28","2033-03-29","2033-03-30","2033-03-31","2033-04-01","2033-04-02","2033-04-03","2033-04-04","2033-04-05","2033-04-06","2033-04-07","2033-04-08","2033-04-09","2033-04-10","2033-04-11","2033-04-12","2033-04-13","2033-04-14","2033-04-15","2033-04-16","2033-04-17","2033-04-18","2033-04-19","2033-04-20","2033-04-21","2033-04-22","2033-04-23","2033-04-24","2033-04-25","2033-04-26","2033-04-27","2033-04-28","2033-04-29","2033-04-30","2033-05-01","2033-05-02","2033-05-03","2033-05-04","2033-05-05","2033-05-06","2033-05-07","2033-05-08","2033-05-09","2033-05-10","2033-05-11","2033-05-12","2033-05-13","2033-05-14","2033-05-15","2033-05-16","2033-05-17","2033-05-18","2033-05-19","2033-05-20","2033-05-21","2033-05-22","2033-05-23","2033-05-24","2033-05-25","2033-05-26","2033-05-27",{"$f":"EPC4+1","v":"2033-05-28"},"2033-05-29","2033-05-30","2033-05-31","2033-06-01","2033-06-02","2033-06-03","2033-06-04","2033-06-05","2033-06-06","2033-06-07","2033-06-08","2033-06-09","2033-06-10","2033-06-11","2033-06-12","2033-06-13","2033-06-14","2033-06-15","2033-06-16","2033-06-17","2033-06-18","2033-06-19","2033-06-20","2033-06-21","2033-06-22","2033-06-23","2033-06-24","2033-06-25","2033-06-26","2033-06-27","2033-06-28","2033-06-29","2033-06-30","2033-07-01","2033-07-02","2033-07-03","2033-07-04","2033-07-05","2033-07-06","2033-07-07","2033-07-08","2033-07-09","2033-07-10","2033-07-11","2033-07-12","2033-07-13","2033-07-14","2033-07-15","2033-07-16","2033-07-17","2033-07-18","2033-07-19","2033-07-20","2033-07-21","2033-07-22","2033-07-23","2033-07-24","2033-07-25","2033-07-26","2033-07-27","2033-07-28","2033-07-29","2033-07-30",{"$f":"ERO4+1","v":"2033-07-31"},"2033-08-01","2033-08-02","2033-08-03","2033-08-04","2033-08-05","2033-08-06","2033-08-07","2033-08-08","2033-08-09","2033-08-10","2033-08-11","2033-08-12","2033-08-13","2033-08-14","2033-08-15","2033-08-16","2033-08-17","2033-08-18","2033-08-19","2033-08-20","2033-08-21","2033-08-22","2033-08-23","2033-08-24","2033-08-25","2033-08-26","2033-08-27","2033-08-28","2033-08-29","2033-08-30","2033-08-31","2033-09-01","2033-09-02","2033-09-03","2033-09-04","2033-09-05","2033-09-06","2033-09-07","2033-09-08","2033-09-09","2033-09-10","2033-09-11","2033-09-12","2033-09-13","2033-09-14","2033-09-15","2033-09-16","2033-09-17","2033-09-18","2033-09-19","2033-09-20","2033-09-21","2033-09-22","2033-09-23","2033-09-24","2033-09-25","2033-09-26","2033-09-27","2033-09-28","2033-09-29","2033-09-30","2033-10-01","2033-10-02",{"$f":"EUA4+1","v":"2033-10-03"},"2033-10-04","2033-10-05","2033-10-06","2033-10-07","2033-10-08","2033-10-09","2033-10-10","2033-10-11","2033-10-12","2033-10-13","2033-10-14","2033-10-15","2033-10-16","2033-10-17","2033-10-18","2033-10-19","2033-10-20","2033-10-21","2033-10-22","2033-10-23","2033-10-24","2033-10-25","2033-10-26","2033-10-27","2033-10-28","2033-10-29","2033-10-30","2033-10-31","2033-11-01","2033-11-02","2033-11-03","2033-11-04","2033-11-05","2033-11-06","2033-11-07","2033-11-08","2033-11-09","2033-11-10","2033-11-11","2033-11-12","2033-11-13","2033-11-14","2033-11-15","2033-11-16","2033-11-17","2033-11-18","2033-11-19","2033-11-20","2033-11-21","2033-11-22","2033-11-23","2033-11-24","2033-11-25","2033-11-26","2033-11-27","2033-11-28","2033-11-29","2033-11-30","2033-12-01","2033-12-02","2033-12-03","2033-12-04","2033-12-05",{"$f":"EWM4+1","v":"2033-12-06"},"2033-12-07","2033-12-08","2033-12-09","2033-12-10","2033-12-11","2033-12-12","2033-12-13","2033-12-14","2033-12-15","2033-12-16","2033-12-17","2033-12-18","2033-12-19","2033-12-20","2033-12-21","2033-12-22","2033-12-23","2033-12-24","2033-12-25","2033-12-26","2033-12-27","2033-12-28","2033-12-29","2033-12-30","2033-12-31","2034-01-01","2034-01-02","2034-01-03","2034-01-04","2034-01-05","2034-01-06","2034-01-07","2034-01-08","2034-01-09","2034-01-10","2034-01-11","2034-01-12","2034-01-13","2034-01-14","2034-01-15","2034-01-16","2034-01-17","2034-01-18","2034-01-19","2034-01-20","2034-01-21","2034-01-22","2034-01-23","2034-01-24","2034-01-25","2034-01-26","2034-01-27","2034-01-28","2034-01-29","2034-01-30","2034-01-31","2034-02-01","2034-02-02","2034-02-03","2034-02-04","2034-02-05","2034-02-06","2034-02-07",{"$f":"EYY4+1","v":"2034-02-08"},"2034-02-09","2034-02-10","2034-02-11","2034-02-12","2034-02-13","2034-02-14","2034-02-15","2034-02-16","2034-02-17","2034-02-18","2034-02-19","2034-02-20","2034-02-21","2034-02-22","2034-02-23","2034-02-24","2034-02-25","2034-02-26","2034-02-27","2034-02-28","2034-03-01","2034-03-02","2034-03-03","2034-03-04","2034-03-05","2034-03-06","2034-03-07","2034-03-08","2034-03-09","2034-03-10","2034-03-11","2034-03-12","2034-03-13","2034-03-14","2034-03-15","2034-03-16","2034-03-17","2034-03-18","2034-03-19","2034-03-20","2034-03-21","2034-03-22","2034-03-23","2034-03-24","2034-03-25","2034-03-26","2034-03-27","2034-03-28","2034-03-29","2034-03-30","2034-03-31","2034-04-01","2034-04-02","2034-04-03","2034-04-04","2034-04-05","2034-04-06","2034-04-07","2034-04-08","2034-04-09","2034-04-10","2034-04-11","2034-04-12",{"$f":"FBK4+1","v":"2034-04-13"},"2034-04-14","2034-04-15","2034-04-16","2034-04-17","2034-04-18","2034-04-19","2034-04-20","2034-04-21","2034-04-22","2034-04-23","2034-04-24","2034-04-25","2034-04-26","2034-04-27","2034-04-28","2034-04-29","2034-04-30","2034-05-01","2034-05-02","2034-05-03","2034-05-04","2034-05-05","2034-05-06","2034-05-07","2034-05-08","2034-05-09","2034-05-10","2034-05-11","2034-05-12","2034-05-13","2034-05-14","2034-05-15","2034-05-16","2034-05-17","2034-05-18","2034-05-19","2034-05-20","2034-05-21","2034-05-22","2034-05-23","2034-05-24","2034-05-25","2034-05-26","2034-05-27","2034-05-28","2034-05-29","2034-05-30","2034-05-31","2034-06-01","2034-06-02","2034-06-03","2034-06-04","2034-06-05","2034-06-06","2034-06-07","2034-06-08","2034-06-09","2034-06-10","2034-06-11","2034-06-12","2034-06-13","2034-06-14","2034-06-15",{"$f":"FDW4+1","v":"2034-06-16"},"2034-06-17","2034-06-18","2034-06-19","2034-06-20","2034-06-21","2034-06-22","2034-06-23","2034-06-24","2034-06-25","2034-06-26","2034-06-27","2034-06-28","2034-06-29","2034-06-30","2034-07-01","2034-07-02","2034-07-03","2034-07-04","2034-07-05","2034-07-06","2034-07-07","2034-07-08","2034-07-09","2034-07-10","2034-07-11","2034-07-12","2034-07-13","2034-07-14","2034-07-15","2034-07-16","2034-07-17","2034-07-18","2034-07-19","2034-07-20","2034-07-21","2034-07-22","2034-07-23","2034-07-24","2034-07-25","2034-07-26","2034-07-27","2034-07-28","2034-07-29","2034-07-30","2034-07-31","2034-08-01","2034-08-02","2034-08-03","2034-08-04","2034-08-05","2034-08-06","2034-08-07","2034-08-08","2034-08-09","2034-08-10","2034-08-11","2034-08-12","2034-08-13","2034-08-14","2034-08-15","2034-08-16","2034-08-17","2034-08-18",{"$f":"FGI4+1","v":"2034-08-19"},"2034-08-20","2034-08-21","2034-08-22","2034-08-23","2034-08-24","2034-08-25","2034-08-26","2034-08-27","2034-08-28","2034-08-29","2034-08-30","2034-08-31","2034-09-01","2034-09-02","2034-09-03","2034-09-04","2034-09-05","2034-09-06","2034-09-07","2034-09-08","2034-09-09","2034-09-10","2034-09-11","2034-09-12","2034-09-13","2034-09-14","2034-09-15","2034-09-16","2034-09-17","2034-09-18","2034-09-19","2034-09-20","2034-09-21","2034-09-22","2034-09-23","2034-09-24","2034-09-25","2034-09-26","2034-09-27","2034-09-28","2034-09-29","2034-09-30","2034-10-01","2034-10-02","2034-10-03","2034-10-04","2034-10-05","2034-10-06","2034-10-07","2034-10-08","2034-10-09","2034-10-10","2034-10-11","2034-10-12","2034-10-13","2034-10-14","2034-10-15","2034-10-16","2034-10-17","2034-10-18","2034-10-19","2034-10-20","2034-10-21",{"$f":"FIU4+1","v":"2034-10-22"},"2034-10-23","2034-10-24","2034-10-25","2034-10-26","2034-10-27","2034-10-28","2034-10-29","2034-10-30","2034-10-31","2034-11-01","2034-11-02","2034-11-03","2034-11-04","2034-11-05","2034-11-06","2034-11-07","2034-11-08","2034-11-09","2034-11-10","2034-11-11","2034-11-12","2034-11-13","2034-11-14","2034-11-15","2034-11-16","2034-11-17","2034-11-18","2034-11-19","2034-11-20","2034-11-21","2034-11-22","2034-11-23","2034-11-24","2034-11-25","2034-11-26","2034-11-27","2034-11-28","2034-11-29","2034-11-30","2034-12-01","2034-12-02","2034-12-03","2034-12-04","2034-12-05","2034-12-06","2034-12-07","2034-12-08","2034-12-09","2034-12-10","2034-12-11","2034-12-12","2034-12-13","2034-12-14","2034-12-15","2034-12-16","2034-12-17","2034-12-18","2034-12-19","2034-12-20","2034-12-21","2034-12-22","2034-12-23","2034-12-24",{"$f":"FLG4+1","v":"2034-12-25"},"2034-12-26","2034-12-27","2034-12-28","2034-12-29","2034-12-30","2034-12-31","2035-01-01","2035-01-02","2035-01-03","2035-01-04","2035-01-05","2035-01-06","2035-01-07","2035-01-08","2035-01-09","2035-01-10","2035-01-11","2035-01-12","2035-01-13","2035-01-14","2035-01-15","2035-01-16","2035-01-17","2035-01-18","2035-01-19","2035-01-20","2035-01-21","2035-01-22","2035-01-23","2035-01-24","2035-01-25","2035-01-26","2035-01-27","2035-01-28","2035-01-29","2035-01-30","2035-01-31","2035-02-01","2035-02-02","2035-02-03","2035-02-04","2035-02-05","2035-02-06","2035-02-07","2035-02-08","2035-02-09","2035-02-10","2035-02-11","2035-02-12","2035-02-13","2035-02-14","2035-02-15","2035-02-16","2035-02-17","2035-02-18","2035-02-19","2035-02-20","2035-02-21","2035-02-22","2035-02-23","2035-02-24","2035-02-25","2035-02-26",{"$f":"FNS4+1","v":"2035-02-27"},"2035-02-28","2035-03-01","2035-03-02","2035-03-03","2035-03-04","2035-03-05","2035-03-06","2035-03-07","2035-03-08","2035-03-09","2035-03-10","2035-03-11","2035-03-12","2035-03-13","2035-03-14","2035-03-15","2035-03-16","2035-03-17","2035-03-18","2035-03-19","2035-03-20","2035-03-21","2035-03-22","2035-03-23","2035-03-24","2035-03-25","2035-03-26","2035-03-27","2035-03-28","2035-03-29","2035-03-30","2035-03-31","2035-04-01","2035-04-02","2035-04-03","2035-04-04","2035-04-05","2035-04-06","2035-04-07","2035-04-08","2035-04-09","2035-04-10","2035-04-11","2035-04-12","2035-04-13","2035-04-14","2035-04-15","2035-04-16","2035-04-17","2035-04-18","2035-04-19","2035-04-20","2035-04-21","2035-04-22","2035-04-23","2035-04-24","2035-04-25","2035-04-26","2035-04-27","2035-04-28","2035-04-29","2035-04-30","2035-05-01",{"$f":"FQE4+1","v":"2035-05-02"},"2035-05-03","2035-05-04","2035-05-05","2035-05-06","2035-05-07","2035-05-08","2035-05-09","2035-05-10","2035-05-11","2035-05-12","2035-05-13","2035-05-14","2035-05-15","2035-05-16","2035-05-17","2035-05-18","2035-05-19","2035-05-20","2035-05-21","2035-05-22","2035-05-23","2035-05-24","2035-05-25","2035-05-26","2035-05-27","2035-05-28","2035-05-29","2035-05-30","2035-05-31","2035-06-01","2035-06-02","2035-06-03","2035-06-04","2035-06-05","2035-06-06","2035-06-07","2035-06-08","2035-06-09","2035-06-10","2035-06-11","2035-06-12","2035-06-13","2035-06-14","2035-06-15","2035-06-16","2035-06-17","2035-06-18","2035-06-19","2035-06-20","2035-06-21","2035-06-22","2035-06-23","2035-06-24","2035-06-25","2035-06-26","2035-06-27","2035-06-28","2035-06-29","2035-06-30","2035-07-01","2035-07-02","2035-07-03","2035-07-04",{"$f":"FSQ4+1","v":"2035-07-05"},"2035-07-06","2035-07-07","2035-07-08","2035-07-09","2035-07-10","2035-07-11","2035-07-12","2035-07-13","2035-07-14","2035-07-15","2035-07-16","2035-07-17","2035-07-18","2035-07-19","2035-07-20","2035-07-21","2035-07-22","2035-07-23","2035-07-24","2035-07-25","2035-07-26","2035-07-27","2035-07-28","2035-07-29","2035-07-30","2035-07-31","2035-08-01","2035-08-02","2035-08-03","2035-08-04","2035-08-05","2035-08-06","2035-08-07","2035-08-08","2035-08-09","2035-08-10","2035-08-11","2035-08-12","2035-08-13","2035-08-14","2035-08-15","2035-08-16","2035-08-17","2035-08-18","2035-08-19","2035-08-20","2035-08-21","2035-08-22","2035-08-23","2035-08-24","2035-08-25","2035-08-26","2035-08-27","2035-08-28","2035-08-29","2035-08-30","2035-08-31","2035-09-01","2035-09-02","2035-09-03","2035-09-04","2035-09-05","2035-09-06",{"$f":"FVC4+1","v":"2035-09-07"},"2035-09-08","2035-09-09","2035-09-10","2035-09-11","2035-09-12","2035-09-13","2035-09-14","2035-09-15","2035-09-16","2035-09-17","2035-09-18","2035-09-19","2035-09-20","2035-09-21","2035-09-22","2035-09-23","2035-09-24","2035-09-25","2035-09-26","2035-09-27","2035-09-28","2035-09-29","2035-09-30","2035-10-01","2035-10-02","2035-10-03","2035-10-04","2035-10-05","2035-10-06","2035-10-07","2035-10-08","2035-10-09","2035-10-10","2035-10-11","2035-10-12","2035-10-13","2035-10-14","2035-10-15","2035-10-16","2035-10-17","2035-10-18","2035-10-19","2035-10-20","2035-10-21","2035-10-22","2035-10-23","2035-10-24","2035-10-25","2035-10-26","2035-10-27","2035-10-28","2035-10-29","2035-10-30","2035-10-31","2035-11-01","2035-11-02","2035-11-03","2035-11-04","2035-11-05","2035-11-06","2035-11-07","2035-11-08","2035-11-09",{"$f":"FXO4+1","v":"2035-11-10"},"2035-11-11","2035-11-12","2035-11-13","2035-11-14","2035-11-15","2035-11-16","2035-11-17","2035-11-18","2035-11-19","2035-11-20","2035-11-21","2035-11-22","2035-11-23","2035-11-24","2035-11-25","2035-11-26","2035-11-27","2035-11-28","2035-11-29","2035-11-30","2035-12-01","2035-12-02","2035-12-03","2035-12-04","2035-12-05","2035-12-06","2035-12-07","2035-12-08","2035-12-09","2035-12-10","2035-12-11","2035-12-12","2035-12-13","2035-12-14","2035-12-15","2035-12-16","2035-12-17","2035-12-18","2035-12-19","2035-12-20","2035-12-21","2035-12-22","2035-12-23","2035-12-24","2035-12-25","2035-12-26","2035-12-27","2035-12-28","2035-12-29","2035-12-30","2035-12-31","2036-01-01","2036-01-02","2036-01-03","2036-01-04","2036-01-05","2036-01-06","2036-01-07","2036-01-08","2036-01-09","2036-01-10","2036-01-11","2036-01-12",{"$f":"GAA4+1","v":"2036-01-13"},"2036-01-14","2036-01-15","2036-01-16","2036-01-17","2036-01-18","2036-01-19","2036-01-20","2036-01-21","2036-01-22","2036-01-23","2036-01-24","2036-01-25","2036-01-26","2036-01-27","2036-01-28","2036-01-29","2036-01-30","2036-01-31","2036-02-01","2036-02-02","2036-02-03","2036-02-04","2036-02-05","2036-02-06","2036-02-07","2036-02-08","2036-02-09","2036-02-10","2036-02-11","2036-02-12","2036-02-13","2036-02-14","2036-02-15","2036-02-16","2036-02-17","2036-02-18","2036-02-19","2036-02-20","2036-02-21","2036-02-22","2036-02-23","2036-02-24","2036-02-25","2036-02-26","2036-02-27","2036-02-28","2036-02-29","2036-03-01","2036-03-02","2036-03-03","2036-03-04","2036-03-05","2036-03-06","2036-03-07","2036-03-08","2036-03-09","2036-03-10","2036-03-11","2036-03-12","2036-03-13","2036-03-14","2036-03-15","2036-03-16",{"$f":"GCM4+1","v":"2036-03-17"},"2036-03-18","2036-03-19","2036-03-20","2036-03-21","2036-03-22","2036-03-23","2036-03-24","2036-03-25","2036-03-26","2036-03-27","2036-03-28","2036-03-29","2036-03-30","2036-03-31","2036-04-01","2036-04-02","2036-04-03","2036-04-04","2036-04-05","2036-04-06","2036-04-07","2036-04-08","2036-04-09","2036-04-10","2036-04-11","2036-04-12","2036-04-13","2036-04-14","2036-04-15","2036-04-16","2036-04-17","2036-04-18","2036-04-19","2036-04-20","2036-04-21","2036-04-22","2036-04-23","2036-04-24","2036-04-25","2036-04-26","2036-04-27","2036-04-28","2036-04-29","2036-04-30","2036-05-01","2036-05-02","2036-05-03","2036-05-04","2036-05-05","2036-05-06","2036-05-07","2036-05-08","2036-05-09","2036-05-10","2036-05-11","2036-05-12","2036-05-13","2036-05-14","2036-05-15","2036-05-16","2036-05-17","2036-05-18","2036-05-19",{"$f":"GEY4+1","v":"2036-05-20"},"2036-05-21","2036-05-22","2036-05-23","2036-05-24","2036-05-25","2036-05-26","2036-05-27","2036-05-28","2036-05-29","2036-05-30","2036-05-31","2036-06-01","2036-06-02","2036-06-03","2036-06-04","2036-06-05","2036-06-06","2036-06-07","2036-06-08","2036-06-09","2036-06-10","2036-06-11","2036-06-12","2036-06-13","2036-06-14","2036-06-15","2036-06-16","2036-06-17","2036-06-18","2036-06-19","2036-06-20","2036-06-21","2036-06-22","2036-06-23","2036-06-24","2036-06-25","2036-06-26","2036-06-27","2036-06-28","2036-06-29","2036-06-30","2036-07-01","2036-07-02","2036-07-03","2036-07-04","2036-07-05","2036-07-06","2036-07-07","2036-07-08","2036-07-09","2036-07-10","2036-07-11","2036-07-12","2036-07-13","2036-07-14","2036-07-15","2036-07-16","2036-07-17","2036-07-18","2036-07-19","2036-07-20","2036-07-21","2036-07-22",{"$f":"GHK4+1","v":"2036-07-23"},"2036-07-24","2036-07-25","2036-07-26","2036-07-27","2036-07-28","2036-07-29","2036-07-30","2036-07-31","2036-08-01","2036-08-02","2036-08-03","2036-08-04","2036-08-05","2036-08-06","2036-08-07","2036-08-08","2036-08-09","2036-08-10","2036-08-11","2036-08-12","2036-08-13","2036-08-14","2036-08-15","2036-08-16","2036-08-17","2036-08-18","2036-08-19","2036-08-20","2036-08-21","2036-08-22","2036-08-23","2036-08-24","2036-08-25","2036-08-26","2036-08-27","2036-08-28","2036-08-29","2036-08-30","2036-08-31","2036-09-01","2036-09-02","2036-09-03","2036-09-04","2036-09-05","2036-09-06","2036-09-07","2036-09-08","2036-09-09","2036-09-10","2036-09-11","2036-09-12","2036-09-13","2036-09-14","2036-09-15","2036-09-16","2036-09-17","2036-09-18","2036-09-19","2036-09-20","2036-09-21","2036-09-22","2036-09-23","2036-09-24",{"$f":"GJW4+1","v":"2036-09-25"},"2036-09-26","2036-09-27","2036-09-28","2036-09-29","2036-09-30","2036-10-01","2036-10-02","2036-10-03","2036-10-04","2036-10-05","2036-10-06","2036-10-07","2036-10-08","2036-10-09","2036-10-10","2036-10-11","2036-10-12","2036-10-13","2036-10-14","2036-10-15","2036-10-16","2036-10-17","2036-10-18","2036-10-19","2036-10-20","2036-10-21","2036-10-22","2036-10-23","2036-10-24","2036-10-25","2036-10-26","2036-10-27","2036-10-28","2036-10-29","2036-10-30","2036-10-31","2036-11-01","2036-11-02","2036-11-03","2036-11-04","2036-11-05","2036-11-06","2036-11-07","2036-11-08","2036-11-09","2036-11-10","2036-11-11","2036-11-12","2036-11-13","2036-11-14","2036-11-15","2036-11-16","2036-11-17","2036-11-18","2036-11-19","2036-11-20","2036-11-21","2036-11-22","2036-11-23","2036-11-24","2036-11-25","2036-11-26","2036-11-27",{"$f":"GMI4+1","v":"2036-11-28"},"2036-11-29","2036-11-30","2036-12-01","2036-12-02","2036-12-03","2036-12-04","2036-12-05","2036-12-06","2036-12-07","2036-12-08","2036-12-09","2036-12-10","2036-12-11","2036-12-12","2036-12-13","2036-12-14","2036-12-15","2036-12-16","2036-12-17","2036-12-18","2036-12-19","2036-12-20","2036-12-21","2036-12-22","2036-12-23","2036-12-24","2036-12-25","2036-12-26","2036-12-27","2036-12-28","2036-12-29","2036-12-30","2036-12-31","2037-01-01","2037-01-02","2037-01-03","2037-01-04","2037-01-05","2037-01-06","2037-01-07","2037-01-08","2037-01-09","2037-01-10","2037-01-11","2037-01-12","2037-01-13","2037-01-14","2037-01-15","2037-01-16","2037-01-17","2037-01-18","2037-01-19","2037-01-20","2037-01-21","2037-01-22","2037-01-23","2037-01-24","2037-01-25","2037-01-26","2037-01-27","2037-01-28","2037-01-29","2037-01-30",{"$f":"GOU4+1","v":"2037-01-31"},"2037-02-01","2037-02-02","2037-02-03","2037-02-04","2037-02-05","2037-02-06","2037-02-07","2037-02-08","2037-02-09","2037-02-10","2037-02-11","2037-02-12","2037-02-13","2037-02-14","2037-02-15","2037-02-16","2037-02-17","2037-02-18","2037-02-19","2037-02-20","2037-02-21","2037-02-22","2037-02-23","2037-02-24","2037-02-25","2037-02-26","2037-02-27","2037-02-28","2037-03-01","2037-03-02","2037-03-03","2037-03-04","2037-03-05","2037-03-06","2037-03-07","2037-03-08","2037-03-09","2037-03-10","2037-03-11","2037-03-12","2037-03-13","2037-03-14","2037-03-15","2037-03-16","2037-03-17","2037-03-18","2037-03-19","2037-03-20","2037-03-21","2037-03-22","2037-03-23","2037-03-24","2037-03-25","2037-03-26","2037-03-27","2037-03-28","2037-03-29","2037-03-30","2037-03-31","2037-04-01","2037-04-02","2037-04-03","2037-04-04",{"$f":"GRG4+1","v":"2037-04-05"},"2037-04-06","2037-04-07","2037-04-08","2037-04-09","2037-04-10","2037-04-11","2037-04-12","2037-04-13","2037-04-14","2037-04-15","2037-04-16","2037-04-17","2037-04-18","2037-04-19","2037-04-20","2037-04-21","2037-04-22","2037-04-23","2037-04-24","2037-04-25","2037-04-26","2037-04-27","2037-04-28","2037-04-29","2037-04-30","2037-05-01","2037-05-02","2037-05-03","2037-05-04","2037-05-05","2037-05-06","2037-05-07","2037-05-08","2037-05-09","2037-05-10","2037-05-11","2037-05-12","2037-05-13","2037-05-14","2037-05-15","2037-05-16","2037-05-17","2037-05-18","2037-05-19","2037-05-20","2037-05-21","2037-05-22","2037-05-23","2037-05-24","2037-05-25","2037-05-26","2037-05-27","2037-05-28","2037-05-29","2037-05-30","2037-05-31","2037-06-01","2037-06-02","2037-06-03","2037-06-04","2037-06-05","2037-06-06","2037-06-07",{"$f":"GTS4+1","v":"2037-06-08"},"2037-06-09","2037-06-10","2037-06-11","2037-06-12","2037-06-13","2037-06-14","2037-06-15","2037-06-16","2037-06-17","2037-06-18","2037-06-19","2037-06-20","2037-06-21","2037-06-22","2037-06-23","2037-06-24","2037-06-25","2037-06-26","2037-06-27","2037-06-28","2037-06-29","2037-06-30","2037-07-01","2037-07-02","2037-07-03","2037-07-04","2037-07-05","2037-07-06","2037-07-07","2037-07-08","2037-07-09","2037-07-10","2037-07-11","2037-07-12","2037-07-13","2037-07-14","2037-07-15","2037-07-16","2037-07-17","2037-07-18","2037-07-19","2037-07-20","2037-07-21","2037-07-22","2037-07-23","2037-07-24","2037-07-25","2037-07-26","2037-07-27","2037-07-28","2037-07-29","2037-07-30","2037-07-31","2037-08-01","2037-08-02","2037-08-03","2037-08-04","2037-08-05","2037-08-06","2037-08-07","2037-08-08","2037-08-09","2037-08-10",{"$f":"GWE4+1","v":"2037-08-11"},"2037-08-12","2037-08-13","2037-08-14","2037-08-15","2037-08-16","2037-08-17","2037-08-18","2037-08-19","2037-08-20","2037-08-21","2037-08-22","2037-08-23","2037-08-24","2037-08-25","2037-08-26","2037-08-27","2037-08-28","2037-08-29","2037-08-30","2037-08-31","2037-09-01","2037-09-02","2037-09-03","2037-09-04","2037-09-05","2037-09-06","2037-09-07","2037-09-08","2037-09-09","2037-09-10","2037-09-11","2037-09-12","2037-09-13","2037-09-14","2037-09-15","2037-09-16","2037-09-17","2037-09-18","2037-09-19","2037-09-20","2037-09-21","2037-09-22","2037-09-23","2037-09-24","2037-09-25","2037-09-26","2037-09-27","2037-09-28","2037-09-29","2037-09-30","2037-10-01","2037-10-02","2037-10-03","2037-10-04","2037-10-05","2037-10-06","2037-10-07","2037-10-08","2037-10-09","2037-10-10","2037-10-11","2037-10-12","2037-10-13",{"$f":"GYQ4+1","v":"2037-10-14"},"2037-10-15","2037-10-16","2037-10-17","2037-10-18","2037-10-19","2037-10-20","2037-10-21","2037-10-22","2037-10-23","2037-10-24","2037-10-25","2037-10-26","2037-10-27","2037-10-28","2037-10-29","2037-10-30","2037-10-31","2037-11-01","2037-11-02","2037-11-03","2037-11-04","2037-11-05","2037-11-06","2037-11-07","2037-11-08","2037-11-09","2037-11-10","2037-11-11","2037-11-12","2037-11-13","2037-11-14","2037-11-15","2037-11-16","2037-11-17","2037-11-18","2037-11-19","2037-11-20","2037-11-21","2037-11-22","2037-11-23","2037-11-24","2037-11-25","2037-11-26","2037-11-27","2037-11-28","2037-11-29","2037-11-30","2037-12-01","2037-12-02","2037-12-03","2037-12-04","2037-12-05","2037-12-06","2037-12-07","2037-12-08","2037-12-09","2037-12-10","2037-12-11","2037-12-12","2037-12-13","2037-12-14","2037-12-15","2037-12-16",{"$f":"HBC4+1","v":"2037-12-17"},"2037-12-18","2037-12-19","2037-12-20","2037-12-21","2037-12-22","2037-12-23","2037-12-24","2037-12-25","2037-12-26","2037-12-27","2037-12-28","2037-12-29","2037-12-30","2037-12-31","2038-01-01","2038-01-02","2038-01-03","2038-01-04","2038-01-05","2038-01-06","2038-01-07","2038-01-08","2038-01-09","2038-01-10","2038-01-11","2038-01-12","2038-01-13","2038-01-14","2038-01-15","2038-01-16","2038-01-17","2038-01-18","2038-01-19","2038-01-20","2038-01-21","2038-01-22","2038-01-23","2038-01-24","2038-01-25","2038-01-26","2038-01-27","2038-01-28","2038-01-29","2038-01-30","2038-01-31","2038-02-01","2038-02-02","2038-02-03","2038-02-04","2038-02-05","2038-02-06","2038-02-07","2038-02-08","2038-02-09","2038-02-10","2038-02-11","2038-02-12","2038-02-13","2038-02-14","2038-02-15","2038-02-16","2038-02-17","2038-02-18",{"$f":"HDO4+1","v":"2038-02-19"},"2038-02-20","2038-02-21","2038-02-22","2038-02-23","2038-02-24","2038-02-25","2038-02-26","2038-02-27","2038-02-28","2038-03-01","2038-03-02","2038-03-03","2038-03-04","2038-03-05","2038-03-06","2038-03-07","2038-03-08","2038-03-09","2038-03-10","2038-03-11","2038-03-12","2038-03-13","2038-03-14","2038-03-15","2038-03-16","2038-03-17","2038-03-18","2038-03-19","2038-03-20","2038-03-21","2038-03-22","2038-03-23","2038-03-24","2038-03-25","2038-03-26","2038-03-27","2038-03-28","2038-03-29","2038-03-30","2038-03-31","2038-04-01","2038-04-02","2038-04-03","2038-04-04","2038-04-05","2038-04-06","2038-04-07","2038-04-08","2038-04-09","2038-04-10","2038-04-11","2038-04-12","2038-04-13","2038-04-14","2038-04-15","2038-04-16","2038-04-17","2038-04-18","2038-04-19","2038-04-20","2038-04-21","2038-04-22","2038-04-23",{"$f":"HGA4+1","v":"2038-04-24"},"2038-04-25","2038-04-26","2038-04-27","2038-04-28","2038-04-29","2038-04-30","2038-05-01","2038-05-02","2038-05-03","2038-05-04","2038-05-05","2038-05-06","2038-05-07","2038-05-08","2038-05-09","2038-05-10","2038-05-11","2038-05-12","2038-05-13","2038-05-14","2038-05-15","2038-05-16","2038-05-17","2038-05-18","2038-05-19","2038-05-20","2038-05-21","2038-05-22","2038-05-23","2038-05-24","2038-05-25","2038-05-26","2038-05-27","2038-05-28","2038-05-29","2038-05-30","2038-05-31","2038-06-01","2038-06-02","2038-06-03","2038-06-04","2038-06-05","2038-06-06","2038-06-07","2038-06-08","2038-06-09","2038-06-10","2038-06-11","2038-06-12","2038-06-13","2038-06-14","2038-06-15","2038-06-16","2038-06-17","2038-06-18","2038-06-19","2038-06-20","2038-06-21","2038-06-22","2038-06-23","2038-06-24","2038-06-25","2038-06-26",{"$f":"HIM4+1","v":"2038-06-27"},"2038-06-28","2038-06-29","2038-06-30","2038-07-01","2038-07-02","2038-07-03","2038-07-04","2038-07-05","2038-07-06","2038-07-07","2038-07-08","2038-07-09","2038-07-10","2038-07-11","2038-07-12","2038-07-13","2038-07-14","2038-07-15","2038-07-16","2038-07-17","2038-07-18","2038-07-19","2038-07-20","2038-07-21","2038-07-22","2038-07-23","2038-07-24","2038-07-25","2038-07-26","2038-07-27","2038-07-28","2038-07-29","2038-07-30","2038-07-31","2038-08-01","2038-08-02","2038-08-03","2038-08-04","2038-08-05","2038-08-06","2038-08-07","2038-08-08","2038-08-09","2038-08-10","2038-08-11","2038-08-12","2038-08-13","2038-08-14","2038-08-15","2038-08-16","2038-08-17","2038-08-18","2038-08-19","2038-08-20","2038-08-21","2038-08-22","2038-08-23","2038-08-24","2038-08-25","2038-08-26","2038-08-27","2038-08-28","2038-08-29",{"$f":"HKY4+1","v":"2038-08-30"},"2038-08-31","2038-09-01","2038-09-02","2038-09-03","2038-09-04","2038-09-05","2038-09-06","2038-09-07","2038-09-08","2038-09-09","2038-09-10","2038-09-11","2038-09-12","2038-09-13","2038-09-14","2038-09-15","2038-09-16","2038-09-17","2038-09-18","2038-09-19","2038-09-20","2038-09-21","2038-09-22","2038-09-23","2038-09-24","2038-09-25","2038-09-26","2038-09-27","2038-09-28","2038-09-29","2038-09-30","2038-10-01","2038-10-02","2038-10-03","2038-10-04","2038-10-05","2038-10-06","2038-10-07","2038-10-08","2038-10-09","2038-10-10","2038-10-11","2038-10-12","2038-10-13","2038-10-14","2038-10-15","2038-10-16","2038-10-17","2038-10-18","2038-10-19","2038-10-20","2038-10-21","2038-10-22","2038-10-23","2038-10-24","2038-10-25","2038-10-26","2038-10-27","2038-10-28","2038-10-29","2038-10-30","2038-10-31","2038-11-01",{"$f":"HNK4+1","v":"2038-11-02"},"2038-11-03","2038-11-04","2038-11-05","2038-11-06","2038-11-07","2038-11-08","2038-11-09","2038-11-10","2038-11-11","2038-11-12","2038-11-13","2038-11-14","2038-11-15","2038-11-16","2038-11-17","2038-11-18","2038-11-19","2038-11-20","2038-11-21","2038-11-22","2038-11-23","2038-11-24","2038-11-25","2038-11-26","2038-11-27","2038-11-28","2038-11-29","2038-11-30","2038-12-01","2038-12-02","2038-12-03","2038-12-04","2038-12-05","2038-12-06","2038-12-07","2038-12-08","2038-12-09","2038-12-10","2038-12-11","2038-12-12","2038-12-13","2038-12-14","2038-12-15","2038-12-16","2038-12-17","2038-12-18","2038-12-19","2038-12-20","2038-12-21","2038-12-22","2038-12-23","2038-12-24","2038-12-25","2038-12-26","2038-12-27","2038-12-28","2038-12-29","2038-12-30","2038-12-31","2039-01-01","2039-01-02","2039-01-03","2039-01-04",{"$f":"HPW4+1","v":"2039-01-05"},"2039-01-06","2039-01-07","2039-01-08","2039-01-09","2039-01-10","2039-01-11","2039-01-12","2039-01-13","2039-01-14","2039-01-15","2039-01-16","2039-01-17","2039-01-18","2039-01-19","2039-01-20","2039-01-21","2039-01-22","2039-01-23","2039-01-24","2039-01-25","2039-01-26","2039-01-27","2039-01-28","2039-01-29","2039-01-30","2039-01-31","2039-02-01","2039-02-02","2039-02-03","2039-02-04","2039-02-05","2039-02-06","2039-02-07","2039-02-08","2039-02-09","2039-02-10","2039-02-11","2039-02-12","2039-02-13","2039-02-14","2039-02-15","2039-02-16","2039-02-17","2039-02-18","2039-02-19","2039-02-20","2039-02-21","2039-02-22","2039-02-23","2039-02-24","2039-02-25","2039-02-26","2039-02-27","2039-02-28","2039-03-01","2039-03-02","2039-03-03","2039-03-04","2039-03-05","2039-03-06","2039-03-07","2039-03-08","2039-03-09",{"$f":"HSI4+1","v":"2039-03-10"},"2039-03-11","2039-03-12","2039-03-13","2039-03-14","2039-03-15","2039-03-16","2039-03-17","2039-03-18","2039-03-19","2039-03-20","2039-03-21","2039-03-22","2039-03-23","2039-03-24","2039-03-25","2039-03-26","2039-03-27","2039-03-28","2039-03-29","2039-03-30","2039-03-31","2039-04-01","2039-04-02","2039-04-03","2039-04-04","2039-04-05","2039-04-06","2039-04-07","2039-04-08","2039-04-09","2039-04-10","2039-04-11","2039-04-12","2039-04-13","2039-04-14","2039-04-15","2039-04-16","2039-04-17","2039-04-18","2039-04-19","2039-04-20","2039-04-21","2039-04-22","2039-04-23","2039-04-24","2039-04-25","2039-04-26","2039-04-27","2039-04-28","2039-04-29","2039-04-30","2039-05-01","2039-05-02","2039-05-03","2039-05-04","2039-05-05","2039-05-06","2039-05-07","2039-05-08","2039-05-09","2039-05-10","2039-05-11","2039-05-12",{"$f":"HUU4+1","v":"2039-05-13"},"2039-05-14","2039-05-15","2039-05-16","2039-05-17","2039-05-18","2039-05-19","2039-05-20","2039-05-21","2039-05-22","2039-05-23","2039-05-24","2039-05-25","2039-05-26","2039-05-27","2039-05-28","2039-05-29","2039-05-30","2039-05-31","2039-06-01","2039-06-02","2039-06-03","2039-06-04","2039-06-05","2039-06-06","2039-06-07","2039-06-08","2039-06-09","2039-06-10","2039-06-11","2039-06-12","2039-06-13","2039-06-14","2039-06-15","2039-06-16","2039-06-17","2039-06-18","2039-06-19","2039-06-20","2039-06-21","2039-06-22","2039-06-23","2039-06-24","2039-06-25","2039-06-26","2039-06-27","2039-06-28","2039-06-29","2039-06-30","2039-07-01","2039-07-02","2039-07-03","2039-07-04","2039-07-05","2039-07-06","2039-07-07","2039-07-08","2039-07-09","2039-07-10","2039-07-11","2039-07-12","2039-07-13","2039-07-14","2039-07-15",{"$f":"HXG4+1","v":"2039-07-16"},"2039-07-17","2039-07-18","2039-07-19","2039-07-20","2039-07-21","2039-07-22","2039-07-23","2039-07-24","2039-07-25","2039-07-26","2039-07-27","2039-07-28","2039-07-29","2039-07-30","2039-07-31","2039-08-01","2039-08-02","2039-08-03","2039-08-04","2039-08-05","2039-08-06","2039-08-07","2039-08-08","2039-08-09","2039-08-10","2039-08-11","2039-08-12","2039-08-13","2039-08-14","2039-08-15","2039-08-16","2039-08-17","2039-08-18","2039-08-19","2039-08-20","2039-08-21","2039-08-22","2039-08-23","2039-08-24","2039-08-25","2039-08-26","2039-08-27","2039-08-28","2039-08-29","2039-08-30","2039-08-31","2039-09-01","2039-09-02","2039-09-03","2039-09-04","2039-09-05","2039-09-06","2039-09-07","2039-09-08","2039-09-09","2039-09-10","2039-09-11","2039-09-12","2039-09-13","2039-09-14","2039-09-15","2039-09-16","2039-09-17",{"$f":"HZS4+1","v":"2039-09-18"},"2039-09-19","2039-09-20","2039-09-21","2039-09-22","2039-09-23","2039-09-24","2039-09-25","2039-09-26","2039-09-27","2039-09-28","2039-09-29","2039-09-30","2039-10-01","2039-10-02","2039-10-03","2039-10-04","2039-10-05","2039-10-06","2039-10-07","2039-10-08","2039-10-09","2039-10-10","2039-10-11","2039-10-12","2039-10-13","2039-10-14","2039-10-15","2039-10-16","2039-10-17","2039-10-18","2039-10-19","2039-10-20","2039-10-21","2039-10-22","2039-10-23","2039-10-24","2039-10-25","2039-10-26","2039-10-27","2039-10-28","2039-10-29","2039-10-30","2039-10-31","2039-11-01","2039-11-02","2039-11-03","2039-11-04","2039-11-05","2039-11-06","2039-11-07","2039-11-08","2039-11-09","2039-11-10","2039-11-11","2039-11-12","2039-11-13","2039-11-14","2039-11-15","2039-11-16","2039-11-17","2039-11-18","2039-11-19","2039-11-20",{"$f":"ICE4+1","v":"2039-11-21"},"2039-11-22","2039-11-23","2039-11-24","2039-11-25","2039-11-26","2039-11-27","2039-11-28","2039-11-29","2039-11-30","2039-12-01","2039-12-02","2039-12-03","2039-12-04","2039-12-05","2039-12-06","2039-12-07","2039-12-08","2039-12-09","2039-12-10","2039-12-11","2039-12-12","2039-12-13","2039-12-14","2039-12-15","2039-12-16","2039-12-17","2039-12-18","2039-12-19","2039-12-20","2039-12-21","2039-12-22","2039-12-23","2039-12-24","2039-12-25","2039-12-26","2039-12-27","2039-12-28","2039-12-29","2039-12-30","2039-12-31","2040-01-01","2040-01-02","2040-01-03","2040-01-04","2040-01-05","2040-01-06","2040-01-07","2040-01-08","2040-01-09","2040-01-10","2040-01-11","2040-01-12","2040-01-13","2040-01-14","2040-01-15","2040-01-16","2040-01-17","2040-01-18","2040-01-19","2040-01-20","2040-01-21","2040-01-22","2040-01-23",{"$f":"IEQ4+1","v":"2040-01-24"},"2040-01-25","2040-01-26","2040-01-27","2040-01-28","2040-01-29","2040-01-30","2040-01-31","2040-02-01","2040-02-02","2040-02-03","2040-02-04","2040-02-05","2040-02-06","2040-02-07","2040-02-08","2040-02-09","2040-02-10","2040-02-11","2040-02-12","2040-02-13","2040-02-14","2040-02-15","2040-02-16","2040-02-17","2040-02-18","2040-02-19","2040-02-20","2040-02-21","2040-02-22","2040-02-23","2040-02-24","2040-02-25","2040-02-26","2040-02-27","2040-02-28","2040-02-29","2040-03-01","2040-03-02","2040-03-03","2040-03-04","2040-03-05","2040-03-06","2040-03-07","2040-03-08","2040-03-09","2040-03-10","2040-03-11","2040-03-12","2040-03-13","2040-03-14","2040-03-15","2040-03-16","2040-03-17","2040-03-18","2040-03-19","2040-03-20","2040-03-21","2040-03-22","2040-03-23","2040-03-24","2040-03-25","2040-03-26","2040-03-27",{"$f":"IHC4+1","v":"2040-03-28"},"2040-03-29","2040-03-30","2040-03-31","2040-04-01","2040-04-02","2040-04-03","2040-04-04","2040-04-05","2040-04-06","2040-04-07","2040-04-08","2040-04-09","2040-04-10","2040-04-11","2040-04-12","2040-04-13","2040-04-14","2040-04-15","2040-04-16","2040-04-17","2040-04-18","2040-04-19","2040-04-20","2040-04-21","2040-04-22","2040-04-23","2040-04-24","2040-04-25","2040-04-26","2040-04-27","2040-04-28","2040-04-29","2040-04-30","2040-05-01","2040-05-02","2040-05-03","2040-05-04","2040-05-05","2040-05-06","2040-05-07","2040-05-08","2040-05-09","2040-05-10","2040-05-11","2040-05-12","2040-05-13","2040-05-14","2040-05-15","2040-05-16","2040-05-17","2040-05-18","2040-05-19","2040-05-20","2040-05-21","2040-05-22","2040-05-23","2040-05-24","2040-05-25","2040-05-26","2040-05-27","2040-05-28","2040-05-29","2040-05-30",{"$f":"IJO4+1","v":"2040-05-31"},"2040-06-01","2040-06-02","2040-06-03","2040-06-04","2040-06-05","2040-06-06","2040-06-07","2040-06-08","2040-06-09","2040-06-10","2040-06-11","2040-06-12","2040-06-13","2040-06-14","2040-06-15","2040-06-16","2040-06-17","2040-06-18","2040-06-19","2040-06-20","2040-06-21","2040-06-22","2040-06-23","2040-06-24","2040-06-25","2040-06-26","2040-06-27","2040-06-28","2040-06-29","2040-06-30","2040-07-01","2040-07-02","2040-07-03","2040-07-04","2040-07-05","2040-07-06","2040-07-07","2040-07-08","2040-07-09","2040-07-10","2040-07-11","2040-07-12","2040-07-13","2040-07-14","2040-07-15","2040-07-16","2040-07-17","2040-07-18","2040-07-19","2040-07-20","2040-07-21","2040-07-22","2040-07-23","2040-07-24","2040-07-25","2040-07-26","2040-07-27","2040-07-28","2040-07-29","2040-07-30","2040-07-31","2040-08-01","2040-08-02",{"$f":"IMA4+1","v":"2040-08-03"},"2040-08-04","2040-08-05","2040-08-06","2040-08-07","2040-08-08","2040-08-09","2040-08-10","2040-08-11","2040-08-12","2040-08-13","2040-08-14","2040-08-15","2040-08-16","2040-08-17","2040-08-18","2040-08-19","2040-08-20","2040-08-21","2040-08-22","2040-08-23","2040-08-24","2040-08-25","2040-08-26","2040-08-27","2040-08-28","2040-08-29","2040-08-30","2040-08-31","2040-09-01","2040-09-02","2040-09-03","2040-09-04","2040-09-05","2040-09-06","2040-09-07","2040-09-08","2040-09-09","2040-09-10","2040-09-11","2040-09-12","2040-09-13","2040-09-14","2040-09-15","2040-09-16","2040-09-17","2040-09-18","2040-09-19","2040-09-20","2040-09-21","2040-09-22","2040-09-23","2040-09-24","2040-09-25","2040-09-26","2040-09-27","2040-09-28","2040-09-29","2040-09-30","2040-10-01","2040-10-02","2040-10-03","2040-10-04","2040-10-05",{"$f":"IOM4+1","v":"2040-10-06"},"2040-10-07","2040-10-08","2040-10-09","2040-10-10","2040-10-11","2040-10-12","2040-10-13","2040-10-14","2040-10-15","2040-10-16","2040-10-17","2040-10-18","2040-10-19","2040-10-20","2040-10-21","2040-10-22","2040-10-23","2040-10-24","2040-10-25","2040-10-26","2040-10-27","2040-10-28","2040-10-29","2040-10-30","2040-10-31","2040-11-01","2040-11-02","2040-11-03","2040-11-04","2040-11-05","2040-11-06","2040-11-07","2040-11-08","2040-11-09","2040-11-10","2040-11-11","2040-11-12","2040-11-13","2040-11-14","2040-11-15","2040-11-16","2040-11-17","2040-11-18","2040-11-19","2040-11-20","2040-11-21","2040-11-22","2040-11-23","2040-11-24","2040-11-25","2040-11-26","2040-11-27","2040-11-28","2040-11-29","2040-11-30","2040-12-01","2040-12-02","2040-12-03","2040-12-04","2040-12-05","2040-12-06","2040-12-07","2040-12-08",{"$f":"IQY4+1","v":"2040-12-09"},"2040-12-10","2040-12-11","2040-12-12","2040-12-13","2040-12-14","2040-12-15","2040-12-16","2040-12-17","2040-12-18","2040-12-19","2040-12-20","2040-12-21","2040-12-22","2040-12-23","2040-12-24","2040-12-25","2040-12-26","2040-12-27","2040-12-28","2040-12-29","2040-12-30","2040-12-31","2041-01-01","2041-01-02","2041-01-03","2041-01-04","2041-01-05","2041-01-06","2041-01-07","2041-01-08","2041-01-09","2041-01-10","2041-01-11","2041-01-12","2041-01-13","2041-01-14","2041-01-15","2041-01-16","2041-01-17","2041-01-18","2041-01-19","2041-01-20","2041-01-21","2041-01-22","2041-01-23","2041-01-24","2041-01-25","2041-01-26","2041-01-27","2041-01-28","2041-01-29","2041-01-30","2041-01-31","2041-02-01","2041-02-02","2041-02-03","2041-02-04","2041-02-05","2041-02-06","2041-02-07","2041-02-08","2041-02-09","2041-02-10",{"$f":"ITK4+1","v":"2041-02-11"},"2041-02-12","2041-02-13","2041-02-14","2041-02-15","2041-02-16","2041-02-17","2041-02-18","2041-02-19","2041-02-20","2041-02-21","2041-02-22","2041-02-23","2041-02-24","2041-02-25","2041-02-26","2041-02-27","2041-02-28","2041-03-01","2041-03-02","2041-03-03","2041-03-04","2041-03-05","2041-03-06","2041-03-07","2041-03-08","2041-03-09","2041-03-10","2041-03-11","2041-03-12","2041-03-13","2041-03-14","2041-03-15","2041-03-16","2041-03-17","2041-03-18","2041-03-19","2041-03-20","2041-03-21","2041-03-22","2041-03-23","2041-03-24","2041-03-25","2041-03-26","2041-03-27","2041-03-28","2041-03-29","2041-03-30","2041-03-31","2041-04-01","2041-04-02","2041-04-03","2041-04-04","2041-04-05","2041-04-06","2041-04-07","2041-04-08","2041-04-09","2041-04-10","2041-04-11","2041-04-12","2041-04-13","2041-04-14","2041-04-15",{"$f":"IVW4+1","v":"2041-04-16"},"2041-04-17","2041-04-18","2041-04-19","2041-04-20","2041-04-21","2041-04-22","2041-04-23","2041-04-24","2041-04-25","2041-04-26","2041-04-27","2041-04-28","2041-04-29","2041-04-30","2041-05-01","2041-05-02","2041-05-03","2041-05-04","2041-05-05","2041-05-06","2041-05-07","2041-05-08","2041-05-09","2041-05-10","2041-05-11","2041-05-12","2041-05-13","2041-05-14","2041-05-15","2041-05-16","2041-05-17","2041-05-18","2041-05-19","2041-05-20","2041-05-21","2041-05-22","2041-05-23","2041-05-24","2041-05-25","2041-05-26","2041-05-27","2041-05-28","2041-05-29","2041-05-30","2041-05-31","2041-06-01","2041-06-02","2041-06-03","2041-06-04","2041-06-05","2041-06-06","2041-06-07","2041-06-08","2041-06-09","2041-06-10","2041-06-11","2041-06-12","2041-06-13","2041-06-14","2041-06-15","2041-06-16","2041-06-17","2041-06-18",{"$f":"IYI4+1","v":"2041-06-19"},"2041-06-20","2041-06-21","2041-06-22","2041-06-23","2041-06-24","2041-06-25","2041-06-26","2041-06-27","2041-06-28","2041-06-29","2041-06-30","2041-07-01","2041-07-02","2041-07-03","2041-07-04","2041-07-05","2041-07-06","2041-07-07","2041-07-08","2041-07-09","2041-07-10","2041-07-11","2041-07-12","2041-07-13","2041-07-14","2041-07-15","2041-07-16","2041-07-17","2041-07-18","2041-07-19","2041-07-20","2041-07-21","2041-07-22","2041-07-23","2041-07-24","2041-07-25","2041-07-26","2041-07-27","2041-07-28","2041-07-29","2041-07-30","2041-07-31","2041-08-01","2041-08-02","2041-08-03","2041-08-04","2041-08-05","2041-08-06","2041-08-07","2041-08-08","2041-08-09","2041-08-10","2041-08-11","2041-08-12","2041-08-13","2041-08-14","2041-08-15","2041-08-16","2041-08-17","2041-08-18","2041-08-19","2041-08-20","2041-08-21",{"$f":"JAU4+1","v":"2041-08-22"},"2041-08-23","2041-08-24","2041-08-25","2041-08-26","2041-08-27","2041-08-28","2041-08-29","2041-08-30","2041-08-31","2041-09-01","2041-09-02","2041-09-03","2041-09-04","2041-09-05","2041-09-06","2041-09-07","2041-09-08","2041-09-09","2041-09-10","2041-09-11","2041-09-12","2041-09-13","2041-09-14","2041-09-15","2041-09-16","2041-09-17","2041-09-18","2041-09-19","2041-09-20","2041-09-21","2041-09-22","2041-09-23","2041-09-24","2041-09-25","2041-09-26","2041-09-27","2041-09-28","2041-09-29","2041-09-30","2041-10-01","2041-10-02","2041-10-03","2041-10-04","2041-10-05","2041-10-06","2041-10-07","2041-10-08","2041-10-09","2041-10-10","2041-10-11","2041-10-12","2041-10-13","2041-10-14","2041-10-15","2041-10-16","2041-10-17","2041-10-18","2041-10-19","2041-10-20","2041-10-21","2041-10-22","2041-10-23","2041-10-24",{"$f":"JDG4+1","v":"2041-10-25"},"2041-10-26","2041-10-27","2041-10-28","2041-10-29","2041-10-30","2041-10-31","2041-11-01","2041-11-02","2041-11-03","2041-11-04","2041-11-05","2041-11-06","2041-11-07","2041-11-08","2041-11-09","2041-11-10","2041-11-11","2041-11-12","2041-11-13","2041-11-14","2041-11-15","2041-11-16","2041-11-17","2041-11-18","2041-11-19","2041-11-20","2041-11-21","2041-11-22","2041-11-23","2041-11-24","2041-11-25","2041-11-26","2041-11-27","2041-11-28","2041-11-29","2041-11-30","2041-12-01","2041-12-02","2041-12-03","2041-12-04","2041-12-05","2041-12-06","2041-12-07","2041-12-08","2041-12-09","2041-12-10","2041-12-11","2041-12-12","2041-12-13","2041-12-14","2041-12-15","2041-12-16","2041-12-17","2041-12-18","2041-12-19","2041-12-20","2041-12-21","2041-12-22","2041-12-23","2041-12-24","2041-12-25","2041-12-26","2041-12-27",{"$f":"JFS4+1","v":"2041-12-28"},"2041-12-29","2041-12-30","2041-12-31","2042-01-01","2042-01-02","2042-01-03","2042-01-04","2042-01-05","2042-01-06","2042-01-07","2042-01-08","2042-01-09","2042-01-10","2042-01-11","2042-01-12","2042-01-13","2042-01-14","2042-01-15","2042-01-16","2042-01-17","2042-01-18","2042-01-19","2042-01-20","2042-01-21","2042-01-22","2042-01-23","2042-01-24","2042-01-25","2042-01-26","2042-01-27","2042-01-28","2042-01-29","2042-01-30","2042-01-31","2042-02-01","2042-02-02","2042-02-03","2042-02-04","2042-02-05","2042-02-06","2042-02-07","2042-02-08","2042-02-09","2042-02-10","2042-02-11","2042-02-12","2042-02-13","2042-02-14","2042-02-15","2042-02-16","2042-02-17","2042-02-18","2042-02-19","2042-02-20","2042-02-21","2042-02-22","2042-02-23","2042-02-24","2042-02-25","2042-02-26","2042-02-27","2042-02-28","2042-03-01",{"$f":"JIE4+1","v":"2042-03-02"},"2042-03-03","2042-03-04","2042-03-05","2042-03-06","2042-03-07","2042-03-08","2042-03-09","2042-03-10","2042-03-11","2042-03-12","2042-03-13","2042-03-14","2042-03-15","2042-03-16","2042-03-17","2042-03-18","2042-03-19","2042-03-20","2042-03-21","2042-03-22","2042-03-23","2042-03-24","2042-03-25","2042-03-26","2042-03-27","2042-03-28","2042-03-29","2042-03-30","2042-03-31","2042-04-01","2042-04-02","2042-04-03","2042-04-04","2042-04-05","2042-04-06","2042-04-07","2042-04-08","2042-04-09","2042-04-10","2042-04-11","2042-04-12","2042-04-13","2042-04-14","2042-04-15","2042-04-16","2042-04-17","2042-04-18","2042-04-19","2042-04-20","2042-04-21","2042-04-22","2042-04-23","2042-04-24","2042-04-25","2042-04-26","2042-04-27","2042-04-28","2042-04-29","2042-04-30","2042-05-01","2042-05-02","2042-05-03","2042-05-04",{"$f":"JKQ4+1","v":"2042-05-05"},"2042-05-06","2042-05-07","2042-05-08","2042-05-09","2042-05-10","2042-05-11","2042-05-12","2042-05-13","2042-05-14","2042-05-15","2042-05-16","2042-05-17","2042-05-18","2042-05-19","2042-05-20","2042-05-21","2042-05-22","2042-05-23","2042-05-24","2042-05-25","2042-05-26","2042-05-27","2042-05-28","2042-05-29","2042-05-30","2042-05-31","2042-06-01","2042-06-02","2042-06-03","2042-06-04","2042-06-05","2042-06-06","2042-06-07","2042-06-08","2042-06-09","2042-06-10","2042-06-11","2042-06-12","2042-06-13","2042-06-14","2042-06-15","2042-06-16","2042-06-17","2042-06-18","2042-06-19","2042-06-20","2042-06-21","2042-06-22","2042-06-23","2042-06-24","2042-06-25","2042-06-26","2042-06-27","2042-06-28","2042-06-29","2042-06-30","2042-07-01","2042-07-02","2042-07-03","2042-07-04","2042-07-05","2042-07-06","2042-07-07",{"$f":"JNC4+1","v":"2042-07-08"},"2042-07-09","2042-07-10","2042-07-11","2042-07-12","2042-07-13","2042-07-14","2042-07-15","2042-07-16","2042-07-17","2042-07-18","2042-07-19","2042-07-20","2042-07-21","2042-07-22","2042-07-23","2042-07-24","2042-07-25","2042-07-26","2042-07-27","2042-07-28","2042-07-29","2042-07-30","2042-07-31","2042-08-01","2042-08-02","2042-08-03","2042-08-04","2042-08-05","2042-08-06","2042-08-07","2042-08-08","2042-08-09","2042-08-10","2042-08-11","2042-08-12","2042-08-13","2042-08-14","2042-08-15","2042-08-16","2042-08-17","2042-08-18","2042-08-19","2042-08-20","2042-08-21","2042-08-22","2042-08-23","2042-08-24","2042-08-25","2042-08-26","2042-08-27","2042-08-28","2042-08-29","2042-08-30","2042-08-31","2042-09-01","2042-09-02","2042-09-03","2042-09-04","2042-09-05","2042-09-06","2042-09-07","2042-09-08","2042-09-09",{"$f":"JPO4+1","v":"2042-09-10"},"2042-09-11","2042-09-12","2042-09-13","2042-09-14","2042-09-15","2042-09-16","2042-09-17","2042-09-18","2042-09-19","2042-09-20","2042-09-21","2042-09-22","2042-09-23","2042-09-24","2042-09-25","2042-09-26","2042-09-27","2042-09-28","2042-09-29","2042-09-30","2042-10-01","2042-10-02","2042-10-03","2042-10-04","2042-10-05","2042-10-06","2042-10-07","2042-10-08","2042-10-09","2042-10-10","2042-10-11","2042-10-12","2042-10-13","2042-10-14","2042-10-15","2042-10-16","2042-10-17","2042-10-18","2042-10-19","2042-10-20","2042-10-21","2042-10-22","2042-10-23","2042-10-24","2042-10-25","2042-10-26","2042-10-27","2042-10-28","2042-10-29","2042-10-30","2042-10-31","2042-11-01","2042-11-02","2042-11-03","2042-11-04","2042-11-05","2042-11-06","2042-11-07","2042-11-08","2042-11-09","2042-11-10","2042-11-11","2042-11-12",{"$f":"JSA4+1","v":"2042-11-13"},"2042-11-14","2042-11-15","2042-11-16","2042-11-17","2042-11-18","2042-11-19","2042-11-20","2042-11-21","2042-11-22","2042-11-23","2042-11-24","2042-11-25","2042-11-26","2042-11-27","2042-11-28","2042-11-29","2042-11-30","2042-12-01","2042-12-02","2042-12-03","2042-12-04","2042-12-05","2042-12-06","2042-12-07","2042-12-08","2042-12-09","2042-12-10","2042-12-11","2042-12-12","2042-12-13","2042-12-14","2042-12-15","2042-12-16","2042-12-17","2042-12-18","2042-12-19","2042-12-20","2042-12-21","2042-12-22","2042-12-23","2042-12-24","2042-12-25","2042-12-26","2042-12-27","2042-12-28","2042-12-29","2042-12-30","2042-12-31","2043-01-01","2043-01-02","2043-01-03","2043-01-04","2043-01-05","2043-01-06","2043-01-07","2043-01-08","2043-01-09","2043-01-10","2043-01-11","2043-01-12","2043-01-13","2043-01-14","2043-01-15",{"$f":"JUM4+1","v":"2043-01-16"},"2043-01-17","2043-01-18","2043-01-19","2043-01-20","2043-01-21","2043-01-22","2043-01-23","2043-01-24","2043-01-25","2043-01-26","2043-01-27","2043-01-28","2043-01-29","2043-01-30","2043-01-31","2043-02-01","2043-02-02","2043-02-03","2043-02-04","2043-02-05","2043-02-06","2043-02-07","2043-02-08","2043-02-09","2043-02-10","2043-02-11","2043-02-12","2043-02-13","2043-02-14","2043-02-15","2043-02-16","2043-02-17","2043-02-18","2043-02-19","2043-02-20","2043-02-21","2043-02-22","2043-02-23","2043-02-24","2043-02-25","2043-02-26","2043-02-27","2043-02-28","2043-03-01","2043-03-02","2043-03-03","2043-03-04","2043-03-05","2043-03-06","2043-03-07","2043-03-08","2043-03-09","2043-03-10","2043-03-11","2043-03-12","2043-03-13","2043-03-14","2043-03-15","2043-03-16","2043-03-17","2043-03-18","2043-03-19","2043-03-20",{"$f":"JWY4+1","v":"2043-03-21"},"2043-03-22","2043-03-23","2043-03-24","2043-03-25","2043-03-26","2043-03-27","2043-03-28","2043-03-29","2043-03-30","2043-03-31","2043-04-01","2043-04-02","2043-04-03","2043-04-04","2043-04-05","2043-04-06","2043-04-07","2043-04-08","2043-04-09","2043-04-10","2043-04-11","2043-04-12","2043-04-13","2043-04-14","2043-04-15","2043-04-16","2043-04-17","2043-04-18","2043-04-19","2043-04-20","2043-04-21","2043-04-22","2043-04-23","2043-04-24","2043-04-25","2043-04-26","2043-04-27","2043-04-28","2043-04-29","2043-04-30","2043-05-01","2043-05-02","2043-05-03","2043-05-04","2043-05-05","2043-05-06","2043-05-07","2043-05-08","2043-05-09","2043-05-10","2043-05-11","2043-05-12","2043-05-13","2043-05-14","2043-05-15","2043-05-16","2043-05-17","2043-05-18","2043-05-19","2043-05-20","2043-05-21","2043-05-22","2043-05-23",{"$f":"JZK4+1","v":"2043-05-24"},"2043-05-25","2043-05-26","2043-05-27","2043-05-28","2043-05-29","2043-05-30","2043-05-31","2043-06-01","2043-06-02","2043-06-03","2043-06-04","2043-06-05","2043-06-06","2043-06-07","2043-06-08","2043-06-09","2043-06-10","2043-06-11","2043-06-12","2043-06-13","2043-06-14","2043-06-15","2043-06-16","2043-06-17","2043-06-18","2043-06-19","2043-06-20","2043-06-21","2043-06-22","2043-06-23","2043-06-24","2043-06-25","2043-06-26","2043-06-27","2043-06-28","2043-06-29","2043-06-30","2043-07-01","2043-07-02","2043-07-03","2043-07-04","2043-07-05","2043-07-06","2043-07-07","2043-07-08","2043-07-09","2043-07-10","2043-07-11","2043-07-12","2043-07-13","2043-07-14","2043-07-15","2043-07-16","2043-07-17","2043-07-18","2043-07-19","2043-07-20","2043-07-21","2043-07-22","2043-07-23","2043-07-24","2043-07-25","2043-07-26",{"$f":"KBW4+1","v":"2043-07-27"},"2043-07-28","2043-07-29","2043-07-30","2043-07-31","2043-08-01","2043-08-02","2043-08-03","2043-08-04","2043-08-05","2043-08-06","2043-08-07","2043-08-08","2043-08-09","2043-08-10","2043-08-11","2043-08-12","2043-08-13","2043-08-14","2043-08-15","2043-08-16","2043-08-17","2043-08-18","2043-08-19","2043-08-20","2043-08-21","2043-08-22","2043-08-23","2043-08-24","2043-08-25","2043-08-26","2043-08-27","2043-08-28","2043-08-29","2043-08-30","2043-08-31","2043-09-01","2043-09-02","2043-09-03","2043-09-04","2043-09-05","2043-09-06","2043-09-07","2043-09-08","2043-09-09","2043-09-10","2043-09-11","2043-09-12","2043-09-13","2043-09-14","2043-09-15","2043-09-16","2043-09-17","2043-09-18","2043-09-19","2043-09-20","2043-09-21","2043-09-22","2043-09-23","2043-09-24","2043-09-25","2043-09-26","2043-09-27","2043-09-28",{"$f":"KEI4+1","v":"2043-09-29"},"2043-09-30","2043-10-01","2043-10-02","2043-10-03","2043-10-04","2043-10-05","2043-10-06","2043-10-07","2043-10-08","2043-10-09","2043-10-10","2043-10-11","2043-10-12","2043-10-13","2043-10-14","2043-10-15","2043-10-16","2043-10-17","2043-10-18","2043-10-19","2043-10-20","2043-10-21","2043-10-22","2043-10-23","2043-10-24","2043-10-25","2043-10-26","2043-10-27","2043-10-28","2043-10-29","2043-10-30","2043-10-31","2043-11-01","2043-11-02","2043-11-03","2043-11-04","2043-11-05","2043-11-06","2043-11-07","2043-11-08","2043-11-09","2043-11-10","2043-11-11","2043-11-12","2043-11-13","2043-11-14","2043-11-15","2043-11-16","2043-11-17","2043-11-18","2043-11-19","2043-11-20","2043-11-21","2043-11-22","2043-11-23","2043-11-24","2043-11-25","2043-11-26","2043-11-27","2043-11-28","2043-11-29","2043-11-30","2043-12-01",{"$f":"KGU4+1","v":"2043-12-02"},"2043-12-03","2043-12-04","2043-12-05","2043-12-06","2043-12-07","2043-12-08","2043-12-09","2043-12-10","2043-12-11","2043-12-12","2043-12-13","2043-12-14","2043-12-15","2043-12-16","2043-12-17","2043-12-18","2043-12-19","2043-12-20","2043-12-21","2043-12-22","2043-12-23","2043-12-24","2043-12-25","2043-12-26","2043-12-27","2043-12-28","2043-12-29","2043-12-30","2043-12-31","2044-01-01","2044-01-02","2044-01-03","2044-01-04","2044-01-05","2044-01-06","2044-01-07","2044-01-08","2044-01-09","2044-01-10","2044-01-11","2044-01-12","2044-01-13","2044-01-14","2044-01-15","2044-01-16","2044-01-17","2044-01-18","2044-01-19","2044-01-20","2044-01-21","2044-01-22","2044-01-23","2044-01-24","2044-01-25","2044-01-26","2044-01-27","2044-01-28","2044-01-29","2044-01-30","2044-01-31","2044-02-01","2044-02-02","2044-02-03",{"$f":"KJG4+1","v":"2044-02-04"},"2044-02-05","2044-02-06","2044-02-07","2044-02-08","2044-02-09","2044-02-10","2044-02-11","2044-02-12","2044-02-13","2044-02-14","2044-02-15","2044-02-16","2044-02-17","2044-02-18","2044-02-19","2044-02-20","2044-02-21","2044-02-22","2044-02-23","2044-02-24","2044-02-25","2044-02-26","2044-02-27","2044-02-28","2044-02-29","2044-03-01","2044-03-02","2044-03-03","2044-03-04","2044-03-05","2044-03-06","2044-03-07","2044-03-08","2044-03-09","2044-03-10","2044-03-11","2044-03-12","2044-03-13","2044-03-14","2044-03-15","2044-03-16","2044-03-17","2044-03-18","2044-03-19","2044-03-20","2044-03-21","2044-03-22","2044-03-23","2044-03-24","2044-03-25","2044-03-26","2044-03-27","2044-03-28","2044-03-29","2044-03-30","2044-03-31","2044-04-01","2044-04-02","2044-04-03","2044-04-04","2044-04-05","2044-04-06","2044-04-07",{"$f":"KLS4+1","v":"2044-04-08"},"2044-04-09","2044-04-10","2044-04-11","2044-04-12","2044-04-13","2044-04-14","2044-04-15","2044-04-16","2044-04-17","2044-04-18","2044-04-19","2044-04-20","2044-04-21","2044-04-22","2044-04-23","2044-04-24","2044-04-25","2044-04-26","2044-04-27","2044-04-28","2044-04-29","2044-04-30","2044-05-01","2044-05-02","2044-05-03","2044-05-04","2044-05-05","2044-05-06","2044-05-07","2044-05-08","2044-05-09","2044-05-10","2044-05-11","2044-05-12","2044-05-13","2044-05-14","2044-05-15","2044-05-16","2044-05-17","2044-05-18","2044-05-19","2044-05-20","2044-05-21","2044-05-22","2044-05-23","2044-05-24","2044-05-25","2044-05-26","2044-05-27","2044-05-28","2044-05-29","2044-05-30","2044-05-31","2044-06-01","2044-06-02","2044-06-03","2044-06-04","2044-06-05","2044-06-06","2044-06-07","2044-06-08","2044-06-09","2044-06-10",{"$f":"KOE4+1","v":"2044-06-11"},"2044-06-12","2044-06-13","2044-06-14","2044-06-15","2044-06-16","2044-06-17","2044-06-18","2044-06-19","2044-06-20","2044-06-21","2044-06-22","2044-06-23","2044-06-24","2044-06-25","2044-06-26","2044-06-27","2044-06-28","2044-06-29","2044-06-30","2044-07-01","2044-07-02","2044-07-03","2044-07-04","2044-07-05","2044-07-06","2044-07-07","2044-07-08","2044-07-09","2044-07-10","2044-07-11","2044-07-12","2044-07-13","2044-07-14","2044-07-15","2044-07-16","2044-07-17","2044-07-18","2044-07-19","2044-07-20","2044-07-21","2044-07-22","2044-07-23","2044-07-24","2044-07-25","2044-07-26","2044-07-27","2044-07-28","2044-07-29","2044-07-30","2044-07-31","2044-08-01","2044-08-02","2044-08-03","2044-08-04","2044-08-05","2044-08-06","2044-08-07","2044-08-08","2044-08-09","2044-08-10","2044-08-11","2044-08-12","2044-08-13",{"$f":"KQQ4+1","v":"2044-08-14"},"2044-08-15","2044-08-16","2044-08-17","2044-08-18","2044-08-19","2044-08-20","2044-08-21","2044-08-22","2044-08-23","2044-08-24","2044-08-25","2044-08-26","2044-08-27","2044-08-28","2044-08-29","2044-08-30","2044-08-31","2044-09-01","2044-09-02","2044-09-03","2044-09-04","2044-09-05","2044-09-06","2044-09-07","2044-09-08","2044-09-09","2044-09-10","2044-09-11","2044-09-12","2044-09-13","2044-09-14","2044-09-15","2044-09-16","2044-09-17","2044-09-18","2044-09-19","2044-09-20","2044-09-21","2044-09-22","2044-09-23","2044-09-24","2044-09-25","2044-09-26","2044-09-27","2044-09-28","2044-09-29","2044-09-30","2044-10-01","2044-10-02","2044-10-03","2044-10-04","2044-10-05","2044-10-06","2044-10-07","2044-10-08","2044-10-09","2044-10-10","2044-10-11","2044-10-12","2044-10-13","2044-10-14","2044-10-15","2044-10-16",{"$f":"KTC4+1","v":"2044-10-17"},"2044-10-18","2044-10-19","2044-10-20","2044-10-21","2044-10-22","2044-10-23","2044-10-24","2044-10-25","2044-10-26","2044-10-27","2044-10-28","2044-10-29","2044-10-30","2044-10-31","2044-11-01","2044-11-02","2044-11-03","2044-11-04","2044-11-05","2044-11-06","2044-11-07","2044-11-08","2044-11-09","2044-11-10","2044-11-11","2044-11-12","2044-11-13","2044-11-14","2044-11-15","2044-11-16","2044-11-17","2044-11-18","2044-11-19","2044-11-20","2044-11-21","2044-11-22","2044-11-23","2044-11-24","2044-11-25","2044-11-26","2044-11-27","2044-11-28","2044-11-29","2044-11-30","2044-12-01","2044-12-02","2044-12-03","2044-12-04","2044-12-05","2044-12-06","2044-12-07","2044-12-08","2044-12-09","2044-12-10","2044-12-11","2044-12-12","2044-12-13","2044-12-14","2044-12-15","2044-12-16","2044-12-17","2044-12-18","2044-12-19",{"$f":"KVO4+1","v":"2044-12-20"},"2044-12-21","2044-12-22","2044-12-23","2044-12-24","2044-12-25","2044-12-26","2044-12-27","2044-12-28","2044-12-29","2044-12-30","2044-12-31","2045-01-01","2045-01-02","2045-01-03","2045-01-04","2045-01-05","2045-01-06","2045-01-07","2045-01-08","2045-01-09","2045-01-10","2045-01-11","2045-01-12","2045-01-13","2045-01-14","2045-01-15","2045-01-16","2045-01-17","2045-01-18","2045-01-19","2045-01-20","2045-01-21","2045-01-22","2045-01-23","2045-01-24","2045-01-25","2045-01-26","2045-01-27","2045-01-28","2045-01-29","2045-01-30","2045-01-31","2045-02-01","2045-02-02","2045-02-03","2045-02-04","2045-02-05","2045-02-06","2045-02-07","2045-02-08","2045-02-09","2045-02-10","2045-02-11","2045-02-12","2045-02-13","2045-02-14","2045-02-15","2045-02-16","2045-02-17","2045-02-18","2045-02-19","2045-02-20","2045-02-21",{"$f":"KYA4+1","v":"2045-02-22"},"2045-02-23","2045-02-24","2045-02-25","2045-02-26","2045-02-27","2045-02-28","2045-03-01","2045-03-02","2045-03-03","2045-03-04","2045-03-05","2045-03-06","2045-03-07","2045-03-08","2045-03-09","2045-03-10","2045-03-11","2045-03-12","2045-03-13","2045-03-14","2045-03-15","2045-03-16","2045-03-17","2045-03-18","2045-03-19","2045-03-20","2045-03-21","2045-03-22","2045-03-23","2045-03-24","2045-03-25","2045-03-26","2045-03-27","2045-03-28","2045-03-29","2045-03-30","2045-03-31","2045-04-01","2045-04-02","2045-04-03","2045-04-04","2045-04-05","2045-04-06","2045-04-07","2045-04-08","2045-04-09","2045-04-10","2045-04-11","2045-04-12","2045-04-13","2045-04-14","2045-04-15","2045-04-16","2045-04-17","2045-04-18","2045-04-19","2045-04-20","2045-04-21","2045-04-22","2045-04-23","2045-04-24","2045-04-25","2045-04-26",{"$f":"LAM4+1","v":"2045-04-27"},"2045-04-28","2045-04-29","2045-04-30","2045-05-01","2045-05-02","2045-05-03","2045-05-04","2045-05-05","2045-05-06","2045-05-07","2045-05-08","2045-05-09","2045-05-10","2045-05-11","2045-05-12","2045-05-13","2045-05-14","2045-05-15","2045-05-16","2045-05-17","2045-05-18","2045-05-19","2045-05-20","2045-05-21","2045-05-22","2045-05-23","2045-05-24","2045-05-25","2045-05-26","2045-05-27","2045-05-28","2045-05-29","2045-05-30","2045-05-31","2045-06-01","2045-06-02","2045-06-03","2045-06-04","2045-06-05","2045-06-06","2045-06-07","2045-06-08","2045-06-09","2045-06-10","2045-06-11","2045-06-12","2045-06-13","2045-06-14","2045-06-15","2045-06-16","2045-06-17","2045-06-18","2045-06-19","2045-06-20","2045-06-21","2045-06-22","2045-06-23","2045-06-24","2045-06-25","2045-06-26","2045-06-27","2045-06-28","2045-06-29",{"$f":"LCY4+1","v":"2045-06-30"},"2045-07-01","2045-07-02","2045-07-03","2045-07-04","2045-07-05","2045-07-06","2045-07-07","2045-07-08","2045-07-09","2045-07-10","2045-07-11","2045-07-12","2045-07-13","2045-07-14","2045-07-15","2045-07-16","2045-07-17","2045-07-18","2045-07-19","2045-07-20","2045-07-21","2045-07-22","2045-07-23","2045-07-24","2045-07-25","2045-07-26","2045-07-27","2045-07-28","2045-07-29","2045-07-30","2045-07-31","2045-08-01","2045-08-02","2045-08-03","2045-08-04","2045-08-05","2045-08-06","2045-08-07","2045-08-08","2045-08-09","2045-08-10","2045-08-11","2045-08-12","2045-08-13","2045-08-14","2045-08-15","2045-08-16","2045-08-17","2045-08-18","2045-08-19","2045-08-20","2045-08-21","2045-08-22","2045-08-23","2045-08-24","2045-08-25","2045-08-26","2045-08-27","2045-08-28","2045-08-29","2045-08-30","2045-08-31","2045-09-01",{"$f":"LFK4+1","v":"2045-09-02"},"2045-09-03","2045-09-04","2045-09-05","2045-09-06","2045-09-07","2045-09-08","2045-09-09","2045-09-10","2045-09-11","2045-09-12","2045-09-13","2045-09-14","2045-09-15","2045-09-16","2045-09-17","2045-09-18","2045-09-19","2045-09-20","2045-09-21","2045-09-22","2045-09-23","2045-09-24","2045-09-25","2045-09-26","2045-09-27","2045-09-28","2045-09-29","2045-09-30","2045-10-01","2045-10-02","2045-10-03","2045-10-04","2045-10-05","2045-10-06","2045-10-07","2045-10-08","2045-10-09","2045-10-10","2045-10-11","2045-10-12","2045-10-13","2045-10-14","2045-10-15","2045-10-16","2045-10-17","2045-10-18","2045-10-19","2045-10-20","2045-10-21","2045-10-22","2045-10-23","2045-10-24","2045-10-25","2045-10-26","2045-10-27","2045-10-28","2045-10-29","2045-10-30","2045-10-31","2045-11-01","2045-11-02","2045-11-03","2045-11-04",{"$f":"LHW4+1","v":"2045-11-05"},"2045-11-06","2045-11-07","2045-11-08","2045-11-09","2045-11-10","2045-11-11","2045-11-12","2045-11-13","2045-11-14","2045-11-15","2045-11-16","2045-11-17","2045-11-18","2045-11-19","2045-11-20","2045-11-21","2045-11-22","2045-11-23","2045-11-24","2045-11-25","2045-11-26","2045-11-27","2045-11-28","2045-11-29","2045-11-30","2045-12-01","2045-12-02","2045-12-03","2045-12-04","2045-12-05","2045-12-06","2045-12-07","2045-12-08","2045-12-09","2045-12-10","2045-12-11","2045-12-12","2045-12-13","2045-12-14","2045-12-15","2045-12-16","2045-12-17","2045-12-18","2045-12-19","2045-12-20","2045-12-21","2045-12-22","2045-12-23","2045-12-24","2045-12-25","2045-12-26","2045-12-27","2045-12-28","2045-12-29","2045-12-30","2045-12-31","2046-01-01","2046-01-02","2046-01-03","2046-01-04","2046-01-05","2046-01-06","2046-01-07",{"$f":"LKI4+1","v":"2046-01-08"},"2046-01-09","2046-01-10","2046-01-11","2046-01-12","2046-01-13","2046-01-14","2046-01-15","2046-01-16","2046-01-17","2046-01-18","2046-01-19","2046-01-20","2046-01-21","2046-01-22","2046-01-23","2046-01-24","2046-01-25","2046-01-26","2046-01-27","2046-01-28","2046-01-29","2046-01-30","2046-01-31","2046-02-01","2046-02-02","2046-02-03","2046-02-04","2046-02-05","2046-02-06","2046-02-07","2046-02-08","2046-02-09","2046-02-10","2046-02-11","2046-02-12","2046-02-13","2046-02-14","2046-02-15","2046-02-16","2046-02-17","2046-02-18","2046-02-19","2046-02-20","2046-02-21","2046-02-22","2046-02-23","2046-02-24","2046-02-25","2046-02-26","2046-02-27","2046-02-28","2046-03-01","2046-03-02","2046-03-03","2046-03-04","2046-03-05","2046-03-06","2046-03-07","2046-03-08","2046-03-09","2046-03-10","2046-03-11","2046-03-12",{"$f":"LMU4+1","v":"2046-03-13"},"2046-03-14","2046-03-15","2046-03-16","2046-03-17","2046-03-18","2046-03-19","2046-03-20","2046-03-21","2046-03-22","2046-03-23","2046-03-24","2046-03-25","2046-03-26","2046-03-27","2046-03-28","2046-03-29","2046-03-30","2046-03-31","2046-04-01","2046-04-02","2046-04-03","2046-04-04","2046-04-05","2046-04-06","2046-04-07","2046-04-08","2046-04-09","2046-04-10","2046-04-11","2046-04-12","2046-04-13","2046-04-14","2046-04-15","2046-04-16","2046-04-17","2046-04-18","2046-04-19","2046-04-20","2046-04-21","2046-04-22","2046-04-23","2046-04-24","2046-04-25","2046-04-26","2046-04-27","2046-04-28","2046-04-29","2046-04-30","2046-05-01","2046-05-02","2046-05-03","2046-05-04","2046-05-05","2046-05-06","2046-05-07","2046-05-08","2046-05-09","2046-05-10","2046-05-11","2046-05-12","2046-05-13","2046-05-14","2046-05-15",{"$f":"LPG4+1","v":"2046-05-16"},"2046-05-17","2046-05-18","2046-05-19","2046-05-20","2046-05-21","2046-05-22","2046-05-23","2046-05-24","2046-05-25","2046-05-26","2046-05-27","2046-05-28","2046-05-29","2046-05-30","2046-05-31","2046-06-01","2046-06-02","2046-06-03","2046-06-04","2046-06-05","2046-06-06","2046-06-07","2046-06-08","2046-06-09","2046-06-10","2046-06-11","2046-06-12","2046-06-13","2046-06-14","2046-06-15","2046-06-16","2046-06-17","2046-06-18","2046-06-19","2046-06-20","2046-06-21","2046-06-22","2046-06-23","2046-06-24","2046-06-25","2046-06-26","2046-06-27","2046-06-28","2046-06-29","2046-06-30","2046-07-01","2046-07-02","2046-07-03","2046-07-04","2046-07-05","2046-07-06","2046-07-07","2046-07-08","2046-07-09","2046-07-10","2046-07-11","2046-07-12","2046-07-13","2046-07-14","2046-07-15","2046-07-16","2046-07-17","2046-07-18",{"$f":"LRS4+1","v":"2046-07-19"},"2046-07-20","2046-07-21","2046-07-22","2046-07-23","2046-07-24","2046-07-25","2046-07-26","2046-07-27","2046-07-28","2046-07-29","2046-07-30","2046-07-31","2046-08-01","2046-08-02","2046-08-03","2046-08-04","2046-08-05","2046-08-06","2046-08-07","2046-08-08","2046-08-09","2046-08-10","2046-08-11","2046-08-12","2046-08-13","2046-08-14","2046-08-15","2046-08-16","2046-08-17","2046-08-18","2046-08-19","2046-08-20","2046-08-21","2046-08-22","2046-08-23","2046-08-24","2046-08-25","2046-08-26","2046-08-27","2046-08-28","2046-08-29","2046-08-30","2046-08-31","2046-09-01","2046-09-02","2046-09-03","2046-09-04","2046-09-05","2046-09-06","2046-09-07","2046-09-08","2046-09-09","2046-09-10","2046-09-11","2046-09-12","2046-09-13","2046-09-14","2046-09-15","2046-09-16","2046-09-17","2046-09-18","2046-09-19","2046-09-20",{"$f":"LUE4+1","v":"2046-09-21"},"2046-09-22","2046-09-23","2046-09-24","2046-09-25","2046-09-26","2046-09-27","2046-09-28","2046-09-29","2046-09-30","2046-10-01","2046-10-02","2046-10-03","2046-10-04","2046-10-05","2046-10-06","2046-10-07","2046-10-08","2046-10-09","2046-10-10","2046-10-11","2046-10-12","2046-10-13","2046-10-14","2046-10-15","2046-10-16","2046-10-17","2046-10-18","2046-10-19","2046-10-20","2046-10-21","2046-10-22","2046-10-23","2046-10-24","2046-10-25","2046-10-26","2046-10-27","2046-10-28","2046-10-29","2046-10-30","2046-10-31","2046-11-01","2046-11-02","2046-11-03","2046-11-04","2046-11-05","2046-11-06","2046-11-07","2046-11-08","2046-11-09","2046-11-10","2046-11-11","2046-11-12","2046-11-13","2046-11-14","2046-11-15","2046-11-16","2046-11-17","2046-11-18","2046-11-19","2046-11-20","2046-11-21","2046-11-22","2046-11-23",{"$f":"LWQ4+1","v":"2046-11-24"},"2046-11-25","2046-11-26","2046-11-27","2046-11-28","2046-11-29","2046-11-30","2046-12-01","2046-12-02","2046-12-03","2046-12-04","2046-12-05","2046-12-06","2046-12-07","2046-12-08","2046-12-09","2046-12-10","2046-12-11","2046-12-12","2046-12-13","2046-12-14","2046-12-15","2046-12-16","2046-12-17","2046-12-18","2046-12-19","2046-12-20","2046-12-21","2046-12-22","2046-12-23","2046-12-24","2046-12-25","2046-12-26","2046-12-27","2046-12-28","2046-12-29","2046-12-30","2046-12-31","2047-01-01","2047-01-02","2047-01-03","2047-01-04","2047-01-05","2047-01-06","2047-01-07","2047-01-08","2047-01-09","2047-01-10","2047-01-11","2047-01-12","2047-01-13","2047-01-14","2047-01-15","2047-01-16","2047-01-17","2047-01-18","2047-01-19","2047-01-20","2047-01-21","2047-01-22","2047-01-23","2047-01-24","2047-01-25","2047-01-26",{"$f":"LZC4+1","v":"2047-01-27"},"2047-01-28","2047-01-29","2047-01-30","2047-01-31","2047-02-01","2047-02-02","2047-02-03","2047-02-04","2047-02-05","2047-02-06","2047-02-07","2047-02-08","2047-02-09","2047-02-10","2047-02-11","2047-02-12","2047-02-13","2047-02-14","2047-02-15","2047-02-16","2047-02-17","2047-02-18","2047-02-19","2047-02-20","2047-02-21","2047-02-22","2047-02-23","2047-02-24","2047-02-25","2047-02-26","2047-02-27","2047-02-28","2047-03-01","2047-03-02","2047-03-03","2047-03-04","2047-03-05","2047-03-06","2047-03-07","2047-03-08","2047-03-09","2047-03-10","2047-03-11","2047-03-12","2047-03-13","2047-03-14","2047-03-15","2047-03-16","2047-03-17","2047-03-18","2047-03-19","2047-03-20","2047-03-21","2047-03-22","2047-03-23","2047-03-24","2047-03-25","2047-03-26","2047-03-27","2047-03-28","2047-03-29","2047-03-30","2047-03-31",{"$f":"MBO4+1","v":"2047-04-01"},"2047-04-02","2047-04-03","2047-04-04","2047-04-05","2047-04-06","2047-04-07","2047-04-08","2047-04-09","2047-04-10","2047-04-11","2047-04-12","2047-04-13","2047-04-14","2047-04-15","2047-04-16","2047-04-17","2047-04-18","2047-04-19","2047-04-20","2047-04-21","2047-04-22","2047-04-23","2047-04-24","2047-04-25","2047-04-26","2047-04-27","2047-04-28","2047-04-29","2047-04-30","2047-05-01","2047-05-02","2047-05-03","2047-05-04","2047-05-05","2047-05-06","2047-05-07","2047-05-08","2047-05-09","2047-05-10","2047-05-11","2047-05-12","2047-05-13","2047-05-14","2047-05-15","2047-05-16","2047-05-17","2047-05-18","2047-05-19","2047-05-20","2047-05-21","2047-05-22","2047-05-23","2047-05-24","2047-05-25","2047-05-26","2047-05-27","2047-05-28","2047-05-29","2047-05-30","2047-05-31","2047-06-01","2047-06-02","2047-06-03",{"$f":"MEA4+1","v":"2047-06-04"},"2047-06-05","2047-06-06","2047-06-07","2047-06-08","2047-06-09","2047-06-10","2047-06-11","2047-06-12","2047-06-13","2047-06-14","2047-06-15","2047-06-16","2047-06-17","2047-06-18","2047-06-19","2047-06-20","2047-06-21","2047-06-22","2047-06-23","2047-06-24","2047-06-25","2047-06-26","2047-06-27","2047-06-28","2047-06-29","2047-06-30","2047-07-01","2047-07-02","2047-07-03","2047-07-04","2047-07-05","2047-07-06","2047-07-07","2047-07-08","2047-07-09","2047-07-10","2047-07-11","2047-07-12","2047-07-13","2047-07-14","2047-07-15","2047-07-16","2047-07-17","2047-07-18","2047-07-19","2047-07-20","2047-07-21","2047-07-22","2047-07-23","2047-07-24","2047-07-25","2047-07-26","2047-07-27","2047-07-28","2047-07-29","2047-07-30","2047-07-31","2047-08-01","2047-08-02","2047-08-03","2047-08-04","2047-08-05","2047-08-06",{"$f":"MGM4+1","v":"2047-08-07"},"2047-08-08","2047-08-09","2047-08-10","2047-08-11","2047-08-12","2047-08-13","2047-08-14","2047-08-15","2047-08-16","2047-08-17","2047-08-18","2047-08-19","2047-08-20","2047-08-21","2047-08-22","2047-08-23","2047-08-24","2047-08-25","2047-08-26","2047-08-27","2047-08-28","2047-08-29","2047-08-30","2047-08-31","2047-09-01","2047-09-02","2047-09-03","2047-09-04","2047-09-05","2047-09-06","2047-09-07","2047-09-08","2047-09-09","2047-09-10","2047-09-11","2047-09-12","2047-09-13","2047-09-14","2047-09-15","2047-09-16","2047-09-17","2047-09-18","2047-09-19","2047-09-20","2047-09-21","2047-09-22","2047-09-23","2047-09-24","2047-09-25","2047-09-26","2047-09-27","2047-09-28","2047-09-29","2047-09-30","2047-10-01","2047-10-02","2047-10-03","2047-10-04","2047-10-05","2047-10-06","2047-10-07","2047-10-08","2047-10-09",{"$f":"MIY4+1","v":"2047-10-10"},"2047-10-11","2047-10-12","2047-10-13","2047-10-14","2047-10-15","2047-10-16","2047-10-17","2047-10-18","2047-10-19","2047-10-20","2047-10-21","2047-10-22","2047-10-23","2047-10-24","2047-10-25","2047-10-26","2047-10-27","2047-10-28","2047-10-29","2047-10-30","2047-10-31","2047-11-01","2047-11-02","2047-11-03","2047-11-04","2047-11-05","2047-11-06","2047-11-07","2047-11-08","2047-11-09","2047-11-10","2047-11-11","2047-11-12","2047-11-13","2047-11-14","2047-11-15","2047-11-16","2047-11-17","2047-11-18","2047-11-19","2047-11-20","2047-11-21","2047-11-22","2047-11-23","2047-11-24","2047-11-25","2047-11-26","2047-11-27","2047-11-28","2047-11-29","2047-11-30","2047-12-01","2047-12-02","2047-12-03","2047-12-04","2047-12-05","2047-12-06","2047-12-07","2047-12-08","2047-12-09","2047-12-10","2047-12-11","2047-12-12",{"$f":"MLK4+1","v":"2047-12-13"},"2047-12-14","2047-12-15","2047-12-16","2047-12-17","2047-12-18","2047-12-19","2047-12-20","2047-12-21","2047-12-22","2047-12-23","2047-12-24","2047-12-25","2047-12-26","2047-12-27","2047-12-28","2047-12-29","2047-12-30","2047-12-31","2048-01-01","2048-01-02","2048-01-03","2048-01-04","2048-01-05","2048-01-06","2048-01-07","2048-01-08","2048-01-09","2048-01-10","2048-01-11","2048-01-12","2048-01-13","2048-01-14","2048-01-15","2048-01-16","2048-01-17","2048-01-18","2048-01-19","2048-01-20","2048-01-21","2048-01-22","2048-01-23","2048-01-24","2048-01-25","2048-01-26","2048-01-27","2048-01-28","2048-01-29","2048-01-30","2048-01-31","2048-02-01","2048-02-02","2048-02-03","2048-02-04","2048-02-05","2048-02-06","2048-02-07","2048-02-08","2048-02-09","2048-02-10","2048-02-11","2048-02-12","2048-02-13","2048-02-14",{"$f":"MNW4+1","v":"2048-02-15"},"2048-02-16","2048-02-17","2048-02-18","2048-02-19","2048-02-20","2048-02-21","2048-02-22","2048-02-23","2048-02-24","2048-02-25","2048-02-26","2048-02-27","2048-02-28","2048-02-29","2048-03-01","2048-03-02","2048-03-03","2048-03-04","2048-03-05","2048-03-06","2048-03-07","2048-03-08","2048-03-09","2048-03-10","2048-03-11","2048-03-12","2048-03-13","2048-03-14","2048-03-15","2048-03-16","2048-03-17","2048-03-18","2048-03-19","2048-03-20","2048-03-21","2048-03-22","2048-03-23","2048-03-24","2048-03-25","2048-03-26","2048-03-27","2048-03-28","2048-03-29","2048-03-30","2048-03-31","2048-04-01","2048-04-02","2048-04-03","2048-04-04","2048-04-05","2048-04-06","2048-04-07","2048-04-08","2048-04-09","2048-04-10","2048-04-11","2048-04-12","2048-04-13","2048-04-14","2048-04-15","2048-04-16","2048-04-17","2048-04-18",{"$f":"MQI4+1","v":"2048-04-19"},"2048-04-20","2048-04-21","2048-04-22","2048-04-23","2048-04-24","2048-04-25","2048-04-26","2048-04-27","2048-04-28","2048-04-29","2048-04-30","2048-05-01","2048-05-02","2048-05-03","2048-05-04","2048-05-05","2048-05-06","2048-05-07","2048-05-08","2048-05-09","2048-05-10","2048-05-11","2048-05-12","2048-05-13","2048-05-14","2048-05-15","2048-05-16","2048-05-17","2048-05-18","2048-05-19","2048-05-20","2048-05-21","2048-05-22","2048-05-23","2048-05-24","2048-05-25","2048-05-26","2048-05-27","2048-05-28","2048-05-29","2048-05-30","2048-05-31","2048-06-01","2048-06-02","2048-06-03","2048-06-04","2048-06-05","2048-06-06","2048-06-07","2048-06-08","2048-06-09","2048-06-10","2048-06-11","2048-06-12","2048-06-13","2048-06-14","2048-06-15","2048-06-16","2048-06-17","2048-06-18","2048-06-19","2048-06-20","2048-06-21",{"$f":"MSU4+1","v":"2048-06-22"},"2048-06-23","2048-06-24","2048-06-25","2048-06-26","2048-06-27","2048-06-28","2048-06-29","2048-06-30","2048-07-01","2048-07-02","2048-07-03","2048-07-04","2048-07-05","2048-07-06","2048-07-07","2048-07-08","2048-07-09","2048-07-10","2048-07-11","2048-07-12","2048-07-13","2048-07-14","2048-07-15","2048-07-16","2048-07-17","2048-07-18","2048-07-19","2048-07-20","2048-07-21","2048-07-22","2048-07-23","2048-07-24","2048-07-25","2048-07-26","2048-07-27","2048-07-28","2048-07-29","2048-07-30","2048-07-31","2048-08-01","2048-08-02","2048-08-03","2048-08-04","2048-08-05","2048-08-06","2048-08-07","2048-08-08","2048-08-09","2048-08-10","2048-08-11","2048-08-12","2048-08-13","2048-08-14","2048-08-15","2048-08-16","2048-08-17","2048-08-18","2048-08-19","2048-08-20","2048-08-21","2048-08-22","2048-08-23","2048-08-24",{"$f":"MVG4+1","v":"2048-08-25"},"2048-08-26","2048-08-27","2048-08-28","2048-08-29","2048-08-30","2048-08-31","2048-09-01","2048-09-02","2048-09-03","2048-09-04","2048-09-05","2048-09-06","2048-09-07","2048-09-08","2048-09-09","2048-09-10","2048-09-11","2048-09-12","2048-09-13","2048-09-14","2048-09-15","2048-09-16","2048-09-17","2048-09-18","2048-09-19","2048-09-20","2048-09-21","2048-09-22","2048-09-23","2048-09-24","2048-09-25","2048-09-26","2048-09-27","2048-09-28","2048-09-29","2048-09-30","2048-10-01","2048-10-02","2048-10-03","2048-10-04","2048-10-05","2048-10-06","2048-10-07","2048-10-08","2048-10-09","2048-10-10","2048-10-11","2048-10-12","2048-10-13","2048-10-14","2048-10-15","2048-10-16","2048-10-17","2048-10-18","2048-10-19","2048-10-20","2048-10-21","2048-10-22","2048-10-23","2048-10-24","2048-10-25","2048-10-26","2048-10-27",{"$f":"MXS4+1","v":"2048-10-28"},"2048-10-29","2048-10-30","2048-10-31","2048-11-01","2048-11-02","2048-11-03","2048-11-04","2048-11-05","2048-11-06","2048-11-07","2048-11-08","2048-11-09","2048-11-10","2048-11-11","2048-11-12","2048-11-13","2048-11-14","2048-11-15","2048-11-16","2048-11-17","2048-11-18","2048-11-19","2048-11-20","2048-11-21","2048-11-22","2048-11-23","2048-11-24","2048-11-25","2048-11-26","2048-11-27","2048-11-28","2048-11-29","2048-11-30","2048-12-01","2048-12-02","2048-12-03","2048-12-04","2048-12-05","2048-12-06","2048-12-07","2048-12-08","2048-12-09","2048-12-10","2048-12-11","2048-12-12","2048-12-13","2048-12-14","2048-12-15","2048-12-16","2048-12-17","2048-12-18","2048-12-19","2048-12-20","2048-12-21","2048-12-22","2048-12-23","2048-12-24","2048-12-25","2048-12-26","2048-12-27","2048-12-28","2048-12-29","2048-12-30",{"$f":"NAE4+1","v":"2048-12-31"},"2049-01-01","2049-01-02","2049-01-03","2049-01-04","2049-01-05","2049-01-06","2049-01-07","2049-01-08","2049-01-09","2049-01-10","2049-01-11","2049-01-12","2049-01-13","2049-01-14","2049-01-15","2049-01-16","2049-01-17","2049-01-18","2049-01-19","2049-01-20","2049-01-21","2049-01-22","2049-01-23","2049-01-24","2049-01-25","2049-01-26","2049-01-27","2049-01-28","2049-01-29","2049-01-30","2049-01-31","2049-02-01","2049-02-02","2049-02-03","2049-02-04","2049-02-05","2049-02-06","2049-02-07","2049-02-08","2049-02-09","2049-02-10","2049-02-11","2049-02-12","2049-02-13","2049-02-14","2049-02-15","2049-02-16","2049-02-17","2049-02-18","2049-02-19","2049-02-20","2049-02-21","2049-02-22","2049-02-23","2049-02-24","2049-02-25","2049-02-26","2049-02-27","2049-02-28","2049-03-01","2049-03-02","2049-03-03","2049-03-04",{"$f":"NCQ4+1","v":"2049-03-05"},"2049-03-06","2049-03-07","2049-03-08","2049-03-09","2049-03-10","2049-03-11","2049-03-12","2049-03-13","2049-03-14","2049-03-15","2049-03-16","2049-03-17","2049-03-18","2049-03-19","2049-03-20","2049-03-21","2049-03-22","2049-03-23","2049-03-24","2049-03-25","2049-03-26","2049-03-27","2049-03-28","2049-03-29","2049-03-30","2049-03-31","2049-04-01","2049-04-02","2049-04-03","2049-04-04","2049-04-05","2049-04-06","2049-04-07","2049-04-08","2049-04-09","2049-04-10","2049-04-11","2049-04-12","2049-04-13","2049-04-14","2049-04-15","2049-04-16","2049-04-17","2049-04-18","2049-04-19","2049-04-20","2049-04-21","2049-04-22","2049-04-23","2049-04-24","2049-04-25","2049-04-26","2049-04-27","2049-04-28","2049-04-29","2049-04-30","2049-05-01","2049-05-02","2049-05-03","2049-05-04","2049-05-05","2049-05-06","2049-05-07",{"$f":"NFC4+1","v":"2049-05-08"},"2049-05-09","2049-05-10","2049-05-11","2049-05-12","2049-05-13","2049-05-14","2049-05-15","2049-05-16","2049-05-17","2049-05-18","2049-05-19","2049-05-20","2049-05-21","2049-05-22","2049-05-23","2049-05-24","2049-05-25","2049-05-26","2049-05-27","2049-05-28","2049-05-29","2049-05-30","2049-05-31","2049-06-01","2049-06-02","2049-06-03","2049-06-04","2049-06-05","2049-06-06","2049-06-07","2049-06-08","2049-06-09","2049-06-10","2049-06-11","2049-06-12","2049-06-13","2049-06-14","2049-06-15","2049-06-16","2049-06-17","2049-06-18","2049-06-19","2049-06-20","2049-06-21","2049-06-22","2049-06-23","2049-06-24","2049-06-25","2049-06-26","2049-06-27","2049-06-28","2049-06-29","2049-06-30","2049-07-01","2049-07-02","2049-07-03","2049-07-04","2049-07-05","2049-07-06","2049-07-07","2049-07-08","2049-07-09","2049-07-10",{"$f":"NHO4+1","v":"2049-07-11"},"2049-07-12","2049-07-13","2049-07-14","2049-07-15","2049-07-16","2049-07-17","2049-07-18","2049-07-19","2049-07-20","2049-07-21","2049-07-22","2049-07-23","2049-07-24","2049-07-25","2049-07-26","2049-07-27","2049-07-28","2049-07-29","2049-07-30","2049-07-31","2049-08-01","2049-08-02","2049-08-03","2049-08-04","2049-08-05","2049-08-06","2049-08-07","2049-08-08","2049-08-09","2049-08-10","2049-08-11","2049-08-12","2049-08-13","2049-08-14","2049-08-15","2049-08-16","2049-08-17","2049-08-18","2049-08-19","2049-08-20","2049-08-21","2049-08-22","2049-08-23","2049-08-24","2049-08-25","2049-08-26","2049-08-27","2049-08-28","2049-08-29","2049-08-30","2049-08-31","2049-09-01","2049-09-02","2049-09-03","2049-09-04","2049-09-05","2049-09-06","2049-09-07","2049-09-08","2049-09-09","2049-09-10","2049-09-11","2049-09-12",{"$f":"NKA4+1","v":"2049-09-13"},"2049-09-14","2049-09-15","2049-09-16","2049-09-17","2049-09-18","2049-09-19","2049-09-20","2049-09-21","2049-09-22","2049-09-23","2049-09-24","2049-09-25","2049-09-26","2049-09-27","2049-09-28","2049-09-29","2049-09-30","2049-10-01","2049-10-02","2049-10-03","2049-10-04","2049-10-05","2049-10-06","2049-10-07","2049-10-08","2049-10-09","2049-10-10","2049-10-11","2049-10-12","2049-10-13","2049-10-14","2049-10-15","2049-10-16","2049-10-17","2049-10-18","2049-10-19","2049-10-20","2049-10-21","2049-10-22","2049-10-23","2049-10-24","2049-10-25","2049-10-26","2049-10-27","2049-10-28","2049-10-29","2049-10-30","2049-10-31","2049-11-01","2049-11-02","2049-11-03","2049-11-04","2049-11-05","2049-11-06","2049-11-07","2049-11-08","2049-11-09","2049-11-10","2049-11-11","2049-11-12","2049-11-13","2049-11-14","2049-11-15",{"$f":"NMM4+1","v":"2049-11-16"},"2049-11-17","2049-11-18","2049-11-19","2049-11-20","2049-11-21","2049-11-22","2049-11-23","2049-11-24","2049-11-25","2049-11-26","2049-11-27","2049-11-28","2049-11-29","2049-11-30","2049-12-01","2049-12-02","2049-12-03","2049-12-04","2049-12-05","2049-12-06","2049-12-07","2049-12-08","2049-12-09","2049-12-10","2049-12-11","2049-12-12","2049-12-13","2049-12-14","2049-12-15","2049-12-16","2049-12-17","2049-12-18","2049-12-19","2049-12-20","2049-12-21","2049-12-22","2049-12-23","2049-12-24","2049-12-25","2049-12-26","2049-12-27","2049-12-28","2049-12-29","2049-12-30","2049-12-31","2050-01-01","2050-01-02","2050-01-03","2050-01-04","2050-01-05","2050-01-06","2050-01-07","2050-01-08","2050-01-09","2050-01-10","2050-01-11","2050-01-12","2050-01-13","2050-01-14","2050-01-15","2050-01-16","2050-01-17","2050-01-18",{"$f":"NOY4+1","v":"2050-01-19"},"2050-01-20","2050-01-21","2050-01-22","2050-01-23","2050-01-24","2050-01-25","2050-01-26","2050-01-27","2050-01-28","2050-01-29","2050-01-30","2050-01-31","2050-02-01","2050-02-02","2050-02-03","2050-02-04","2050-02-05","2050-02-06","2050-02-07","2050-02-08","2050-02-09","2050-02-10","2050-02-11","2050-02-12","2050-02-13","2050-02-14","2050-02-15","2050-02-16","2050-02-17","2050-02-18","2050-02-19","2050-02-20","2050-02-21","2050-02-22","2050-02-23","2050-02-24","2050-02-25","2050-02-26","2050-02-27","2050-02-28","2050-03-01","2050-03-02","2050-03-03","2050-03-04","2050-03-05","2050-03-06","2050-03-07","2050-03-08","2050-03-09","2050-03-10","2050-03-11","2050-03-12","2050-03-13","2050-03-14","2050-03-15","2050-03-16","2050-03-17","2050-03-18","2050-03-19","2050-03-20","2050-03-21","2050-03-22","2050-03-23",{"$f":"NRK4+1","v":"2050-03-24"},"2050-03-25","2050-03-26","2050-03-27","2050-03-28","2050-03-29","2050-03-30","2050-03-31","2050-04-01","2050-04-02","2050-04-03","2050-04-04","2050-04-05","2050-04-06","2050-04-07","2050-04-08","2050-04-09","2050-04-10","2050-04-11","2050-04-12","2050-04-13","2050-04-14","2050-04-15","2050-04-16","2050-04-17","2050-04-18","2050-04-19","2050-04-20","2050-04-21","2050-04-22","2050-04-23","2050-04-24","2050-04-25","2050-04-26","2050-04-27","2050-04-28","2050-04-29","2050-04-30","2050-05-01","2050-05-02","2050-05-03","2050-05-04","2050-05-05","2050-05-06","2050-05-07","2050-05-08","2050-05-09","2050-05-10","2050-05-11","2050-05-12","2050-05-13","2050-05-14","2050-05-15","2050-05-16","2050-05-17","2050-05-18","2050-05-19","2050-05-20","2050-05-21","2050-05-22","2050-05-23","2050-05-24","2050-05-25","2050-05-26",{"$f":"NTW4+1","v":"2050-05-27"},"2050-05-28","2050-05-29","2050-05-30","2050-05-31","2050-06-01","2050-06-02","2050-06-03","2050-06-04","2050-06-05","2050-06-06","2050-06-07","2050-06-08","2050-06-09","2050-06-10","2050-06-11","2050-06-12","2050-06-13","2050-06-14","2050-06-15","2050-06-16","2050-06-17","2050-06-18","2050-06-19","2050-06-20","2050-06-21","2050-06-22","2050-06-23","2050-06-24","2050-06-25","2050-06-26","2050-06-27","2050-06-28","2050-06-29","2050-06-30","2050-07-01","2050-07-02","2050-07-03","2050-07-04","2050-07-05","2050-07-06","2050-07-07","2050-07-08","2050-07-09","2050-07-10","2050-07-11","2050-07-12","2050-07-13","2050-07-14","2050-07-15","2050-07-16","2050-07-17","2050-07-18","2050-07-19","2050-07-20","2050-07-21","2050-07-22","2050-07-23","2050-07-24","2050-07-25","2050-07-26","2050-07-27","2050-07-28","2050-07-29",{"$f":"NWI4+1","v":"2050-07-30"},"2050-07-31","2050-08-01","2050-08-02","2050-08-03","2050-08-04","2050-08-05","2050-08-06","2050-08-07","2050-08-08","2050-08-09","2050-08-10","2050-08-11","2050-08-12","2050-08-13","2050-08-14","2050-08-15","2050-08-16","2050-08-17","2050-08-18","2050-08-19","2050-08-20","2050-08-21","2050-08-22","2050-08-23","2050-08-24","2050-08-25","2050-08-26","2050-08-27","2050-08-28","2050-08-29","2050-08-30","2050-08-31","2050-09-01","2050-09-02","2050-09-03","2050-09-04","2050-09-05","2050-09-06","2050-09-07","2050-09-08","2050-09-09","2050-09-10","2050-09-11","2050-09-12","2050-09-13","2050-09-14","2050-09-15","2050-09-16","2050-09-17","2050-09-18","2050-09-19","2050-09-20","2050-09-21","2050-09-22","2050-09-23","2050-09-24","2050-09-25","2050-09-26","2050-09-27","2050-09-28","2050-09-29","2050-09-30","2050-10-01",{"$f":"NYU4+1","v":"2050-10-02"},"2050-10-03","2050-10-04","2050-10-05","2050-10-06","2050-10-07","2050-10-08","2050-10-09","2050-10-10","2050-10-11","2050-10-12","2050-10-13","2050-10-14","2050-10-15","2050-10-16","2050-10-17","2050-10-18","2050-10-19","2050-10-20","2050-10-21","2050-10-22","2050-10-23","2050-10-24","2050-10-25","2050-10-26","2050-10-27","2050-10-28","2050-10-29","2050-10-30","2050-10-31","2050-11-01","2050-11-02","2050-11-03","2050-11-04","2050-11-05","2050-11-06","2050-11-07","2050-11-08","2050-11-09","2050-11-10","2050-11-11","2050-11-12","2050-11-13","2050-11-14","2050-11-15","2050-11-16","2050-11-17","2050-11-18","2050-11-19","2050-11-20","2050-11-21","2050-11-22","2050-11-23","2050-11-24","2050-11-25","2050-11-26","2050-11-27","2050-11-28","2050-11-29","2050-11-30","2050-12-01","2050-12-02","2050-12-03","2050-12-04",{"$f":"OBG4+1","v":"2050-12-05"},"2050-12-06","2050-12-07","2050-12-08","2050-12-09","2050-12-10","2050-12-11","2050-12-12","2050-12-13","2050-12-14","2050-12-15","2050-12-16","2050-12-17","2050-12-18","2050-12-19","2050-12-20","2050-12-21","2050-12-22","2050-12-23","2050-12-24","2050-12-25","2050-12-26","2050-12-27","2050-12-28","2050-12-29","2050-12-30","2050-12-31","2051-01-01","2051-01-02","2051-01-03","2051-01-04","2051-01-05","2051-01-06","2051-01-07","2051-01-08","2051-01-09","2051-01-10","2051-01-11","2051-01-12","2051-01-13","2051-01-14","2051-01-15","2051-01-16","2051-01-17","2051-01-18","2051-01-19","2051-01-20","2051-01-21","2051-01-22","2051-01-23","2051-01-24","2051-01-25","2051-01-26","2051-01-27","2051-01-28","2051-01-29","2051-01-30","2051-01-31","2051-02-01","2051-02-02","2051-02-03","2051-02-04","2051-02-05","2051-02-06",{"$f":"ODS4+1","v":"2051-02-07"},"2051-02-08","2051-02-09","2051-02-10","2051-02-11","2051-02-12","2051-02-13","2051-02-14","2051-02-15","2051-02-16","2051-02-17","2051-02-18","2051-02-19","2051-02-20","2051-02-21","2051-02-22","2051-02-23","2051-02-24","2051-02-25","2051-02-26","2051-02-27","2051-02-28","2051-03-01","2051-03-02","2051-03-03","2051-03-04","2051-03-05","2051-03-06","2051-03-07","2051-03-08","2051-03-09","2051-03-10","2051-03-11","2051-03-12","2051-03-13","2051-03-14","2051-03-15","2051-03-16","2051-03-17","2051-03-18","2051-03-19","2051-03-20","2051-03-21","2051-03-22","2051-03-23","2051-03-24","2051-03-25","2051-03-26","2051-03-27","2051-03-28","2051-03-29","2051-03-30","2051-03-31","2051-04-01","2051-04-02","2051-04-03","2051-04-04","2051-04-05","2051-04-06","2051-04-07","2051-04-08","2051-04-09","2051-04-10","2051-04-11",{"$f":"OGE4+1","v":"2051-04-12"},"2051-04-13","2051-04-14","2051-04-15","2051-04-16","2051-04-17","2051-04-18","2051-04-19","2051-04-20","2051-04-21","2051-04-22","2051-04-23","2051-04-24","2051-04-25","2051-04-26","2051-04-27","2051-04-28","2051-04-29","2051-04-30","2051-05-01","2051-05-02","2051-05-03","2051-05-04","2051-05-05","2051-05-06","2051-05-07","2051-05-08","2051-05-09","2051-05-10","2051-05-11","2051-05-12","2051-05-13","2051-05-14","2051-05-15","2051-05-16","2051-05-17","2051-05-18","2051-05-19","2051-05-20","2051-05-21","2051-05-22","2051-05-23","2051-05-24","2051-05-25","2051-05-26","2051-05-27","2051-05-28","2051-05-29","2051-05-30","2051-05-31","2051-06-01","2051-06-02","2051-06-03","2051-06-04","2051-06-05","2051-06-06","2051-06-07","2051-06-08","2051-06-09","2051-06-10","2051-06-11","2051-06-12","2051-06-13","2051-06-14",{"$f":"OIQ4+1","v":"2051-06-15"},"2051-06-16","2051-06-17","2051-06-18","2051-06-19","2051-06-20","2051-06-21","2051-06-22","2051-06-23","2051-06-24","2051-06-25","2051-06-26","2051-06-27","2051-06-28","2051-06-29","2051-06-30","2051-07-01","2051-07-02","2051-07-03","2051-07-04","2051-07-05","2051-07-06","2051-07-07","2051-07-08","2051-07-09","2051-07-10","2051-07-11","2051-07-12","2051-07-13","2051-07-14","2051-07-15","2051-07-16","2051-07-17","2051-07-18","2051-07-19","2051-07-20","2051-07-21","2051-07-22","2051-07-23","2051-07-24","2051-07-25","2051-07-26","2051-07-27","2051-07-28","2051-07-29","2051-07-30","2051-07-31","2051-08-01","2051-08-02","2051-08-03","2051-08-04","2051-08-05","2051-08-06","2051-08-07","2051-08-08","2051-08-09","2051-08-10","2051-08-11","2051-08-12","2051-08-13","2051-08-14","2051-08-15","2051-08-16","2051-08-17",{"$f":"OLC4+1","v":"2051-08-18"},"2051-08-19","2051-08-20","2051-08-21","2051-08-22","2051-08-23","2051-08-24","2051-08-25","2051-08-26","2051-08-27","2051-08-28","2051-08-29","2051-08-30","2051-08-31","2051-09-01","2051-09-02","2051-09-03","2051-09-04","2051-09-05","2051-09-06","2051-09-07","2051-09-08","2051-09-09","2051-09-10","2051-09-11","2051-09-12","2051-09-13","2051-09-14","2051-09-15","2051-09-16","2051-09-17","2051-09-18","2051-09-19","2051-09-20","2051-09-21","2051-09-22","2051-09-23","2051-09-24","2051-09-25","2051-09-26","2051-09-27","2051-09-28","2051-09-29","2051-09-30","2051-10-01","2051-10-02","2051-10-03","2051-10-04","2051-10-05","2051-10-06","2051-10-07","2051-10-08","2051-10-09","2051-10-10","2051-10-11","2051-10-12","2051-10-13","2051-10-14","2051-10-15","2051-10-16","2051-10-17","2051-10-18","2051-10-19","2051-10-20",{"$f":"ONO4+1","v":"2051-10-21"},"2051-10-22","2051-10-23","2051-10-24","2051-10-25","2051-10-26","2051-10-27","2051-10-28","2051-10-29","2051-10-30","2051-10-31","2051-11-01","2051-11-02","2051-11-03","2051-11-04","2051-11-05","2051-11-06","2051-11-07","2051-11-08","2051-11-09","2051-11-10","2051-11-11","2051-11-12","2051-11-13","2051-11-14","2051-11-15","2051-11-16","2051-11-17","2051-11-18","2051-11-19","2051-11-20","2051-11-21","2051-11-22","2051-11-23","2051-11-24","2051-11-25","2051-11-26","2051-11-27","2051-11-28","2051-11-29","2051-11-30","2051-12-01","2051-12-02","2051-12-03","2051-12-04","2051-12-05","2051-12-06","2051-12-07","2051-12-08","2051-12-09","2051-12-10","2051-12-11","2051-12-12","2051-12-13","2051-12-14","2051-12-15","2051-12-16","2051-12-17","2051-12-18","2051-12-19","2051-12-20","2051-12-21","2051-12-22","2051-12-23",{"$f":"OQA4+1","v":"2051-12-24"},"2051-12-25","2051-12-26","2051-12-27","2051-12-28","2051-12-29","2051-12-30","2051-12-31","2052-01-01","2052-01-02","2052-01-03","2052-01-04","2052-01-05","2052-01-06","2052-01-07","2052-01-08","2052-01-09","2052-01-10","2052-01-11","2052-01-12","2052-01-13","2052-01-14","2052-01-15","2052-01-16","2052-01-17","2052-01-18","2052-01-19","2052-01-20","2052-01-21","2052-01-22","2052-01-23","2052-01-24","2052-01-25","2052-01-26","2052-01-27","2052-01-28","2052-01-29","2052-01-30","2052-01-31","2052-02-01","2052-02-02","2052-02-03","2052-02-04","2052-02-05","2052-02-06","2052-02-07","2052-02-08","2052-02-09","2052-02-10","2052-02-11","2052-02-12","2052-02-13","2052-02-14","2052-02-15","2052-02-16","2052-02-17","2052-02-18","2052-02-19","2052-02-20","2052-02-21","2052-02-22","2052-02-23","2052-02-24","2052-02-25",{"$f":"OSM4+1","v":"2052-02-26"},"2052-02-27","2052-02-28","2052-02-29","2052-03-01","2052-03-02","2052-03-03","2052-03-04","2052-03-05","2052-03-06","2052-03-07","2052-03-08","2052-03-09","2052-03-10","2052-03-11","2052-03-12","2052-03-13","2052-03-14","2052-03-15","2052-03-16","2052-03-17","2052-03-18","2052-03-19","2052-03-20","2052-03-21","2052-03-22","2052-03-23","2052-03-24","2052-03-25","2052-03-26","2052-03-27","2052-03-28","2052-03-29","2052-03-30","2052-03-31","2052-04-01","2052-04-02","2052-04-03","2052-04-04","2052-04-05","2052-04-06","2052-04-07","2052-04-08","2052-04-09","2052-04-10","2052-04-11","2052-04-12","2052-04-13","2052-04-14","2052-04-15","2052-04-16","2052-04-17","2052-04-18","2052-04-19","2052-04-20","2052-04-21","2052-04-22","2052-04-23","2052-04-24","2052-04-25","2052-04-26","2052-04-27","2052-04-28","2052-04-29",{"$f":"OUY4+1","v":"2052-04-30"},"2052-05-01","2052-05-02","2052-05-03","2052-05-04","2052-05-05","2052-05-06","2052-05-07","2052-05-08","2052-05-09","2052-05-10","2052-05-11","2052-05-12","2052-05-13","2052-05-14","2052-05-15","2052-05-16","2052-05-17","2052-05-18","2052-05-19","2052-05-20","2052-05-21","2052-05-22","2052-05-23","2052-05-24","2052-05-25","2052-05-26","2052-05-27","2052-05-28","2052-05-29","2052-05-30","2052-05-31","2052-06-01","2052-06-02","2052-06-03","2052-06-04","2052-06-05","2052-06-06","2052-06-07","2052-06-08","2052-06-09","2052-06-10","2052-06-11","2052-06-12","2052-06-13","2052-06-14","2052-06-15","2052-06-16","2052-06-17","2052-06-18","2052-06-19","2052-06-20","2052-06-21","2052-06-22","2052-06-23","2052-06-24","2052-06-25","2052-06-26","2052-06-27","2052-06-28","2052-06-29","2052-06-30","2052-07-01","2052-07-02",{"$f":"OXK4+1","v":"2052-07-03"},"2052-07-04","2052-07-05","2052-07-06","2052-07-07","2052-07-08","2052-07-09","2052-07-10","2052-07-11","2052-07-12","2052-07-13","2052-07-14","2052-07-15","2052-07-16","2052-07-17","2052-07-18","2052-07-19","2052-07-20","2052-07-21","2052-07-22","2052-07-23","2052-07-24","2052-07-25","2052-07-26","2052-07-27","2052-07-28","2052-07-29","2052-07-30","2052-07-31","2052-08-01","2052-08-02","2052-08-03","2052-08-04","2052-08-05","2052-08-06","2052-08-07","2052-08-08","2052-08-09","2052-08-10","2052-08-11","2052-08-12","2052-08-13","2052-08-14","2052-08-15","2052-08-16","2052-08-17","2052-08-18","2052-08-19","2052-08-20","2052-08-21","2052-08-22","2052-08-23","2052-08-24","2052-08-25","2052-08-26","2052-08-27","2052-08-28","2052-08-29","2052-08-30","2052-08-31","2052-09-01","2052-09-02","2052-09-03","2052-09-04",{"$f":"OZW4+1","v":"2052-09-05"},"2052-09-06","2052-09-07","2052-09-08","2052-09-09","2052-09-10","2052-09-11","2052-09-12","2052-09-13","2052-09-14","2052-09-15","2052-09-16","2052-09-17","2052-09-18","2052-09-19","2052-09-20","2052-09-21","2052-09-22","2052-09-23","2052-09-24","2052-09-25","2052-09-26","2052-09-27","2052-09-28","2052-09-29","2052-09-30","2052-10-01","2052-10-02","2052-10-03","2052-10-04","2052-10-05","2052-10-06","2052-10-07","2052-10-08","2052-10-09","2052-10-10","2052-10-11","2052-10-12","2052-10-13","2052-10-14","2052-10-15","2052-10-16","2052-10-17","2052-10-18","2052-10-19","2052-10-20","2052-10-21","2052-10-22","2052-10-23","2052-10-24","2052-10-25","2052-10-26","2052-10-27","2052-10-28","2052-10-29","2052-10-30","2052-10-31","2052-11-01","2052-11-02","2052-11-03","2052-11-04","2052-11-05","2052-11-06","2052-11-07",{"$f":"PCI4+1","v":"2052-11-08"},"2052-11-09","2052-11-10","2052-11-11","2052-11-12","2052-11-13","2052-11-14","2052-11-15","2052-11-16","2052-11-17","2052-11-18","2052-11-19","2052-11-20","2052-11-21","2052-11-22","2052-11-23","2052-11-24","2052-11-25","2052-11-26","2052-11-27","2052-11-28","2052-11-29","2052-11-30","2052-12-01","2052-12-02","2052-12-03","2052-12-04","2052-12-05","2052-12-06","2052-12-07","2052-12-08","2052-12-09","2052-12-10","2052-12-11","2052-12-12","2052-12-13","2052-12-14","2052-12-15","2052-12-16","2052-12-17","2052-12-18","2052-12-19","2052-12-20","2052-12-21","2052-12-22","2052-12-23","2052-12-24","2052-12-25","2052-12-26","2052-12-27","2052-12-28","2052-12-29","2052-12-30","2052-12-31","2053-01-01","2053-01-02","2053-01-03","2053-01-04","2053-01-05","2053-01-06","2053-01-07","2053-01-08","2053-01-09","2053-01-10",{"$f":"PEU4+1","v":"2053-01-11"},"2053-01-12","2053-01-13","2053-01-14","2053-01-15","2053-01-16","2053-01-17","2053-01-18","2053-01-19","2053-01-20","2053-01-21","2053-01-22","2053-01-23","2053-01-24","2053-01-25","2053-01-26","2053-01-27","2053-01-28","2053-01-29","2053-01-30","2053-01-31","2053-02-01","2053-02-02","2053-02-03","2053-02-04","2053-02-05","2053-02-06","2053-02-07","2053-02-08","2053-02-09","2053-02-10","2053-02-11","2053-02-12","2053-02-13","2053-02-14","2053-02-15","2053-02-16","2053-02-17","2053-02-18","2053-02-19","2053-02-20","2053-02-21","2053-02-22","2053-02-23","2053-02-24","2053-02-25","2053-02-26","2053-02-27","2053-02-28","2053-03-01","2053-03-02","2053-03-03","2053-03-04","2053-03-05","2053-03-06","2053-03-07","2053-03-08","2053-03-09","2053-03-10","2053-03-11","2053-03-12","2053-03-13","2053-03-14","2053-03-15",{"$f":"PHG4+1","v":"2053-03-16"},"2053-03-17","2053-03-18","2053-03-19","2053-03-20","2053-03-21","2053-03-22","2053-03-23","2053-03-24","2053-03-25","2053-03-26","2053-03-27","2053-03-28","2053-03-29","2053-03-30","2053-03-31","2053-04-01","2053-04-02","2053-04-03","2053-04-04","2053-04-05","2053-04-06","2053-04-07","2053-04-08","2053-04-09","2053-04-10","2053-04-11","2053-04-12","2053-04-13","2053-04-14","2053-04-15","2053-04-16","2053-04-17","2053-04-18","2053-04-19","2053-04-20","2053-04-21","2053-04-22","2053-04-23","2053-04-24","2053-04-25","2053-04-26","2053-04-27","2053-04-28","2053-04-29","2053-04-30","2053-05-01","2053-05-02","2053-05-03","2053-05-04","2053-05-05","2053-05-06","2053-05-07","2053-05-08","2053-05-09","2053-05-10","2053-05-11","2053-05-12","2053-05-13","2053-05-14","2053-05-15","2053-05-16","2053-05-17","2053-05-18",{"$f":"PJS4+1","v":"2053-05-19"},"2053-05-20","2053-05-21","2053-05-22","2053-05-23","2053-05-24","2053-05-25","2053-05-26","2053-05-27","2053-05-28","2053-05-29","2053-05-30","2053-05-31","2053-06-01","2053-06-02","2053-06-03","2053-06-04","2053-06-05","2053-06-06","2053-06-07","2053-06-08","2053-06-09","2053-06-10","2053-06-11","2053-06-12","2053-06-13","2053-06-14","2053-06-15","2053-06-16","2053-06-17","2053-06-18","2053-06-19","2053-06-20","2053-06-21","2053-06-22","2053-06-23","2053-06-24","2053-06-25","2053-06-26","2053-06-27","2053-06-28","2053-06-29","2053-06-30","2053-07-01","2053-07-02","2053-07-03","2053-07-04","2053-07-05","2053-07-06","2053-07-07","2053-07-08","2053-07-09","2053-07-10","2053-07-11","2053-07-12","2053-07-13","2053-07-14","2053-07-15","2053-07-16","2053-07-17","2053-07-18","2053-07-19","2053-07-20","2053-07-21",{"$f":"PME4+1","v":"2053-07-22"},"2053-07-23","2053-07-24","2053-07-25","2053-07-26","2053-07-27","2053-07-28","2053-07-29","2053-07-30","2053-07-31","2053-08-01","2053-08-02","2053-08-03","2053-08-04","2053-08-05","2053-08-06","2053-08-07","2053-08-08","2053-08-09","2053-08-10","2053-08-11","2053-08-12","2053-08-13","2053-08-14","2053-08-15","2053-08-16","2053-08-17","2053-08-18","2053-08-19","2053-08-20","2053-08-21","2053-08-22","2053-08-23","2053-08-24","2053-08-25","2053-08-26","2053-08-27","2053-08-28","2053-08-29","2053-08-30","2053-08-31","2053-09-01","2053-09-02","2053-09-03","2053-09-04","2053-09-05","2053-09-06","2053-09-07","2053-09-08","2053-09-09","2053-09-10","2053-09-11","2053-09-12","2053-09-13","2053-09-14","2053-09-15","2053-09-16","2053-09-17","2053-09-18","2053-09-19","2053-09-20","2053-09-21","2053-09-22","2053-09-23",{"$f":"POQ4+1","v":"2053-09-24"},"2053-09-25","2053-09-26","2053-09-27","2053-09-28","2053-09-29","2053-09-30","2053-10-01","2053-10-02","2053-10-03","2053-10-04","2053-10-05","2053-10-06","2053-10-07","2053-10-08","2053-10-09","2053-10-10","2053-10-11","2053-10-12","2053-10-13","2053-10-14","2053-10-15","2053-10-16","2053-10-17","2053-10-18","2053-10-19","2053-10-20","2053-10-21","2053-10-22","2053-10-23","2053-10-24","2053-10-25","2053-10-26","2053-10-27","2053-10-28","2053-10-29","2053-10-30","2053-10-31","2053-11-01","2053-11-02","2053-11-03","2053-11-04","2053-11-05","2053-11-06","2053-11-07","2053-11-08","2053-11-09","2053-11-10","2053-11-11","2053-11-12","2053-11-13","2053-11-14","2053-11-15","2053-11-16","2053-11-17","2053-11-18","2053-11-19","2053-11-20","2053-11-21","2053-11-22","2053-11-23","2053-11-24","2053-11-25","2053-11-26",{"$f":"PRC4+1","v":"2053-11-27"},"2053-11-28","2053-11-29","2053-11-30","2053-12-01","2053-12-02","2053-12-03","2053-12-04","2053-12-05","2053-12-06","2053-12-07","2053-12-08","2053-12-09","2053-12-10","2053-12-11","2053-12-12","2053-12-13","2053-12-14","2053-12-15","2053-12-16","2053-12-17","2053-12-18","2053-12-19","2053-12-20","2053-12-21","2053-12-22","2053-12-23","2053-12-24","2053-12-25","2053-12-26","2053-12-27","2053-12-28","2053-12-29","2053-12-30","2053-12-31","2054-01-01","2054-01-02","2054-01-03","2054-01-04","2054-01-05","2054-01-06","2054-01-07","2054-01-08","2054-01-09","2054-01-10","2054-01-11","2054-01-12","2054-01-13","2054-01-14","2054-01-15","2054-01-16","2054-01-17","2054-01-18","2054-01-19","2054-01-20","2054-01-21","2054-01-22","2054-01-23","2054-01-24","2054-01-25","2054-01-26","2054-01-27","2054-01-28","2054-01-29",{"$f":"PTO4+1","v":"2054-01-30"},"2054-01-31","2054-02-01","2054-02-02","2054-02-03","2054-02-04","2054-02-05","2054-02-06","2054-02-07","2054-02-08","2054-02-09","2054-02-10","2054-02-11","2054-02-12","2054-02-13","2054-02-14","2054-02-15","2054-02-16","2054-02-17","2054-02-18","2054-02-19","2054-02-20","2054-02-21","2054-02-22","2054-02-23","2054-02-24","2054-02-25","2054-02-26","2054-02-27","2054-02-28","2054-03-01","2054-03-02","2054-03-03","2054-03-04","2054-03-05","2054-03-06","2054-03-07","2054-03-08","2054-03-09","2054-03-10","2054-03-11","2054-03-12","2054-03-13","2054-03-14","2054-03-15","2054-03-16","2054-03-17","2054-03-18","2054-03-19","2054-03-20","2054-03-21","2054-03-22","2054-03-23","2054-03-24","2054-03-25","2054-03-26","2054-03-27","2054-03-28","2054-03-29","2054-03-30","2054-03-31","2054-04-01","2054-04-02","2054-04-03",{"$f":"PWA4+1","v":"2054-04-04"},"2054-04-05","2054-04-06","2054-04-07","2054-04-08","2054-04-09","2054-04-10","2054-04-11","2054-04-12","2054-04-13","2054-04-14","2054-04-15","2054-04-16","2054-04-17","2054-04-18","2054-04-19","2054-04-20","2054-04-21","2054-04-22","2054-04-23","2054-04-24","2054-04-25","2054-04-26","2054-04-27","2054-04-28","2054-04-29","2054-04-30","2054-05-01","2054-05-02","2054-05-03","2054-05-04","2054-05-05","2054-05-06","2054-05-07","2054-05-08","2054-05-09","2054-05-10","2054-05-11","2054-05-12","2054-05-13","2054-05-14","2054-05-15","2054-05-16","2054-05-17","2054-05-18","2054-05-19","2054-05-20","2054-05-21","2054-05-22","2054-05-23","2054-05-24","2054-05-25","2054-05-26","2054-05-27","2054-05-28","2054-05-29","2054-05-30","2054-05-31","2054-06-01","2054-06-02","2054-06-03","2054-06-04","2054-06-05","2054-06-06",{"$f":"PYM4+1","v":"2054-06-07"},"2054-06-08","2054-06-09","2054-06-10","2054-06-11","2054-06-12","2054-06-13","2054-06-14","2054-06-15","2054-06-16","2054-06-17","2054-06-18","2054-06-19","2054-06-20","2054-06-21","2054-06-22","2054-06-23","2054-06-24","2054-06-25","2054-06-26","2054-06-27","2054-06-28","2054-06-29","2054-06-30","2054-07-01","2054-07-02","2054-07-03","2054-07-04","2054-07-05","2054-07-06","2054-07-07","2054-07-08","2054-07-09","2054-07-10","2054-07-11","2054-07-12","2054-07-13","2054-07-14","2054-07-15","2054-07-16","2054-07-17","2054-07-18","2054-07-19","2054-07-20","2054-07-21","2054-07-22","2054-07-23","2054-07-24","2054-07-25","2054-07-26","2054-07-27","2054-07-28","2054-07-29","2054-07-30","2054-07-31","2054-08-01","2054-08-02","2054-08-03","2054-08-04","2054-08-05","2054-08-06","2054-08-07","2054-08-08","2054-08-09",{"$f":"QAY4+1","v":"2054-08-10"},"2054-08-11","2054-08-12","2054-08-13","2054-08-14","2054-08-15","2054-08-16","2054-08-17","2054-08-18","2054-08-19","2054-08-20","2054-08-21","2054-08-22","2054-08-23","2054-08-24","2054-08-25","2054-08-26","2054-08-27","2054-08-28","2054-08-29","2054-08-30","2054-08-31","2054-09-01","2054-09-02","2054-09-03","2054-09-04","2054-09-05","2054-09-06","2054-09-07","2054-09-08","2054-09-09","2054-09-10","2054-09-11","2054-09-12","2054-09-13","2054-09-14","2054-09-15","2054-09-16","2054-09-17","2054-09-18","2054-09-19","2054-09-20","2054-09-21","2054-09-22","2054-09-23","2054-09-24","2054-09-25","2054-09-26","2054-09-27","2054-09-28","2054-09-29","2054-09-30","2054-10-01","2054-10-02","2054-10-03","2054-10-04","2054-10-05","2054-10-06","2054-10-07","2054-10-08","2054-10-09","2054-10-10","2054-10-11","2054-10-12",{"$f":"QDK4+1","v":"2054-10-13"},"2054-10-14","2054-10-15","2054-10-16","2054-10-17","2054-10-18","2054-10-19","2054-10-20","2054-10-21","2054-10-22","2054-10-23","2054-10-24","2054-10-25","2054-10-26","2054-10-27","2054-10-28","2054-10-29","2054-10-30","2054-10-31","2054-11-01","2054-11-02","2054-11-03","2054-11-04","2054-11-05","2054-11-06","2054-11-07","2054-11-08","2054-11-09","2054-11-10","2054-11-11","2054-11-12","2054-11-13","2054-11-14","2054-11-15","2054-11-16","2054-11-17","2054-11-18","2054-11-19","2054-11-20","2054-11-21","2054-11-22","2054-11-23","2054-11-24","2054-11-25","2054-11-26","2054-11-27","2054-11-28","2054-11-29","2054-11-30","2054-12-01","2054-12-02","2054-12-03","2054-12-04","2054-12-05","2054-12-06","2054-12-07","2054-12-08","2054-12-09","2054-12-10","2054-12-11","2054-12-12","2054-12-13","2054-12-14","2054-12-15",{"$f":"QFW4+1","v":"2054-12-16"},"2054-12-17","2054-12-18","2054-12-19","2054-12-20","2054-12-21","2054-12-22","2054-12-23","2054-12-24","2054-12-25","2054-12-26","2054-12-27","2054-12-28","2054-12-29","2054-12-30","2054-12-31","2055-01-01","2055-01-02","2055-01-03","2055-01-04","2055-01-05","2055-01-06","2055-01-07","2055-01-08","2055-01-09","2055-01-10","2055-01-11","2055-01-12","2055-01-13","2055-01-14","2055-01-15","2055-01-16","2055-01-17","2055-01-18","2055-01-19","2055-01-20","2055-01-21","2055-01-22","2055-01-23","2055-01-24","2055-01-25","2055-01-26","2055-01-27","2055-01-28","2055-01-29","2055-01-30","2055-01-31","2055-02-01","2055-02-02","2055-02-03","2055-02-04","2055-02-05","2055-02-06","2055-02-07","2055-02-08","2055-02-09","2055-02-10","2055-02-11","2055-02-12","2055-02-13","2055-02-14","2055-02-15","2055-02-16","2055-02-17",{"$f":"QII4+1","v":"2055-02-18"},"2055-02-19","2055-02-20","2055-02-21","2055-02-22","2055-02-23","2055-02-24","2055-02-25","2055-02-26","2055-02-27","2055-02-28","2055-03-01","2055-03-02","2055-03-03","2055-03-04","2055-03-05","2055-03-06","2055-03-07","2055-03-08","2055-03-09","2055-03-10","2055-03-11","2055-03-12","2055-03-13","2055-03-14","2055-03-15","2055-03-16","2055-03-17","2055-03-18","2055-03-19","2055-03-20","2055-03-21","2055-03-22","2055-03-23","2055-03-24","2055-03-25","2055-03-26","2055-03-27","2055-03-28","2055-03-29","2055-03-30","2055-03-31","2055-04-01","2055-04-02","2055-04-03","2055-04-04","2055-04-05","2055-04-06","2055-04-07","2055-04-08","2055-04-09","2055-04-10","2055-04-11","2055-04-12","2055-04-13","2055-04-14","2055-04-15","2055-04-16","2055-04-17","2055-04-18","2055-04-19","2055-04-20","2055-04-21","2055-04-22",{"$f":"QKU4+1","v":"2055-04-23"},"2055-04-24","2055-04-25","2055-04-26","2055-04-27","2055-04-28","2055-04-29","2055-04-30","2055-05-01","2055-05-02","2055-05-03","2055-05-04","2055-05-05","2055-05-06","2055-05-07","2055-05-08","2055-05-09","2055-05-10","2055-05-11","2055-05-12","2055-05-13","2055-05-14","2055-05-15","2055-05-16","2055-05-17","2055-05-18","2055-05-19","2055-05-20","2055-05-21","2055-05-22","2055-05-23","2055-05-24","2055-05-25","2055-05-26","2055-05-27","2055-05-28","2055-05-29","2055-05-30","2055-05-31","2055-06-01","2055-06-02","2055-06-03","2055-06-04","2055-06-05","2055-06-06","2055-06-07","2055-06-08","2055-06-09","2055-06-10","2055-06-11","2055-06-12","2055-06-13","2055-06-14","2055-06-15","2055-06-16","2055-06-17","2055-06-18","2055-06-19","2055-06-20","2055-06-21","2055-06-22","2055-06-23","2055-06-24","2055-06-25",{"$f":"QNG4+1","v":"2055-06-26"},"2055-06-27","2055-06-28","2055-06-29","2055-06-30","2055-07-01","2055-07-02","2055-07-03","2055-07-04","2055-07-05","2055-07-06","2055-07-07","2055-07-08","2055-07-09","2055-07-10","2055-07-11","2055-07-12","2055-07-13","2055-07-14","2055-07-15","2055-07-16","2055-07-17","2055-07-18","2055-07-19","2055-07-20","2055-07-21","2055-07-22","2055-07-23","2055-07-24","2055-07-25","2055-07-26","2055-07-27","2055-07-28","2055-07-29","2055-07-30","2055-07-31","2055-08-01","2055-08-02","2055-08-03","2055-08-04","2055-08-05","2055-08-06","2055-08-07","2055-08-08","2055-08-09","2055-08-10","2055-08-11","2055-08-12","2055-08-13","2055-08-14","2055-08-15","2055-08-16","2055-08-17","2055-08-18","2055-08-19","2055-08-20","2055-08-21","2055-08-22","2055-08-23","2055-08-24","2055-08-25","2055-08-26","2055-08-27","2055-08-28",{"$f":"QPS4+1","v":"2055-08-29"},"2055-08-30","2055-08-31","2055-09-01","2055-09-02","2055-09-03","2055-09-04","2055-09-05","2055-09-06","2055-09-07","2055-09-08","2055-09-09","2055-09-10","2055-09-11","2055-09-12","2055-09-13","2055-09-14","2055-09-15","2055-09-16","2055-09-17","2055-09-18","2055-09-19","2055-09-20","2055-09-21","2055-09-22","2055-09-23","2055-09-24","2055-09-25","2055-09-26","2055-09-27","2055-09-28","2055-09-29","2055-09-30","2055-10-01","2055-10-02","2055-10-03","2055-10-04","2055-10-05","2055-10-06","2055-10-07","2055-10-08","2055-10-09","2055-10-10","2055-10-11","2055-10-12","2055-10-13","2055-10-14","2055-10-15","2055-10-16","2055-10-17","2055-10-18","2055-10-19","2055-10-20","2055-10-21","2055-10-22","2055-10-23","2055-10-24","2055-10-25","2055-10-26","2055-10-27","2055-10-28","2055-10-29","2055-10-30","2055-10-31",{"$f":"QSE4+1","v":"2055-11-01"},"2055-11-02","2055-11-03","2055-11-04","2055-11-05","2055-11-06","2055-11-07","2055-11-08","2055-11-09","2055-11-10","2055-11-11","2055-11-12","2055-11-13","2055-11-14","2055-11-15","2055-11-16","2055-11-17","2055-11-18","2055-11-19","2055-11-20","2055-11-21","2055-11-22","2055-11-23","2055-11-24","2055-11-25","2055-11-26","2055-11-27","2055-11-28","2055-11-29","2055-11-30","2055-12-01","2055-12-02","2055-12-03","2055-12-04","2055-12-05","2055-12-06","2055-12-07","2055-12-08","2055-12-09","2055-12-10","2055-12-11","2055-12-12","2055-12-13","2055-12-14","2055-12-15","2055-12-16","2055-12-17","2055-12-18","2055-12-19","2055-12-20","2055-12-21","2055-12-22","2055-12-23","2055-12-24","2055-12-25","2055-12-26","2055-12-27","2055-12-28","2055-12-29","2055-12-30","2055-12-31","2056-01-01","2056-01-02","2056-01-03",{"$f":"QUQ4+1","v":"2056-01-04"},"2056-01-05","2056-01-06","2056-01-07","2056-01-08","2056-01-09","2056-01-10","2056-01-11","2056-01-12","2056-01-13","2056-01-14","2056-01-15","2056-01-16","2056-01-17","2056-01-18","2056-01-19","2056-01-20","2056-01-21","2056-01-22","2056-01-23","2056-01-24","2056-01-25","2056-01-26","2056-01-27","2056-01-28","2056-01-29","2056-01-30","2056-01-31","2056-02-01","2056-02-02","2056-02-03","2056-02-04","2056-02-05","2056-02-06","2056-02-07","2056-02-08","2056-02-09","2056-02-10","2056-02-11","2056-02-12","2056-02-13","2056-02-14","2056-02-15","2056-02-16","2056-02-17","2056-02-18","2056-02-19","2056-02-20","2056-02-21","2056-02-22","2056-02-23","2056-02-24","2056-02-25","2056-02-26","2056-02-27","2056-02-28","2056-02-29","2056-03-01","2056-03-02","2056-03-03","2056-03-04","2056-03-05","2056-03-06","2056-03-07",{"$f":"QXC4+1","v":"2056-03-08"},"2056-03-09","2056-03-10","2056-03-11","2056-03-12","2056-03-13","2056-03-14","2056-03-15","2056-03-16","2056-03-17","2056-03-18","2056-03-19","2056-03-20","2056-03-21","2056-03-22","2056-03-23","2056-03-24","2056-03-25","2056-03-26","2056-03-27","2056-03-28","2056-03-29","2056-03-30","2056-03-31","2056-04-01","2056-04-02","2056-04-03","2056-04-04","2056-04-05","2056-04-06","2056-04-07","2056-04-08","2056-04-09","2056-04-10","2056-04-11","2056-04-12","2056-04-13","2056-04-14","2056-04-15","2056-04-16","2056-04-17","2056-04-18","2056-04-19","2056-04-20","2056-04-21","2056-04-22","2056-04-23","2056-04-24","2056-04-25","2056-04-26","2056-04-27","2056-04-28","2056-04-29","2056-04-30","2056-05-01","2056-05-02","2056-05-03","2056-05-04","2056-05-05","2056-05-06","2056-05-07","2056-05-08","2056-05-09","2056-05-10",{"$f":"QZO4+1","v":"2056-05-11"},"2056-05-12","2056-05-13","2056-05-14","2056-05-15","2056-05-16","2056-05-17","2056-05-18","2056-05-19","2056-05-20","2056-05-21","2056-05-22","2056-05-23","2056-05-24","2056-05-25","2056-05-26","2056-05-27","2056-05-28","2056-05-29","2056-05-30","2056-05-31","2056-06-01","2056-06-02","2056-06-03","2056-06-04","2056-06-05","2056-06-06","2056-06-07","2056-06-08","2056-06-09","2056-06-10","2056-06-11","2056-06-12","2056-06-13","2056-06-14","2056-06-15","2056-06-16","2056-06-17","2056-06-18","2056-06-19","2056-06-20","2056-06-21","2056-06-22","2056-06-23","2056-06-24","2056-06-25","2056-06-26","2056-06-27","2056-06-28","2056-06-29","2056-06-30","2056-07-01","2056-07-02","2056-07-03","2056-07-04","2056-07-05","2056-07-06","2056-07-07","2056-07-08","2056-07-09","2056-07-10","2056-07-11","2056-07-12","2056-07-13",{"$f":"RCA4+1","v":"2056-07-14"},"2056-07-15","2056-07-16","2056-07-17","2056-07-18","2056-07-19","2056-07-20","2056-07-21","2056-07-22","2056-07-23","2056-07-24","2056-07-25","2056-07-26","2056-07-27","2056-07-28","2056-07-29","2056-07-30","2056-07-31","2056-08-01","2056-08-02","2056-08-03","2056-08-04","2056-08-05","2056-08-06","2056-08-07","2056-08-08","2056-08-09","2056-08-10","2056-08-11","2056-08-12","2056-08-13","2056-08-14","2056-08-15","2056-08-16","2056-08-17","2056-08-18","2056-08-19","2056-08-20","2056-08-21","2056-08-22","2056-08-23","2056-08-24","2056-08-25","2056-08-26","2056-08-27","2056-08-28","2056-08-29","2056-08-30","2056-08-31","2056-09-01","2056-09-02","2056-09-03","2056-09-04","2056-09-05","2056-09-06","2056-09-07","2056-09-08","2056-09-09","2056-09-10","2056-09-11","2056-09-12","2056-09-13","2056-09-14","2056-09-15",{"$f":"REM4+1","v":"2056-09-16"},"2056-09-17","2056-09-18","2056-09-19","2056-09-20","2056-09-21","2056-09-22","2056-09-23","2056-09-24","2056-09-25","2056-09-26","2056-09-27","2056-09-28","2056-09-29","2056-09-30","2056-10-01","2056-10-02","2056-10-03","2056-10-04","2056-10-05","2056-10-06","2056-10-07","2056-10-08","2056-10-09","2056-10-10","2056-10-11","2056-10-12","2056-10-13","2056-10-14","2056-10-15","2056-10-16","2056-10-17","2056-10-18","2056-10-19","2056-10-20","2056-10-21","2056-10-22","2056-10-23","2056-10-24","2056-10-25","2056-10-26","2056-10-27","2056-10-28","2056-10-29","2056-10-30","2056-10-31","2056-11-01","2056-11-02","2056-11-03","2056-11-04","2056-11-05","2056-11-06","2056-11-07","2056-11-08","2056-11-09","2056-11-10","2056-11-11","2056-11-12","2056-11-13","2056-11-14","2056-11-15","2056-11-16","2056-11-17","2056-11-18",{"$f":"RGY4+1","v":"2056-11-19"},"2056-11-20","2056-11-21","2056-11-22","2056-11-23","2056-11-24","2056-11-25","2056-11-26","2056-11-27","2056-11-28","2056-11-29","2056-11-30","2056-12-01","2056-12-02","2056-12-03","2056-12-04","2056-12-05","2056-12-06","2056-12-07","2056-12-08","2056-12-09","2056-12-10","2056-12-11","2056-12-12","2056-12-13","2056-12-14","2056-12-15","2056-12-16","2056-12-17","2056-12-18","2056-12-19","2056-12-20","2056-12-21","2056-12-22","2056-12-23","2056-12-24","2056-12-25","2056-12-26","2056-12-27","2056-12-28","2056-12-29","2056-12-30","2056-12-31","2057-01-01","2057-01-02","2057-01-03","2057-01-04","2057-01-05","2057-01-06","2057-01-07","2057-01-08","2057-01-09","2057-01-10","2057-01-11","2057-01-12","2057-01-13","2057-01-14","2057-01-15","2057-01-16","2057-01-17","2057-01-18","2057-01-19","2057-01-20","2057-01-21",{"$f":"RJK4+1","v":"2057-01-22"},"2057-01-23","2057-01-24","2057-01-25","2057-01-26","2057-01-27","2057-01-28","2057-01-29","2057-01-30","2057-01-31","2057-02-01","2057-02-02","2057-02-03","2057-02-04","2057-02-05","2057-02-06","2057-02-07","2057-02-08","2057-02-09","2057-02-10","2057-02-11","2057-02-12","2057-02-13","2057-02-14","2057-02-15","2057-02-16","2057-02-17","2057-02-18","2057-02-19","2057-02-20","2057-02-21","2057-02-22","2057-02-23","2057-02-24","2057-02-25","2057-02-26","2057-02-27","2057-02-28","2057-03-01","2057-03-02","2057-03-03","2057-03-04","2057-03-05","2057-03-06","2057-03-07","2057-03-08","2057-03-09","2057-03-10","2057-03-11","2057-03-12","2057-03-13","2057-03-14","2057-03-15","2057-03-16","2057-03-17","2057-03-18","2057-03-19","2057-03-20","2057-03-21","2057-03-22","2057-03-23","2057-03-24","2057-03-25","2057-03-26",{"$f":"RLW4+1","v":"2057-03-27"},"2057-03-28","2057-03-29","2057-03-30","2057-03-31","2057-04-01","2057-04-02","2057-04-03","2057-04-04","2057-04-05","2057-04-06","2057-04-07","2057-04-08","2057-04-09","2057-04-10","2057-04-11","2057-04-12","2057-04-13","2057-04-14","2057-04-15","2057-04-16","2057-04-17","2057-04-18","2057-04-19","2057-04-20","2057-04-21","2057-04-22","2057-04-23","2057-04-24","2057-04-25","2057-04-26","2057-04-27","2057-04-28","2057-04-29","2057-04-30","2057-05-01","2057-05-02","2057-05-03","2057-05-04","2057-05-05","2057-05-06","2057-05-07","2057-05-08","2057-05-09","2057-05-10","2057-05-11","2057-05-12","2057-05-13","2057-05-14","2057-05-15","2057-05-16","2057-05-17","2057-05-18","2057-05-19","2057-05-20","2057-05-21","2057-05-22","2057-05-23","2057-05-24","2057-05-25","2057-05-26","2057-05-27","2057-05-28","2057-05-29",{"$f":"ROI4+1","v":"2057-05-30"},"2057-05-31","2057-06-01","2057-06-02","2057-06-03","2057-06-04","2057-06-05","2057-06-06","2057-06-07","2057-06-08","2057-06-09","2057-06-10","2057-06-11","2057-06-12","2057-06-13","2057-06-14","2057-06-15","2057-06-16","2057-06-17","2057-06-18","2057-06-19","2057-06-20","2057-06-21","2057-06-22","2057-06-23","2057-06-24","2057-06-25","2057-06-26","2057-06-27","2057-06-28","2057-06-29","2057-06-30","2057-07-01","2057-07-02","2057-07-03","2057-07-04","2057-07-05","2057-07-06","2057-07-07","2057-07-08","2057-07-09","2057-07-10","2057-07-11","2057-07-12","2057-07-13","2057-07-14","2057-07-15","2057-07-16","2057-07-17","2057-07-18","2057-07-19","2057-07-20","2057-07-21","2057-07-22","2057-07-23","2057-07-24","2057-07-25","2057-07-26","2057-07-27","2057-07-28","2057-07-29","2057-07-30","2057-07-31","2057-08-01",{"$f":"RQU4+1","v":"2057-08-02"},"2057-08-03","2057-08-04","2057-08-05","2057-08-06","2057-08-07","2057-08-08","2057-08-09","2057-08-10","2057-08-11","2057-08-12","2057-08-13","2057-08-14","2057-08-15","2057-08-16","2057-08-17","2057-08-18","2057-08-19","2057-08-20","2057-08-21","2057-08-22","2057-08-23","2057-08-24","2057-08-25","2057-08-26","2057-08-27","2057-08-28","2057-08-29","2057-08-30","2057-08-31","2057-09-01","2057-09-02","2057-09-03","2057-09-04","2057-09-05","2057-09-06","2057-09-07","2057-09-08","2057-09-09","2057-09-10","2057-09-11","2057-09-12","2057-09-13","2057-09-14","2057-09-15","2057-09-16","2057-09-17","2057-09-18","2057-09-19","2057-09-20","2057-09-21","2057-09-22","2057-09-23","2057-09-24","2057-09-25","2057-09-26","2057-09-27","2057-09-28","2057-09-29","2057-09-30","2057-10-01","2057-10-02","2057-10-03","2057-10-04",{"$f":"RTG4+1","v":"2057-10-05"},"2057-10-06","2057-10-07","2057-10-08","2057-10-09","2057-10-10","2057-10-11","2057-10-12","2057-10-13","2057-10-14","2057-10-15","2057-10-16","2057-10-17","2057-10-18","2057-10-19","2057-10-20","2057-10-21","2057-10-22","2057-10-23","2057-10-24","2057-10-25","2057-10-26","2057-10-27","2057-10-28","2057-10-29","2057-10-30","2057-10-31","2057-11-01","2057-11-02","2057-11-03","2057-11-04","2057-11-05","2057-11-06","2057-11-07","2057-11-08","2057-11-09","2057-11-10","2057-11-11","2057-11-12","2057-11-13","2057-11-14","2057-11-15","2057-11-16","2057-11-17","2057-11-18","2057-11-19","2057-11-20","2057-11-21","2057-11-22","2057-11-23","2057-11-24","2057-11-25","2057-11-26","2057-11-27","2057-11-28","2057-11-29","2057-11-30","2057-12-01","2057-12-02","2057-12-03","2057-12-04","2057-12-05","2057-12-06","2057-12-07",{"$f":"RVS4+1","v":"2057-12-08"},"2057-12-09","2057-12-10","2057-12-11","2057-12-12","2057-12-13","2057-12-14","2057-12-15","2057-12-16","2057-12-17","2057-12-18","2057-12-19","2057-12-20","2057-12-21","2057-12-22","2057-12-23","2057-12-24","2057-12-25","2057-12-26","2057-12-27","2057-12-28","2057-12-29","2057-12-30","2057-12-31","2058-01-01","2058-01-02","2058-01-03","2058-01-04","2058-01-05","2058-01-06","2058-01-07","2058-01-08","2058-01-09","2058-01-10","2058-01-11","2058-01-12","2058-01-13","2058-01-14","2058-01-15","2058-01-16","2058-01-17","2058-01-18","2058-01-19","2058-01-20","2058-01-21","2058-01-22","2058-01-23","2058-01-24","2058-01-25","2058-01-26","2058-01-27","2058-01-28","2058-01-29","2058-01-30","2058-01-31","2058-02-01","2058-02-02","2058-02-03","2058-02-04","2058-02-05","2058-02-06","2058-02-07","2058-02-08","2058-02-09",{"$f":"RYE4+1","v":"2058-02-10"},"2058-02-11","2058-02-12","2058-02-13","2058-02-14","2058-02-15","2058-02-16","2058-02-17","2058-02-18","2058-02-19","2058-02-20","2058-02-21","2058-02-22","2058-02-23","2058-02-24","2058-02-25","2058-02-26","2058-02-27","2058-02-28","2058-03-01","2058-03-02","2058-03-03","2058-03-04","2058-03-05","2058-03-06","2058-03-07","2058-03-08","2058-03-09","2058-03-10","2058-03-11","2058-03-12","2058-03-13","2058-03-14","2058-03-15","2058-03-16","2058-03-17","2058-03-18","2058-03-19","2058-03-20","2058-03-21","2058-03-22","2058-03-23","2058-03-24","2058-03-25","2058-03-26","2058-03-27","2058-03-28","2058-03-29","2058-03-30","2058-03-31","2058-04-01","2058-04-02","2058-04-03","2058-04-04","2058-04-05","2058-04-06","2058-04-07","2058-04-08","2058-04-09","2058-04-10","2058-04-11","2058-04-12","2058-04-13","2058-04-14",{"$f":"SAQ4+1","v":"2058-04-15"},"2058-04-16","2058-04-17","2058-04-18","2058-04-19","2058-04-20","2058-04-21","2058-04-22","2058-04-23","2058-04-24","2058-04-25","2058-04-26","2058-04-27","2058-04-28","2058-04-29","2058-04-30","2058-05-01","2058-05-02","2058-05-03","2058-05-04","2058-05-05","2058-05-06","2058-05-07","2058-05-08","2058-05-09","2058-05-10","2058-05-11","2058-05-12","2058-05-13","2058-05-14","2058-05-15","2058-05-16","2058-05-17","2058-05-18","2058-05-19","2058-05-20","2058-05-21","2058-05-22","2058-05-23","2058-05-24","2058-05-25","2058-05-26","2058-05-27","2058-05-28","2058-05-29","2058-05-30","2058-05-31","2058-06-01","2058-06-02","2058-06-03","2058-06-04","2058-06-05","2058-06-06","2058-06-07","2058-06-08","2058-06-09","2058-06-10","2058-06-11","2058-06-12","2058-06-13","2058-06-14","2058-06-15","2058-06-16","2058-06-17",{"$f":"SDC4+1","v":"2058-06-18"},"2058-06-19","2058-06-20","2058-06-21","2058-06-22","2058-06-23","2058-06-24","2058-06-25","2058-06-26","2058-06-27","2058-06-28","2058-06-29","2058-06-30","2058-07-01","2058-07-02","2058-07-03","2058-07-04","2058-07-05","2058-07-06","2058-07-07","2058-07-08","2058-07-09","2058-07-10","2058-07-11","2058-07-12","2058-07-13","2058-07-14","2058-07-15","2058-07-16","2058-07-17","2058-07-18","2058-07-19","2058-07-20","2058-07-21","2058-07-22","2058-07-23","2058-07-24","2058-07-25","2058-07-26","2058-07-27","2058-07-28","2058-07-29","2058-07-30","2058-07-31","2058-08-01","2058-08-02","2058-08-03","2058-08-04","2058-08-05","2058-08-06","2058-08-07","2058-08-08","2058-08-09","2058-08-10","2058-08-11","2058-08-12","2058-08-13","2058-08-14","2058-08-15","2058-08-16","2058-08-17","2058-08-18","2058-08-19","2058-08-20",{"$f":"SFO4+1","v":"2058-08-21"},"2058-08-22","2058-08-23","2058-08-24","2058-08-25","2058-08-26","2058-08-27","2058-08-28","2058-08-29","2058-08-30","2058-08-31","2058-09-01","2058-09-02","2058-09-03","2058-09-04","2058-09-05","2058-09-06","2058-09-07","2058-09-08","2058-09-09","2058-09-10","2058-09-11","2058-09-12","2058-09-13","2058-09-14","2058-09-15","2058-09-16","2058-09-17","2058-09-18","2058-09-19","2058-09-20","2058-09-21","2058-09-22","2058-09-23","2058-09-24","2058-09-25","2058-09-26","2058-09-27","2058-09-28","2058-09-29","2058-09-30","2058-10-01","2058-10-02","2058-10-03","2058-10-04","2058-10-05","2058-10-06","2058-10-07","2058-10-08","2058-10-09","2058-10-10","2058-10-11","2058-10-12","2058-10-13","2058-10-14","2058-10-15","2058-10-16","2058-10-17","2058-10-18","2058-10-19","2058-10-20","2058-10-21","2058-10-22","2058-10-23",{"$f":"SIA4+1","v":"2058-10-24"},"2058-10-25","2058-10-26","2058-10-27","2058-10-28","2058-10-29","2058-10-30","2058-10-31","2058-11-01","2058-11-02","2058-11-03","2058-11-04","2058-11-05","2058-11-06","2058-11-07","2058-11-08","2058-11-09","2058-11-10","2058-11-11","2058-11-12","2058-11-13","2058-11-14","2058-11-15","2058-11-16","2058-11-17","2058-11-18","2058-11-19","2058-11-20","2058-11-21","2058-11-22","2058-11-23","2058-11-24","2058-11-25","2058-11-26","2058-11-27","2058-11-28","2058-11-29","2058-11-30","2058-12-01","2058-12-02","2058-12-03","2058-12-04","2058-12-05","2058-12-06","2058-12-07","2058-12-08","2058-12-09","2058-12-10","2058-12-11","2058-12-12","2058-12-13","2058-12-14","2058-12-15","2058-12-16","2058-12-17","2058-12-18","2058-12-19","2058-12-20","2058-12-21","2058-12-22","2058-12-23","2058-12-24","2058-12-25","2058-12-26",{"$f":"SKM4+1","v":"2058-12-27"},"2058-12-28","2058-12-29","2058-12-30","2058-12-31","2059-01-01","2059-01-02","2059-01-03","2059-01-04","2059-01-05","2059-01-06","2059-01-07","2059-01-08","2059-01-09","2059-01-10","2059-01-11","2059-01-12","2059-01-13","2059-01-14","2059-01-15","2059-01-16","2059-01-17","2059-01-18","2059-01-19","2059-01-20","2059-01-21","2059-01-22","2059-01-23","2059-01-24","2059-01-25","2059-01-26","2059-01-27","2059-01-28","2059-01-29","2059-01-30","2059-01-31","2059-02-01","2059-02-02","2059-02-03","2059-02-04","2059-02-05","2059-02-06","2059-02-07","2059-02-08","2059-02-09","2059-02-10","2059-02-11","2059-02-12","2059-02-13","2059-02-14","2059-02-15","2059-02-16","2059-02-17","2059-02-18","2059-02-19","2059-02-20","2059-02-21","2059-02-22","2059-02-23","2059-02-24","2059-02-25","2059-02-26","2059-02-27","2059-02-28",{"$f":"SMY4+1","v":"2059-03-01"},"2059-03-02","2059-03-03","2059-03-04","2059-03-05","2059-03-06","2059-03-07","2059-03-08","2059-03-09","2059-03-10","2059-03-11","2059-03-12","2059-03-13","2059-03-14","2059-03-15","2059-03-16","2059-03-17","2059-03-18","2059-03-19","2059-03-20","2059-03-21","2059-03-22","2059-03-23","2059-03-24","2059-03-25","2059-03-26","2059-03-27","2059-03-28","2059-03-29","2059-03-30","2059-03-31","2059-04-01","2059-04-02","2059-04-03","2059-04-04","2059-04-05","2059-04-06","2059-04-07","2059-04-08","2059-04-09","2059-04-10","2059-04-11","2059-04-12","2059-04-13","2059-04-14","2059-04-15","2059-04-16","2059-04-17","2059-04-18","2059-04-19","2059-04-20","2059-04-21","2059-04-22","2059-04-23","2059-04-24","2059-04-25","2059-04-26","2059-04-27","2059-04-28","2059-04-29","2059-04-30","2059-05-01","2059-05-02","2059-05-03",{"$f":"SPK4+1","v":"2059-05-04"},"2059-05-05","2059-05-06","2059-05-07","2059-05-08","2059-05-09","2059-05-10","2059-05-11","2059-05-12","2059-05-13","2059-05-14","2059-05-15","2059-05-16","2059-05-17","2059-05-18","2059-05-19","2059-05-20","2059-05-21","2059-05-22","2059-05-23","2059-05-24","2059-05-25","2059-05-26","2059-05-27","2059-05-28","2059-05-29","2059-05-30","2059-05-31","2059-06-01","2059-06-02","2059-06-03","2059-06-04","2059-06-05","2059-06-06","2059-06-07","2059-06-08","2059-06-09","2059-06-10","2059-06-11","2059-06-12","2059-06-13","2059-06-14","2059-06-15","2059-06-16","2059-06-17","2059-06-18","2059-06-19","2059-06-20","2059-06-21","2059-06-22","2059-06-23","2059-06-24","2059-06-25","2059-06-26","2059-06-27","2059-06-28","2059-06-29","2059-06-30","2059-07-01","2059-07-02","2059-07-03","2059-07-04","2059-07-05","2059-07-06",{"$f":"SRW4+1","v":"2059-07-07"},"2059-07-08","2059-07-09","2059-07-10","2059-07-11","2059-07-12","2059-07-13","2059-07-14","2059-07-15","2059-07-16","2059-07-17","2059-07-18","2059-07-19","2059-07-20","2059-07-21","2059-07-22","2059-07-23","2059-07-24","2059-07-25","2059-07-26","2059-07-27","2059-07-28","2059-07-29","2059-07-30","2059-07-31","2059-08-01","2059-08-02","2059-08-03","2059-08-04","2059-08-05","2059-08-06","2059-08-07","2059-08-08","2059-08-09","2059-08-10","2059-08-11","2059-08-12","2059-08-13","2059-08-14","2059-08-15","2059-08-16","2059-08-17","2059-08-18","2059-08-19","2059-08-20","2059-08-21","2059-08-22","2059-08-23","2059-08-24","2059-08-25","2059-08-26","2059-08-27","2059-08-28","2059-08-29","2059-08-30","2059-08-31","2059-09-01","2059-09-02","2059-09-03","2059-09-04","2059-09-05","2059-09-06","2059-09-07","2059-09-08",{"$f":"SUI4+1","v":"2059-09-09"},"2059-09-10","2059-09-11","2059-09-12","2059-09-13","2059-09-14","2059-09-15","2059-09-16","2059-09-17","2059-09-18","2059-09-19","2059-09-20","2059-09-21","2059-09-22","2059-09-23","2059-09-24","2059-09-25","2059-09-26","2059-09-27","2059-09-28","2059-09-29","2059-09-30","2059-10-01","2059-10-02","2059-10-03","2059-10-04","2059-10-05","2059-10-06","2059-10-07","2059-10-08","2059-10-09","2059-10-10","2059-10-11","2059-10-12","2059-10-13","2059-10-14","2059-10-15","2059-10-16","2059-10-17","2059-10-18","2059-10-19","2059-10-20","2059-10-21","2059-10-22","2059-10-23","2059-10-24","2059-10-25","2059-10-26","2059-10-27","2059-10-28","2059-10-29","2059-10-30","2059-10-31","2059-11-01","2059-11-02","2059-11-03","2059-11-04","2059-11-05","2059-11-06","2059-11-07","2059-11-08","2059-11-09","2059-11-10","2059-11-11",{"$f":"SWU4+1","v":"2059-11-12"},"2059-11-13","2059-11-14","2059-11-15","2059-11-16","2059-11-17","2059-11-18","2059-11-19","2059-11-20","2059-11-21","2059-11-22","2059-11-23","2059-11-24","2059-11-25","2059-11-26","2059-11-27","2059-11-28","2059-11-29","2059-11-30","2059-12-01","2059-12-02","2059-12-03","2059-12-04","2059-12-05","2059-12-06","2059-12-07","2059-12-08","2059-12-09","2059-12-10","2059-12-11","2059-12-12","2059-12-13","2059-12-14","2059-12-15","2059-12-16","2059-12-17","2059-12-18","2059-12-19","2059-12-20","2059-12-21","2059-12-22","2059-12-23","2059-12-24","2059-12-25","2059-12-26","2059-12-27","2059-12-28","2059-12-29","2059-12-30","2059-12-31","2060-01-01","2060-01-02","2060-01-03","2060-01-04","2060-01-05","2060-01-06","2060-01-07","2060-01-08","2060-01-09","2060-01-10","2060-01-11","2060-01-12","2060-01-13","2060-01-14",{"$f":"SZG4+1","v":"2060-01-15"},"2060-01-16","2060-01-17","2060-01-18","2060-01-19","2060-01-20","2060-01-21","2060-01-22","2060-01-23","2060-01-24","2060-01-25","2060-01-26","2060-01-27","2060-01-28","2060-01-29","2060-01-30","2060-01-31","2060-02-01","2060-02-02","2060-02-03","2060-02-04","2060-02-05","2060-02-06","2060-02-07","2060-02-08","2060-02-09","2060-02-10","2060-02-11","2060-02-12","2060-02-13","2060-02-14","2060-02-15","2060-02-16","2060-02-17","2060-02-18","2060-02-19","2060-02-20","2060-02-21","2060-02-22","2060-02-23","2060-02-24","2060-02-25","2060-02-26","2060-02-27","2060-02-28","2060-02-29","2060-03-01","2060-03-02","2060-03-03","2060-03-04","2060-03-05","2060-03-06","2060-03-07","2060-03-08","2060-03-09","2060-03-10","2060-03-11","2060-03-12","2060-03-13","2060-03-14","2060-03-15","2060-03-16","2060-03-17","2060-03-18",{"$f":"TBS4+1","v":"2060-03-19"},"2060-03-20","2060-03-21","2060-03-22","2060-03-23","2060-03-24","2060-03-25","2060-03-26","2060-03-27","2060-03-28","2060-03-29","2060-03-30","2060-03-31","2060-04-01","2060-04-02","2060-04-03","2060-04-04","2060-04-05","2060-04-06","2060-04-07","2060-04-08","2060-04-09","2060-04-10","2060-04-11","2060-04-12","2060-04-13","2060-04-14","2060-04-15","2060-04-16","2060-04-17","2060-04-18","2060-04-19","2060-04-20","2060-04-21","2060-04-22","2060-04-23","2060-04-24","2060-04-25","2060-04-26","2060-04-27","2060-04-28","2060-04-29","2060-04-30","2060-05-01","2060-05-02","2060-05-03","2060-05-04","2060-05-05","2060-05-06","2060-05-07","2060-05-08","2060-05-09","2060-05-10","2060-05-11","2060-05-12","2060-05-13","2060-05-14","2060-05-15","2060-05-16","2060-05-17","2060-05-18","2060-05-19","2060-05-20","2060-05-21",{"$f":"TEE4+1","v":"2060-05-22"},"2060-05-23","2060-05-24","2060-05-25","2060-05-26","2060-05-27","2060-05-28","2060-05-29","2060-05-30","2060-05-31","2060-06-01","2060-06-02","2060-06-03","2060-06-04","2060-06-05","2060-06-06","2060-06-07","2060-06-08","2060-06-09","2060-06-10","2060-06-11","2060-06-12","2060-06-13","2060-06-14","2060-06-15","2060-06-16","2060-06-17","2060-06-18","2060-06-19","2060-06-20","2060-06-21","2060-06-22","2060-06-23","2060-06-24","2060-06-25","2060-06-26","2060-06-27","2060-06-28","2060-06-29","2060-06-30","2060-07-01","2060-07-02","2060-07-03","2060-07-04","2060-07-05","2060-07-06","2060-07-07","2060-07-08","2060-07-09","2060-07-10","2060-07-11","2060-07-12","2060-07-13","2060-07-14","2060-07-15","2060-07-16","2060-07-17","2060-07-18","2060-07-19","2060-07-20","2060-07-21","2060-07-22","2060-07-23","2060-07-24",{"$f":"TGQ4+1","v":"2060-07-25"},"2060-07-26","2060-07-27","2060-07-28","2060-07-29","2060-07-30","2060-07-31","2060-08-01","2060-08-02","2060-08-03","2060-08-04","2060-08-05","2060-08-06","2060-08-07","2060-08-08","2060-08-09","2060-08-10","2060-08-11","2060-08-12","2060-08-13","2060-08-14","2060-08-15","2060-08-16","2060-08-17","2060-08-18","2060-08-19","2060-08-20","2060-08-21","2060-08-22","2060-08-23","2060-08-24","2060-08-25","2060-08-26","2060-08-27","2060-08-28","2060-08-29","2060-08-30","2060-08-31","2060-09-01","2060-09-02","2060-09-03","2060-09-04","2060-09-05","2060-09-06","2060-09-07","2060-09-08","2060-09-09","2060-09-10","2060-09-11","2060-09-12","2060-09-13","2060-09-14","2060-09-15","2060-09-16","2060-09-17","2060-09-18","2060-09-19","2060-09-20","2060-09-21","2060-09-22","2060-09-23","2060-09-24","2060-09-25","2060-09-26",{"$f":"TJC4+1","v":"2060-09-27"},"2060-09-28","2060-09-29","2060-09-30","2060-10-01","2060-10-02","2060-10-03","2060-10-04","2060-10-05","2060-10-06","2060-10-07","2060-10-08","2060-10-09","2060-10-10","2060-10-11","2060-10-12","2060-10-13","2060-10-14","2060-10-15","2060-10-16","2060-10-17","2060-10-18","2060-10-19","2060-10-20","2060-10-21","2060-10-22","2060-10-23","2060-10-24","2060-10-25","2060-10-26","2060-10-27","2060-10-28","2060-10-29","2060-10-30","2060-10-31","2060-11-01","2060-11-02","2060-11-03","2060-11-04","2060-11-05","2060-11-06","2060-11-07","2060-11-08","2060-11-09","2060-11-10","2060-11-11","2060-11-12","2060-11-13","2060-11-14","2060-11-15","2060-11-16","2060-11-17","2060-11-18","2060-11-19","2060-11-20","2060-11-21","2060-11-22","2060-11-23","2060-11-24","2060-11-25","2060-11-26","2060-11-27","2060-11-28","2060-11-29",{"$f":"TLO4+1","v":"2060-11-30"},"2060-12-01","2060-12-02","2060-12-03","2060-12-04","2060-12-05","2060-12-06","2060-12-07","2060-12-08","2060-12-09","2060-12-10","2060-12-11","2060-12-12","2060-12-13","2060-12-14","2060-12-15","2060-12-16","2060-12-17","2060-12-18","2060-12-19","2060-12-20","2060-12-21","2060-12-22","2060-12-23","2060-12-24","2060-12-25","2060-12-26","2060-12-27","2060-12-28","2060-12-29","2060-12-30","2060-12-31","2061-01-01","2061-01-02","2061-01-03","2061-01-04","2061-01-05","2061-01-06","2061-01-07","2061-01-08","2061-01-09","2061-01-10","2061-01-11","2061-01-12","2061-01-13","2061-01-14","2061-01-15","2061-01-16","2061-01-17","2061-01-18","2061-01-19","2061-01-20","2061-01-21","2061-01-22","2061-01-23","2061-01-24","2061-01-25","2061-01-26","2061-01-27","2061-01-28","2061-01-29","2061-01-30","2061-01-31","2061-02-01",{"$f":"TOA4+1","v":"2061-02-02"},"2061-02-03","2061-02-04","2061-02-05","2061-02-06","2061-02-07","2061-02-08","2061-02-09","2061-02-10","2061-02-11","2061-02-12","2061-02-13","2061-02-14","2061-02-15","2061-02-16","2061-02-17","2061-02-18","2061-02-19","2061-02-20","2061-02-21","2061-02-22","2061-02-23","2061-02-24","2061-02-25","2061-02-26","2061-02-27","2061-02-28","2061-03-01","2061-03-02","2061-03-03","2061-03-04","2061-03-05","2061-03-06","2061-03-07","2061-03-08","2061-03-09","2061-03-10","2061-03-11","2061-03-12","2061-03-13","2061-03-14","2061-03-15","2061-03-16","2061-03-17","2061-03-18","2061-03-19","2061-03-20","2061-03-21","2061-03-22","2061-03-23","2061-03-24","2061-03-25","2061-03-26","2061-03-27","2061-03-28","2061-03-29","2061-03-30","2061-03-31","2061-04-01","2061-04-02","2061-04-03","2061-04-04","2061-04-05","2061-04-06",{"$f":"TQM4+1","v":"2061-04-07"},"2061-04-08","2061-04-09","2061-04-10","2061-04-11","2061-04-12","2061-04-13","2061-04-14","2061-04-15","2061-04-16","2061-04-17","2061-04-18","2061-04-19","2061-04-20","2061-04-21","2061-04-22","2061-04-23","2061-04-24","2061-04-25","2061-04-26","2061-04-27","2061-04-28","2061-04-29","2061-04-30","2061-05-01","2061-05-02","2061-05-03","2061-05-04","2061-05-05","2061-05-06","2061-05-07","2061-05-08","2061-05-09","2061-05-10","2061-05-11","2061-05-12","2061-05-13","2061-05-14","2061-05-15","2061-05-16","2061-05-17","2061-05-18","2061-05-19","2061-05-20","2061-05-21","2061-05-22","2061-05-23","2061-05-24","2061-05-25","2061-05-26","2061-05-27","2061-05-28","2061-05-29","2061-05-30","2061-05-31","2061-06-01","2061-06-02","2061-06-03","2061-06-04","2061-06-05","2061-06-06","2061-06-07","2061-06-08","2061-06-09",{"$f":"TSY4+1","v":"2061-06-10"},"2061-06-11","2061-06-12","2061-06-13","2061-06-14","2061-06-15","2061-06-16","2061-06-17","2061-06-18","2061-06-19","2061-06-20","2061-06-21","2061-06-22","2061-06-23","2061-06-24","2061-06-25","2061-06-26","2061-06-27","2061-06-28","2061-06-29","2061-06-30","2061-07-01","2061-07-02","2061-07-03","2061-07-04","2061-07-05","2061-07-06","2061-07-07","2061-07-08","2061-07-09","2061-07-10","2061-07-11","2061-07-12","2061-07-13","2061-07-14","2061-07-15","2061-07-16","2061-07-17","2061-07-18","2061-07-19","2061-07-20","2061-07-21","2061-07-22","2061-07-23","2061-07-24","2061-07-25","2061-07-26","2061-07-27","2061-07-28","2061-07-29","2061-07-30","2061-07-31","2061-08-01","2061-08-02","2061-08-03","2061-08-04","2061-08-05","2061-08-06","2061-08-07","2061-08-08","2061-08-09","2061-08-10","2061-08-11","2061-08-12",{"$f":"TVK4+1","v":"2061-08-13"},"2061-08-14","2061-08-15","2061-08-16","2061-08-17","2061-08-18","2061-08-19","2061-08-20","2061-08-21","2061-08-22","2061-08-23","2061-08-24","2061-08-25","2061-08-26","2061-08-27","2061-08-28","2061-08-29","2061-08-30","2061-08-31","2061-09-01","2061-09-02","2061-09-03","2061-09-04","2061-09-05","2061-09-06","2061-09-07","2061-09-08","2061-09-09","2061-09-10","2061-09-11","2061-09-12","2061-09-13","2061-09-14","2061-09-15","2061-09-16","2061-09-17","2061-09-18","2061-09-19","2061-09-20","2061-09-21","2061-09-22","2061-09-23","2061-09-24","2061-09-25","2061-09-26","2061-09-27","2061-09-28","2061-09-29","2061-09-30","2061-10-01","2061-10-02","2061-10-03","2061-10-04","2061-10-05","2061-10-06","2061-10-07","2061-10-08","2061-10-09","2061-10-10","2061-10-11","2061-10-12","2061-10-13","2061-10-14","2061-10-15",{"$f":"TXW4+1","v":"2061-10-16"},"2061-10-17","2061-10-18","2061-10-19","2061-10-20","2061-10-21","2061-10-22","2061-10-23","2061-10-24","2061-10-25","2061-10-26","2061-10-27","2061-10-28","2061-10-29","2061-10-30","2061-10-31","2061-11-01","2061-11-02","2061-11-03","2061-11-04","2061-11-05","2061-11-06","2061-11-07","2061-11-08","2061-11-09","2061-11-10","2061-11-11","2061-11-12","2061-11-13","2061-11-14","2061-11-15","2061-11-16","2061-11-17","2061-11-18","2061-11-19","2061-11-20","2061-11-21","2061-11-22","2061-11-23","2061-11-24","2061-11-25","2061-11-26","2061-11-27","2061-11-28","2061-11-29","2061-11-30","2061-12-01","2061-12-02","2061-12-03","2061-12-04","2061-12-05","2061-12-06","2061-12-07","2061-12-08","2061-12-09","2061-12-10","2061-12-11","2061-12-12","2061-12-13","2061-12-14","2061-12-15","2061-12-16","2061-12-17","2061-12-18",{"$f":"UAI4+1","v":"2061-12-19"},"2061-12-20","2061-12-21","2061-12-22","2061-12-23","2061-12-24","2061-12-25","2061-12-26","2061-12-27","2061-12-28","2061-12-29","2061-12-30","2061-12-31","2062-01-01","2062-01-02","2062-01-03","2062-01-04","2062-01-05","2062-01-06","2062-01-07","2062-01-08","2062-01-09","2062-01-10","2062-01-11","2062-01-12","2062-01-13","2062-01-14","2062-01-15","2062-01-16","2062-01-17","2062-01-18","2062-01-19","2062-01-20","2062-01-21","2062-01-22","2062-01-23","2062-01-24","2062-01-25","2062-01-26","2062-01-27","2062-01-28","2062-01-29","2062-01-30","2062-01-31","2062-02-01","2062-02-02","2062-02-03","2062-02-04","2062-02-05","2062-02-06","2062-02-07","2062-02-08","2062-02-09","2062-02-10","2062-02-11","2062-02-12","2062-02-13","2062-02-14","2062-02-15","2062-02-16","2062-02-17","2062-02-18","2062-02-19","2062-02-20",{"$f":"UCU4+1","v":"2062-02-21"},"2062-02-22","2062-02-23","2062-02-24","2062-02-25","2062-02-26","2062-02-27","2062-02-28","2062-03-01","2062-03-02","2062-03-03","2062-03-04","2062-03-05","2062-03-06","2062-03-07","2062-03-08","2062-03-09","2062-03-10","2062-03-11","2062-03-12","2062-03-13","2062-03-14","2062-03-15","2062-03-16","2062-03-17","2062-03-18","2062-03-19","2062-03-20","2062-03-21","2062-03-22","2062-03-23","2062-03-24","2062-03-25","2062-03-26","2062-03-27","2062-03-28","2062-03-29","2062-03-30","2062-03-31","2062-04-01","2062-04-02","2062-04-03","2062-04-04","2062-04-05","2062-04-06","2062-04-07","2062-04-08","2062-04-09","2062-04-10","2062-04-11","2062-04-12","2062-04-13","2062-04-14","2062-04-15","2062-04-16","2062-04-17","2062-04-18","2062-04-19","2062-04-20","2062-04-21","2062-04-22","2062-04-23","2062-04-24","2062-04-25",{"$f":"UFG4+1","v":"2062-04-26"},"2062-04-27","2062-04-28","2062-04-29","2062-04-30","2062-05-01","2062-05-02","2062-05-03","2062-05-04","2062-05-05","2062-05-06","2062-05-07","2062-05-08","2062-05-09","2062-05-10","2062-05-11","2062-05-12","2062-05-13","2062-05-14","2062-05-15","2062-05-16","2062-05-17","2062-05-18","2062-05-19","2062-05-20","2062-05-21","2062-05-22","2062-05-23","2062-05-24","2062-05-25","2062-05-26","2062-05-27","2062-05-28","2062-05-29","2062-05-30","2062-05-31","2062-06-01","2062-06-02","2062-06-03","2062-06-04","2062-06-05","2062-06-06","2062-06-07","2062-06-08","2062-06-09","2062-06-10","2062-06-11","2062-06-12","2062-06-13","2062-06-14","2062-06-15","2062-06-16","2062-06-17","2062-06-18","2062-06-19","2062-06-20","2062-06-21","2062-06-22","2062-06-23","2062-06-24","2062-06-25","2062-06-26","2062-06-27","2062-06-28",{"$f":"UHS4+1","v":"2062-06-29"},"2062-06-30","2062-07-01","2062-07-02","2062-07-03","2062-07-04","2062-07-05","2062-07-06","2062-07-07","2062-07-08","2062-07-09","2062-07-10","2062-07-11","2062-07-12","2062-07-13","2062-07-14","2062-07-15","2062-07-16","2062-07-17","2062-07-18","2062-07-19","2062-07-20","2062-07-21","2062-07-22","2062-07-23","2062-07-24","2062-07-25","2062-07-26","2062-07-27","2062-07-28","2062-07-29","2062-07-30","2062-07-31","2062-08-01","2062-08-02","2062-08-03","2062-08-04","2062-08-05","2062-08-06","2062-08-07","2062-08-08","2062-08-09","2062-08-10","2062-08-11","2062-08-12","2062-08-13","2062-08-14","2062-08-15","2062-08-16","2062-08-17","2062-08-18","2062-08-19","2062-08-20","2062-08-21","2062-08-22","2062-08-23","2062-08-24","2062-08-25","2062-08-26","2062-08-27","2062-08-28","2062-08-29","2062-08-30","2062-08-31",{"$f":"UKE4+1","v":"2062-09-01"},"2062-09-02","2062-09-03","2062-09-04","2062-09-05","2062-09-06","2062-09-07","2062-09-08","2062-09-09","2062-09-10","2062-09-11","2062-09-12","2062-09-13","2062-09-14","2062-09-15","2062-09-16","2062-09-17","2062-09-18","2062-09-19","2062-09-20","2062-09-21","2062-09-22","2062-09-23","2062-09-24","2062-09-25","2062-09-26","2062-09-27","2062-09-28","2062-09-29","2062-09-30","2062-10-01","2062-10-02","2062-10-03","2062-10-04","2062-10-05","2062-10-06","2062-10-07","2062-10-08","2062-10-09","2062-10-10","2062-10-11","2062-10-12","2062-10-13","2062-10-14","2062-10-15","2062-10-16","2062-10-17","2062-10-18","2062-10-19","2062-10-20","2062-10-21","2062-10-22","2062-10-23","2062-10-24","2062-10-25","2062-10-26","2062-10-27","2062-10-28","2062-10-29","2062-10-30","2062-10-31","2062-11-01","2062-11-02","2062-11-03",{"$f":"UMQ4+1","v":"2062-11-04"},"2062-11-05","2062-11-06","2062-11-07","2062-11-08","2062-11-09","2062-11-10","2062-11-11","2062-11-12","2062-11-13","2062-11-14","2062-11-15","2062-11-16","2062-11-17","2062-11-18","2062-11-19","2062-11-20","2062-11-21","2062-11-22","2062-11-23","2062-11-24","2062-11-25","2062-11-26","2062-11-27","2062-11-28","2062-11-29","2062-11-30","2062-12-01","2062-12-02","2062-12-03","2062-12-04","2062-12-05","2062-12-06","2062-12-07","2062-12-08","2062-12-09","2062-12-10","2062-12-11","2062-12-12","2062-12-13","2062-12-14","2062-12-15","2062-12-16","2062-12-17","2062-12-18","2062-12-19","2062-12-20","2062-12-21","2062-12-22","2062-12-23","2062-12-24","2062-12-25","2062-12-26","2062-12-27","2062-12-28","2062-12-29","2062-12-30","2062-12-31","2063-01-01","2063-01-02","2063-01-03","2063-01-04","2063-01-05","2063-01-06",{"$f":"UPC4+1","v":"2063-01-07"},"2063-01-08","2063-01-09","2063-01-10","2063-01-11","2063-01-12","2063-01-13","2063-01-14","2063-01-15","2063-01-16","2063-01-17","2063-01-18","2063-01-19","2063-01-20","2063-01-21","2063-01-22","2063-01-23","2063-01-24","2063-01-25","2063-01-26","2063-01-27","2063-01-28","2063-01-29","2063-01-30","2063-01-31","2063-02-01","2063-02-02","2063-02-03","2063-02-04","2063-02-05","2063-02-06","2063-02-07","2063-02-08","2063-02-09","2063-02-10","2063-02-11","2063-02-12","2063-02-13","2063-02-14","2063-02-15","2063-02-16","2063-02-17","2063-02-18","2063-02-19","2063-02-20","2063-02-21","2063-02-22","2063-02-23","2063-02-24","2063-02-25","2063-02-26","2063-02-27","2063-02-28","2063-03-01","2063-03-02","2063-03-03","2063-03-04","2063-03-05","2063-03-06","2063-03-07","2063-03-08","2063-03-09","2063-03-10","2063-03-11",{"$f":"URO4+1","v":"2063-03-12"},"2063-03-13","2063-03-14","2063-03-15","2063-03-16","2063-03-17","2063-03-18","2063-03-19","2063-03-20","2063-03-21","2063-03-22","2063-03-23","2063-03-24","2063-03-25","2063-03-26","2063-03-27","2063-03-28","2063-03-29","2063-03-30","2063-03-31","2063-04-01","2063-04-02","2063-04-03","2063-04-04","2063-04-05","2063-04-06","2063-04-07","2063-04-08","2063-04-09","2063-04-10","2063-04-11","2063-04-12","2063-04-13","2063-04-14","2063-04-15","2063-04-16","2063-04-17","2063-04-18","2063-04-19","2063-04-20","2063-04-21","2063-04-22","2063-04-23","2063-04-24","2063-04-25","2063-04-26","2063-04-27","2063-04-28","2063-04-29","2063-04-30","2063-05-01","2063-05-02","2063-05-03","2063-05-04","2063-05-05","2063-05-06","2063-05-07","2063-05-08","2063-05-09","2063-05-10","2063-05-11","2063-05-12","2063-05-13","2063-05-14",{"$f":"UUA4+1","v":"2063-05-15"},"2063-05-16","2063-05-17","2063-05-18","2063-05-19","2063-05-20","2063-05-21","2063-05-22","2063-05-23","2063-05-24","2063-05-25","2063-05-26","2063-05-27","2063-05-28","2063-05-29","2063-05-30","2063-05-31","2063-06-01","2063-06-02","2063-06-03","2063-06-04","2063-06-05","2063-06-06","2063-06-07","2063-06-08","2063-06-09","2063-06-10","2063-06-11","2063-06-12","2063-06-13","2063-06-14","2063-06-15","2063-06-16","2063-06-17","2063-06-18","2063-06-19","2063-06-20","2063-06-21","2063-06-22","2063-06-23","2063-06-24","2063-06-25","2063-06-26","2063-06-27","2063-06-28","2063-06-29","2063-06-30","2063-07-01","2063-07-02","2063-07-03","2063-07-04","2063-07-05","2063-07-06","2063-07-07","2063-07-08","2063-07-09","2063-07-10","2063-07-11","2063-07-12","2063-07-13","2063-07-14","2063-07-15","2063-07-16","2063-07-17",{"$f":"UWM4+1","v":"2063-07-18"},"2063-07-19","2063-07-20","2063-07-21","2063-07-22","2063-07-23","2063-07-24","2063-07-25","2063-07-26","2063-07-27","2063-07-28","2063-07-29","2063-07-30","2063-07-31","2063-08-01","2063-08-02","2063-08-03","2063-08-04","2063-08-05","2063-08-06","2063-08-07","2063-08-08","2063-08-09","2063-08-10","2063-08-11","2063-08-12","2063-08-13","2063-08-14","2063-08-15","2063-08-16","2063-08-17","2063-08-18","2063-08-19","2063-08-20","2063-08-21","2063-08-22","2063-08-23","2063-08-24","2063-08-25","2063-08-26","2063-08-27","2063-08-28","2063-08-29","2063-08-30","2063-08-31","2063-09-01","2063-09-02","2063-09-03","2063-09-04","2063-09-05","2063-09-06","2063-09-07","2063-09-08","2063-09-09","2063-09-10","2063-09-11","2063-09-12","2063-09-13","2063-09-14","2063-09-15","2063-09-16","2063-09-17","2063-09-18","2063-09-19",{"$f":"UYY4+1","v":"2063-09-20"},"2063-09-21","2063-09-22","2063-09-23","2063-09-24","2063-09-25","2063-09-26","2063-09-27","2063-09-28","2063-09-29","2063-09-30","2063-10-01","2063-10-02","2063-10-03","2063-10-04","2063-10-05","2063-10-06","2063-10-07","2063-10-08","2063-10-09","2063-10-10","2063-10-11","2063-10-12","2063-10-13","2063-10-14","2063-10-15","2063-10-16","2063-10-17","2063-10-18","2063-10-19","2063-10-20","2063-10-21","2063-10-22","2063-10-23","2063-10-24","2063-10-25","2063-10-26","2063-10-27","2063-10-28","2063-10-29","2063-10-30","2063-10-31","2063-11-01","2063-11-02","2063-11-03","2063-11-04","2063-11-05","2063-11-06","2063-11-07","2063-11-08","2063-11-09","2063-11-10","2063-11-11","2063-11-12","2063-11-13","2063-11-14","2063-11-15","2063-11-16","2063-11-17","2063-11-18","2063-11-19","2063-11-20","2063-11-21","2063-11-22",{"$f":"VBK4+1","v":"2063-11-23"},"2063-11-24","2063-11-25","2063-11-26","2063-11-27","2063-11-28","2063-11-29","2063-11-30","2063-12-01","2063-12-02","2063-12-03","2063-12-04","2063-12-05","2063-12-06","2063-12-07","2063-12-08","2063-12-09","2063-12-10","2063-12-11","2063-12-12","2063-12-13","2063-12-14","2063-12-15","2063-12-16","2063-12-17","2063-12-18","2063-12-19","2063-12-20","2063-12-21","2063-12-22","2063-12-23","2063-12-24","2063-12-25","2063-12-26","2063-12-27","2063-12-28","2063-12-29","2063-12-30","2063-12-31","2064-01-01","2064-01-02","2064-01-03","2064-01-04","2064-01-05","2064-01-06","2064-01-07","2064-01-08","2064-01-09","2064-01-10","2064-01-11","2064-01-12","2064-01-13","2064-01-14","2064-01-15","2064-01-16","2064-01-17","2064-01-18","2064-01-19","2064-01-20","2064-01-21","2064-01-22","2064-01-23","2064-01-24","2064-01-25",{"$f":"VDW4+1","v":"2064-01-26"},"2064-01-27","2064-01-28","2064-01-29","2064-01-30","2064-01-31","2064-02-01","2064-02-02","2064-02-03","2064-02-04","2064-02-05","2064-02-06","2064-02-07","2064-02-08","2064-02-09","2064-02-10","2064-02-11","2064-02-12","2064-02-13","2064-02-14","2064-02-15","2064-02-16","2064-02-17","2064-02-18","2064-02-19","2064-02-20","2064-02-21","2064-02-22","2064-02-23","2064-02-24","2064-02-25","2064-02-26","2064-02-27","2064-02-28","2064-02-29","2064-03-01","2064-03-02","2064-03-03","2064-03-04","2064-03-05","2064-03-06","2064-03-07","2064-03-08","2064-03-09","2064-03-10","2064-03-11","2064-03-12","2064-03-13","2064-03-14","2064-03-15","2064-03-16","2064-03-17","2064-03-18","2064-03-19","2064-03-20","2064-03-21","2064-03-22","2064-03-23","2064-03-24","2064-03-25","2064-03-26","2064-03-27","2064-03-28","2064-03-29",{"$f":"VGI4+1","v":"2064-03-30"},"2064-03-31","2064-04-01","2064-04-02","2064-04-03","2064-04-04","2064-04-05","2064-04-06","2064-04-07","2064-04-08","2064-04-09","2064-04-10","2064-04-11","2064-04-12","2064-04-13","2064-04-14","2064-04-15","2064-04-16","2064-04-17","2064-04-18","2064-04-19","2064-04-20","2064-04-21","2064-04-22","2064-04-23","2064-04-24","2064-04-25","2064-04-26","2064-04-27","2064-04-28","2064-04-29","2064-04-30","2064-05-01","2064-05-02","2064-05-03","2064-05-04","2064-05-05","2064-05-06","2064-05-07","2064-05-08","2064-05-09","2064-05-10","2064-05-11","2064-05-12","2064-05-13","2064-05-14","2064-05-15","2064-05-16","2064-05-17","2064-05-18","2064-05-19","2064-05-20","2064-05-21","2064-05-22","2064-05-23","2064-05-24","2064-05-25","2064-05-26","2064-05-27","2064-05-28","2064-05-29","2064-05-30","2064-05-31","2064-06-01",{"$f":"VIU4+1","v":"2064-06-02"},"2064-06-03","2064-06-04","2064-06-05","2064-06-06","2064-06-07","2064-06-08","2064-06-09","2064-06-10","2064-06-11","2064-06-12","2064-06-13","2064-06-14","2064-06-15","2064-06-16","2064-06-17","2064-06-18","2064-06-19","2064-06-20","2064-06-21","2064-06-22","2064-06-23","2064-06-24","2064-06-25","2064-06-26","2064-06-27","2064-06-28","2064-06-29","2064-06-30","2064-07-01","2064-07-02","2064-07-03","2064-07-04","2064-07-05","2064-07-06","2064-07-07","2064-07-08","2064-07-09","2064-07-10","2064-07-11","2064-07-12","2064-07-13","2064-07-14","2064-07-15","2064-07-16","2064-07-17","2064-07-18","2064-07-19","2064-07-20","2064-07-21","2064-07-22","2064-07-23","2064-07-24","2064-07-25","2064-07-26","2064-07-27","2064-07-28","2064-07-29","2064-07-30","2064-07-31","2064-08-01","2064-08-02","2064-08-03","2064-08-04",{"$f":"VLG4+1","v":"2064-08-05"},"2064-08-06","2064-08-07","2064-08-08","2064-08-09","2064-08-10","2064-08-11","2064-08-12","2064-08-13","2064-08-14","2064-08-15","2064-08-16","2064-08-17","2064-08-18","2064-08-19","2064-08-20","2064-08-21","2064-08-22","2064-08-23","2064-08-24","2064-08-25","2064-08-26","2064-08-27","2064-08-28","2064-08-29","2064-08-30","2064-08-31","2064-09-01","2064-09-02","2064-09-03","2064-09-04","2064-09-05","2064-09-06","2064-09-07","2064-09-08","2064-09-09","2064-09-10","2064-09-11","2064-09-12","2064-09-13","2064-09-14","2064-09-15","2064-09-16","2064-09-17","2064-09-18","2064-09-19","2064-09-20","2064-09-21","2064-09-22","2064-09-23","2064-09-24","2064-09-25","2064-09-26","2064-09-27","2064-09-28","2064-09-29","2064-09-30","2064-10-01","2064-10-02","2064-10-03","2064-10-04","2064-10-05","2064-10-06","2064-10-07",{"$f":"VNS4+1","v":"2064-10-08"},"2064-10-09","2064-10-10","2064-10-11","2064-10-12","2064-10-13","2064-10-14","2064-10-15","2064-10-16","2064-10-17","2064-10-18","2064-10-19","2064-10-20","2064-10-21","2064-10-22","2064-10-23","2064-10-24","2064-10-25","2064-10-26","2064-10-27","2064-10-28","2064-10-29","2064-10-30","2064-10-31","2064-11-01","2064-11-02","2064-11-03","2064-11-04","2064-11-05","2064-11-06","2064-11-07","2064-11-08","2064-11-09","2064-11-10","2064-11-11","2064-11-12","2064-11-13","2064-11-14","2064-11-15","2064-11-16","2064-11-17","2064-11-18","2064-11-19","2064-11-20","2064-11-21","2064-11-22","2064-11-23","2064-11-24","2064-11-25","2064-11-26","2064-11-27","2064-11-28","2064-11-29","2064-11-30","2064-12-01","2064-12-02","2064-12-03","2064-12-04","2064-12-05","2064-12-06","2064-12-07","2064-12-08","2064-12-09","2064-12-10",{"$f":"VQE4+1","v":"2064-12-11"},"2064-12-12","2064-12-13","2064-12-14","2064-12-15","2064-12-16","2064-12-17","2064-12-18","2064-12-19","2064-12-20","2064-12-21","2064-12-22","2064-12-23","2064-12-24","2064-12-25","2064-12-26","2064-12-27","2064-12-28","2064-12-29","2064-12-30","2064-12-31","2065-01-01","2065-01-02","2065-01-03","2065-01-04","2065-01-05","2065-01-06","2065-01-07","2065-01-08","2065-01-09","2065-01-10","2065-01-11","2065-01-12","2065-01-13","2065-01-14","2065-01-15","2065-01-16","2065-01-17","2065-01-18","2065-01-19","2065-01-20","2065-01-21","2065-01-22","2065-01-23","2065-01-24","2065-01-25","2065-01-26","2065-01-27","2065-01-28","2065-01-29","2065-01-30","2065-01-31","2065-02-01","2065-02-02","2065-02-03","2065-02-04","2065-02-05","2065-02-06","2065-02-07","2065-02-08","2065-02-09","2065-02-10","2065-02-11","2065-02-12",{"$f":"VSQ4+1","v":"2065-02-13"},"2065-02-14","2065-02-15","2065-02-16","2065-02-17","2065-02-18","2065-02-19","2065-02-20","2065-02-21","2065-02-22","2065-02-23","2065-02-24","2065-02-25","2065-02-26","2065-02-27","2065-02-28","2065-03-01","2065-03-02","2065-03-03","2065-03-04","2065-03-05","2065-03-06","2065-03-07","2065-03-08","2065-03-09","2065-03-10","2065-03-11","2065-03-12","2065-03-13","2065-03-14","2065-03-15","2065-03-16","2065-03-17","2065-03-18","2065-03-19","2065-03-20","2065-03-21","2065-03-22","2065-03-23","2065-03-24","2065-03-25","2065-03-26","2065-03-27","2065-03-28","2065-03-29","2065-03-30","2065-03-31","2065-04-01","2065-04-02","2065-04-03","2065-04-04","2065-04-05","2065-04-06","2065-04-07","2065-04-08","2065-04-09","2065-04-10","2065-04-11","2065-04-12","2065-04-13","2065-04-14","2065-04-15","2065-04-16","2065-04-17",{"$f":"VVC4+1","v":"2065-04-18"},"2065-04-19","2065-04-20","2065-04-21","2065-04-22","2065-04-23","2065-04-24","2065-04-25","2065-04-26","2065-04-27","2065-04-28","2065-04-29","2065-04-30","2065-05-01","2065-05-02","2065-05-03","2065-05-04","2065-05-05","2065-05-06","2065-05-07","2065-05-08","2065-05-09","2065-05-10","2065-05-11","2065-05-12","2065-05-13","2065-05-14","2065-05-15","2065-05-16","2065-05-17","2065-05-18","2065-05-19","2065-05-20","2065-05-21","2065-05-22","2065-05-23","2065-05-24","2065-05-25","2065-05-26","2065-05-27","2065-05-28","2065-05-29","2065-05-30","2065-05-31","2065-06-01","2065-06-02","2065-06-03","2065-06-04","2065-06-05","2065-06-06","2065-06-07","2065-06-08","2065-06-09","2065-06-10","2065-06-11","2065-06-12","2065-06-13","2065-06-14","2065-06-15","2065-06-16","2065-06-17","2065-06-18","2065-06-19","2065-06-20",{"$f":"VXO4+1","v":"2065-06-21"},"2065-06-22","2065-06-23","2065-06-24","2065-06-25","2065-06-26","2065-06-27","2065-06-28","2065-06-29","2065-06-30","2065-07-01","2065-07-02","2065-07-03","2065-07-04","2065-07-05","2065-07-06","2065-07-07","2065-07-08","2065-07-09","2065-07-10","2065-07-11","2065-07-12","2065-07-13","2065-07-14","2065-07-15","2065-07-16","2065-07-17","2065-07-18","2065-07-19","2065-07-20","2065-07-21","2065-07-22","2065-07-23","2065-07-24","2065-07-25","2065-07-26","2065-07-27","2065-07-28","2065-07-29","2065-07-30","2065-07-31","2065-08-01","2065-08-02","2065-08-03","2065-08-04","2065-08-05","2065-08-06","2065-08-07","2065-08-08","2065-08-09","2065-08-10","2065-08-11","2065-08-12","2065-08-13","2065-08-14","2065-08-15","2065-08-16","2065-08-17","2065-08-18","2065-08-19","2065-08-20","2065-08-21","2065-08-22","2065-08-23",{"$f":"WAA4+1","v":"2065-08-24"},"2065-08-25","2065-08-26","2065-08-27","2065-08-28","2065-08-29","2065-08-30","2065-08-31","2065-09-01","2065-09-02","2065-09-03","2065-09-04","2065-09-05","2065-09-06","2065-09-07","2065-09-08","2065-09-09","2065-09-10","2065-09-11","2065-09-12","2065-09-13","2065-09-14","2065-09-15","2065-09-16","2065-09-17","2065-09-18","2065-09-19","2065-09-20","2065-09-21","2065-09-22","2065-09-23","2065-09-24","2065-09-25","2065-09-26","2065-09-27","2065-09-28","2065-09-29","2065-09-30","2065-10-01","2065-10-02","2065-10-03","2065-10-04","2065-10-05","2065-10-06","2065-10-07","2065-10-08","2065-10-09","2065-10-10","2065-10-11","2065-10-12","2065-10-13","2065-10-14","2065-10-15","2065-10-16","2065-10-17","2065-10-18","2065-10-19","2065-10-20","2065-10-21","2065-10-22","2065-10-23","2065-10-24","2065-10-25","2065-10-26",{"$f":"WCM4+1","v":"2065-10-27"},"2065-10-28","2065-10-29","2065-10-30","2065-10-31","2065-11-01","2065-11-02","2065-11-03","2065-11-04","2065-11-05","2065-11-06","2065-11-07","2065-11-08","2065-11-09","2065-11-10","2065-11-11","2065-11-12","2065-11-13","2065-11-14","2065-11-15","2065-11-16","2065-11-17","2065-11-18","2065-11-19","2065-11-20","2065-11-21","2065-11-22","2065-11-23","2065-11-24","2065-11-25","2065-11-26","2065-11-27","2065-11-28","2065-11-29","2065-11-30","2065-12-01","2065-12-02","2065-12-03","2065-12-04","2065-12-05","2065-12-06","2065-12-07","2065-12-08","2065-12-09","2065-12-10","2065-12-11","2065-12-12","2065-12-13","2065-12-14","2065-12-15","2065-12-16","2065-12-17","2065-12-18","2065-12-19","2065-12-20","2065-12-21","2065-12-22","2065-12-23","2065-12-24","2065-12-25","2065-12-26","2065-12-27","2065-12-28","2065-12-29",{"$f":"WEY4+1","v":"2065-12-30"},"2065-12-31","2066-01-01","2066-01-02","2066-01-03","2066-01-04","2066-01-05","2066-01-06","2066-01-07","2066-01-08","2066-01-09","2066-01-10","2066-01-11","2066-01-12","2066-01-13","2066-01-14","2066-01-15","2066-01-16","2066-01-17","2066-01-18","2066-01-19","2066-01-20","2066-01-21","2066-01-22","2066-01-23","2066-01-24","2066-01-25","2066-01-26","2066-01-27","2066-01-28","2066-01-29","2066-01-30","2066-01-31","2066-02-01","2066-02-02","2066-02-03","2066-02-04","2066-02-05","2066-02-06","2066-02-07","2066-02-08","2066-02-09","2066-02-10","2066-02-11","2066-02-12","2066-02-13","2066-02-14","2066-02-15","2066-02-16","2066-02-17","2066-02-18","2066-02-19","2066-02-20","2066-02-21","2066-02-22","2066-02-23","2066-02-24","2066-02-25","2066-02-26","2066-02-27","2066-02-28","2066-03-01","2066-03-02","2066-03-03",{"$f":"WHK4+1","v":"2066-03-04"},"2066-03-05","2066-03-06","2066-03-07","2066-03-08","2066-03-09","2066-03-10","2066-03-11","2066-03-12","2066-03-13","2066-03-14","2066-03-15","2066-03-16","2066-03-17","2066-03-18","2066-03-19","2066-03-20","2066-03-21","2066-03-22","2066-03-23","2066-03-24","2066-03-25","2066-03-26","2066-03-27","2066-03-28","2066-03-29","2066-03-30","2066-03-31","2066-04-01","2066-04-02","2066-04-03","2066-04-04","2066-04-05","2066-04-06","2066-04-07","2066-04-08","2066-04-09","2066-04-10","2066-04-11","2066-04-12","2066-04-13","2066-04-14","2066-04-15","2066-04-16","2066-04-17","2066-04-18","2066-04-19","2066-04-20","2066-04-21","2066-04-22","2066-04-23","2066-04-24","2066-04-25","2066-04-26","2066-04-27","2066-04-28","2066-04-29","2066-04-30","2066-05-01","2066-05-02","2066-05-03","2066-05-04","2066-05-05","2066-05-06",{"$f":"WJW4+1","v":"2066-05-07"},"2066-05-08","2066-05-09","2066-05-10","2066-05-11","2066-05-12","2066-05-13","2066-05-14","2066-05-15","2066-05-16","2066-05-17","2066-05-18","2066-05-19","2066-05-20","2066-05-21","2066-05-22","2066-05-23","2066-05-24","2066-05-25","2066-05-26","2066-05-27","2066-05-28","2066-05-29","2066-05-30","2066-05-31","2066-06-01","2066-06-02","2066-06-03","2066-06-04","2066-06-05","2066-06-06","2066-06-07","2066-06-08","2066-06-09","2066-06-10","2066-06-11","2066-06-12","2066-06-13","2066-06-14","2066-06-15","2066-06-16","2066-06-17","2066-06-18","2066-06-19","2066-06-20","2066-06-21","2066-06-22","2066-06-23","2066-06-24","2066-06-25","2066-06-26","2066-06-27","2066-06-28","2066-06-29","2066-06-30","2066-07-01","2066-07-02","2066-07-03","2066-07-04","2066-07-05","2066-07-06","2066-07-07","2066-07-08","2066-07-09",{"$f":"WMI4+1","v":"2066-07-10"},"2066-07-11","2066-07-12","2066-07-13","2066-07-14","2066-07-15","2066-07-16","2066-07-17","2066-07-18","2066-07-19","2066-07-20","2066-07-21","2066-07-22","2066-07-23","2066-07-24","2066-07-25","2066-07-26","2066-07-27","2066-07-28","2066-07-29","2066-07-30","2066-07-31","2066-08-01","2066-08-02","2066-08-03","2066-08-04","2066-08-05","2066-08-06","2066-08-07","2066-08-08","2066-08-09","2066-08-10","2066-08-11","2066-08-12","2066-08-13","2066-08-14","2066-08-15","2066-08-16","2066-08-17","2066-08-18","2066-08-19","2066-08-20","2066-08-21","2066-08-22","2066-08-23","2066-08-24","2066-08-25","2066-08-26","2066-08-27","2066-08-28","2066-08-29","2066-08-30","2066-08-31","2066-09-01","2066-09-02","2066-09-03","2066-09-04","2066-09-05","2066-09-06","2066-09-07","2066-09-08","2066-09-09","2066-09-10","2066-09-11",{"$f":"WOU4+1","v":"2066-09-12"},"2066-09-13","2066-09-14","2066-09-15","2066-09-16","2066-09-17","2066-09-18","2066-09-19","2066-09-20","2066-09-21","2066-09-22","2066-09-23","2066-09-24","2066-09-25","2066-09-26","2066-09-27","2066-09-28","2066-09-29","2066-09-30","2066-10-01","2066-10-02","2066-10-03","2066-10-04","2066-10-05","2066-10-06","2066-10-07","2066-10-08","2066-10-09","2066-10-10","2066-10-11","2066-10-12","2066-10-13","2066-10-14","2066-10-15","2066-10-16","2066-10-17","2066-10-18","2066-10-19","2066-10-20","2066-10-21","2066-10-22","2066-10-23","2066-10-24","2066-10-25","2066-10-26","2066-10-27","2066-10-28","2066-10-29","2066-10-30","2066-10-31","2066-11-01","2066-11-02","2066-11-03","2066-11-04","2066-11-05","2066-11-06","2066-11-07","2066-11-08","2066-11-09","2066-11-10","2066-11-11","2066-11-12","2066-11-13","2066-11-14",{"$f":"WRG4+1","v":"2066-11-15"},"2066-11-16","2066-11-17","2066-11-18","2066-11-19","2066-11-20","2066-11-21","2066-11-22","2066-11-23","2066-11-24","2066-11-25","2066-11-26","2066-11-27","2066-11-28","2066-11-29","2066-11-30","2066-12-01","2066-12-02","2066-12-03","2066-12-04","2066-12-05","2066-12-06","2066-12-07","2066-12-08","2066-12-09","2066-12-10","2066-12-11","2066-12-12","2066-12-13","2066-12-14","2066-12-15","2066-12-16","2066-12-17","2066-12-18","2066-12-19","2066-12-20","2066-12-21","2066-12-22","2066-12-23","2066-12-24","2066-12-25","2066-12-26","2066-12-27","2066-12-28","2066-12-29","2066-12-30","2066-12-31","2067-01-01","2067-01-02","2067-01-03","2067-01-04","2067-01-05","2067-01-06","2067-01-07","2067-01-08","2067-01-09","2067-01-10","2067-01-11","2067-01-12","2067-01-13","2067-01-14","2067-01-15","2067-01-16","2067-01-17",{"$f":"WTS4+1","v":"2067-01-18"},"2067-01-19","2067-01-20","2067-01-21","2067-01-22","2067-01-23","2067-01-24","2067-01-25","2067-01-26","2067-01-27","2067-01-28","2067-01-29","2067-01-30","2067-01-31","2067-02-01","2067-02-02","2067-02-03","2067-02-04","2067-02-05","2067-02-06","2067-02-07","2067-02-08","2067-02-09","2067-02-10","2067-02-11","2067-02-12","2067-02-13","2067-02-14","2067-02-15","2067-02-16","2067-02-17","2067-02-18","2067-02-19","2067-02-20","2067-02-21","2067-02-22","2067-02-23","2067-02-24","2067-02-25","2067-02-26","2067-02-27","2067-02-28","2067-03-01","2067-03-02","2067-03-03","2067-03-04","2067-03-05","2067-03-06","2067-03-07","2067-03-08","2067-03-09","2067-03-10","2067-03-11","2067-03-12","2067-03-13","2067-03-14","2067-03-15","2067-03-16","2067-03-17","2067-03-18","2067-03-19","2067-03-20","2067-03-21","2067-03-22",{"$f":"WWE4+1","v":"2067-03-23"},"2067-03-24","2067-03-25","2067-03-26","2067-03-27","2067-03-28","2067-03-29","2067-03-30","2067-03-31","2067-04-01","2067-04-02","2067-04-03","2067-04-04","2067-04-05","2067-04-06","2067-04-07","2067-04-08","2067-04-09","2067-04-10","2067-04-11","2067-04-12","2067-04-13","2067-04-14","2067-04-15","2067-04-16","2067-04-17","2067-04-18","2067-04-19","2067-04-20","2067-04-21","2067-04-22","2067-04-23","2067-04-24","2067-04-25","2067-04-26","2067-04-27","2067-04-28","2067-04-29","2067-04-30","2067-05-01","2067-05-02","2067-05-03","2067-05-04","2067-05-05","2067-05-06","2067-05-07","2067-05-08","2067-05-09","2067-05-10","2067-05-11","2067-05-12","2067-05-13","2067-05-14","2067-05-15","2067-05-16","2067-05-17","2067-05-18","2067-05-19","2067-05-20","2067-05-21","2067-05-22","2067-05-23","2067-05-24","2067-05-25",{"$f":"WYQ4+1","v":"2067-05-26"},"2067-05-27","2067-05-28","2067-05-29","2067-05-30","2067-05-31","2067-06-01","2067-06-02","2067-06-03","2067-06-04","2067-06-05","2067-06-06","2067-06-07","2067-06-08","2067-06-09","2067-06-10","2067-06-11","2067-06-12","2067-06-13","2067-06-14","2067-06-15","2067-06-16","2067-06-17","2067-06-18","2067-06-19","2067-06-20","2067-06-21","2067-06-22","2067-06-23","2067-06-24","2067-06-25","2067-06-26","2067-06-27","2067-06-28","2067-06-29","2067-06-30","2067-07-01","2067-07-02","2067-07-03","2067-07-04","2067-07-05","2067-07-06","2067-07-07","2067-07-08","2067-07-09","2067-07-10","2067-07-11","2067-07-12","2067-07-13","2067-07-14","2067-07-15","2067-07-16","2067-07-17","2067-07-18","2067-07-19","2067-07-20","2067-07-21","2067-07-22","2067-07-23","2067-07-24","2067-07-25","2067-07-26","2067-07-27","2067-07-28",{"$f":"XBC4+1","v":"2067-07-29"},"2067-07-30","2067-07-31","2067-08-01","2067-08-02","2067-08-03","2067-08-04","2067-08-05","2067-08-06","2067-08-07","2067-08-08","2067-08-09","2067-08-10","2067-08-11","2067-08-12","2067-08-13","2067-08-14","2067-08-15","2067-08-16","2067-08-17","2067-08-18","2067-08-19","2067-08-20","2067-08-21","2067-08-22","2067-08-23","2067-08-24","2067-08-25","2067-08-26","2067-08-27","2067-08-28","2067-08-29","2067-08-30","2067-08-31","2067-09-01","2067-09-02","2067-09-03","2067-09-04","2067-09-05","2067-09-06","2067-09-07","2067-09-08","2067-09-09","2067-09-10","2067-09-11","2067-09-12","2067-09-13","2067-09-14","2067-09-15","2067-09-16","2067-09-17","2067-09-18","2067-09-19","2067-09-20","2067-09-21","2067-09-22","2067-09-23","2067-09-24","2067-09-25","2067-09-26","2067-09-27","2067-09-28","2067-09-29","2067-09-30",{"$f":"XDO4+1","v":"2067-10-01"},"2067-10-02","2067-10-03","2067-10-04","2067-10-05","2067-10-06","2067-10-07","2067-10-08","2067-10-09","2067-10-10","2067-10-11","2067-10-12","2067-10-13","2067-10-14","2067-10-15","2067-10-16","2067-10-17","2067-10-18","2067-10-19","2067-10-20","2067-10-21","2067-10-22","2067-10-23","2067-10-24","2067-10-25","2067-10-26","2067-10-27","2067-10-28","2067-10-29","2067-10-30","2067-10-31","2067-11-01","2067-11-02","2067-11-03","2067-11-04","2067-11-05","2067-11-06","2067-11-07","2067-11-08","2067-11-09","2067-11-10"]
["Initiation","Setting up HYSYS","Glenn","Done",null,{"$f":"COUNTIFS(dependancies!B:B,$B$5)","v":0},{"$f":"COUNTIFS(dependancies!C:C,$B$5)","v":0},"No dependancies",null,null,null,null,null,null,null,{"$f":"IF(ISNUMBER(T5),WORKDAY(T5,-1*S5+1,),FALSE)","v":"2023-01-24"},{"$f":"IF(ISNUMBER(T5),T5,IF(ISNUMBER(P5),WORKDAY(P5,1*S5,)-1,FALSE))","v":"2023-01-24"},{"$f":"IF(ISNUMBER(T5),IFERROR(WORKDAY(T5,-1*S5+1,),0),FALSE)","v":"2023-01-24"},{"$f":"IF(ISBLANK(U5),1,U5)","v":1},"2023-01-24",1]
[null,"Conduct background research","Glenn","Done",null,0,1,"No dependancies",null,null,null,null,null,null,null,"2023-01-25","2023-01-26","2023-01-25",2,"2023-01-26",2]
[null,"Develop the introduction","Glenn","Done",null,0,0,"No dependancies",null,null,null,null,null,null,null,"2023-01-28","2023-01-28","2023-01-28",1,"2023-01-28",1]
["Statusmøter","Ukentlige statusmøter (inkludert forberedelser)","Glenn","In Progress","(2 timer hver uke = 32 timer = 4 arbeidsdager)",0,0,"No dependancies",null,null,null,null,null,null,null,null,null,null,4,null,4]
["Litterature Study","Conduct a literature review on calcination process","Glenn","Done",null,1,1,"2023-01-26",null,null,null,null,null,null,null,"2023-01-26","2023-01-29","2023-01-26",3,"2023-01-29",3]
[null,"Conduct a literature review on water electrolysis","Glenn","Done",null,1,1,"2023-01-29",null,null,null,null,null,null,null,"2023-01-27","2023-01-30","2023-01-27",2,"2023-01-30",2]
[null,"Conduct a literature review on CO2 capture","Glenn","Done",null,1,1,"2023-01-30",null,null,null,null,null,null,null,"2023-01-31","2023-02-02","2023-01-31",3,"2023-02-02",3]
["Process concept and analysis","Develop the process concept including CO2 capture","Glenn","Done",null,1,1,"2023-02-02",null,null,null,null,null,null,null,"2023-02-01","2023-02-12","2023-02-01",9,"2023-02-12",9]
[null,"Construct PFD of concept","Glenn","Done",null,1,2,"2023-02-12",null,null,null,null,null,null,null,"2023-02-13","2023-02-13","2023-02-13",1,"2023-02-13",1]
[null,"Perform mass and energy balance","Glenn","Done",null,1,1,"2023-02-13",null,null,null,null,null,null,null,"2023-02-09","2023-02-16","2023-02-09",6,"2023-02-16",6]
[null,"Develop simulation model","Glenn","Done",null,0,1,"No dependancies",null,null,null,null,null,null,null,"2023-02-16","2023-02-22","2023-02-16",5,"2023-02-22",5]
[null,"Conduct simulation of different cases with different parameters","Glenn","Done",null,1,1,"2023-02-22",null,null,null,null,null,null,null,"2023-02-17","2023-03-08","2023-02-17",14,"2023-03-08",14]
["Economic and environmental assessment","Estimate investment cost (CAPEX)","Glenn","Done",null,1,0,"2023-02-13",null,null,null,null,null,null,null,"2023-03-09","2023-03-12","2023-03-09",3,"2023-03-12",3]
[null,"Estimate operational cost (OPEX)","Glenn","Done",null,1,1,"2023-02-16",null,null,null,null,null,null,null,"2023-03-13","2023-03-15","2023-03-13",3,"2023-03-15",3]
[null,"Develop a H2 and O2 production and operation HAZID","Glenn","Done",null,0,0,"No dependancies",null,null,null,null,null,null,null,"2023-03-17","2023-03-17","2023-03-17",1,"2023-03-17",1]
["Results and discussion","Prepare the detailed calculations","Glenn","Done",null,0,0,"No dependancies",null,null,null,null,null,null,null,"2023-03-16","2023-03-20","2023-03-16",3,"2023-03-20",3]
[null,"Present simulation results in graphical illustrations","Glenn","Done",null,1,0,"2023-03-08",null,null,null,null,null,null,null,"2023-03-23","2023-04-01","2023-03-23",8,"2023-04-01",8]
[null,"Present technical data in graphical illustrations","Glenn","Done",null,0,0,"No dependancies",null,null,null,null,null,null,null,"2023-03-28","2023-04-24","2023-03-28",20,"2023-04-24",20]
["Conclusion and recommendation","Summarize the main findings of the thesis","Glenn","Done",null,1,1,"2023-03-15",null,null,null,null,null,null,null,"2023-04-24","2023-04-30","2023-04-24",6,"2023-04-30",6]
[null,"Provide recommendations","Glenn","Done",null,1,1,"2023-04-30",null,null,null,null,null,null,null,"2023-05-04","2023-05-05","2023-05-04",2,"2023-05-05",2]
[null,"Prepare the appendices","Glenn","Done",null,0,0,"No dependancies",null,null,null,null,null,null,null,"2023-05-04","2023-05-08","2023-05-04",3,"2023-05-08",3]
["Reference writing and submission","Reference writing","Glenn","Done","Kontinuerlig gjennom semesteret",0,0,"No dependancies",null,null,null,null,null,null,null,null,null,null,3,null,3]
[null,"Quality control of reference list","Glenn","Done",null,1,1,"2023-05-05",null,null,null,null,null,null,null,"2023-05-09","2023-05-13","2023-05-09",5,"2023-05-13",5]
[null,"Review and Submit","Glenn","Done",null,1,1,"2023-05-13",null,null,null,null,null,null,null,"2023-05-14","2023-05-14","2023-05-14",1,"2023-05-14",1]
["Presentation","Construct Power Point Presentation","Glenn","Pending",null,1,1,"2023-05-14",null,null,null,null,null,null,null,"2023-06-05","2023-06-06","2023-06-05",2,"2023-06-06",2]
[null,"Practice Presentation","Glenn","Pending",null,1,1,"2023-06-06",null,null,null,null,null,null,null,"2023-06-06","2023-06-12","2023-06-06",5,"2023-06-12",5]
[null,"Presentation","Glenn","Pending",null,1,1,"2023-06-12",null,null,null,null,null,null,null,"2023-06-14","2023-06-14","2023-06-14",1,"2023-06-14",1]
[null,"EXPO forberedelse","Glenn","In Progress",null,1,0,"2023-06-14",null,null,null,null,null,null,null,"2023-05-19","2023-05-19","2023-05-19",1,"2023-05-19",1]

{"sheet":"dependancies","index":1,"n_rows":852,"n_cols":3,"rows_kept":852,"cut":false,"hidden":false,"merged":[]}
["S.no","Dependant","Dependency"]
[{"$f":"ROW()-1","v":1},{"$f":"Plan!$B$9","v":"Conduct a literature review on calcination process"},{"$f":"Plan!$B$6","v":"Conduct background research"}]
[2]
[3,{"$f":"Plan!$B$10","v":"Conduct a literature review on water electrolysis"},{"$f":"Plan!$B$9","v":"Conduct a literature review on calcination process"}]
[4,{"$f":"Plan!$B$11","v":"Conduct a literature review on CO2 capture"},{"$f":"Plan!$B$10","v":"Conduct a literature review on water electrolysis"}]
[5,{"$f":"Plan!$B$12","v":"Develop the process concept including CO2 capture"},{"$f":"Plan!$B$11","v":"Conduct a literature review on CO2 capture"}]
[6,{"$f":"Plan!$B$13","v":"Construct PFD of concept"},{"$f":"Plan!$B$12","v":"Develop the process concept including CO2 capture"}]
[7,{"$f":"Plan!$B$14","v":"Perform mass and energy balance"},{"$f":"Plan!$B$13","v":"Construct PFD of concept"}]
[8,{"$f":"Plan!$B$16","v":"Conduct simulation of different cases with different parameters"},{"$f":"Plan!$B$15","v":"Develop simulation model"}]
[9,{"$f":"Plan!$B$17","v":"Estimate investment cost (CAPEX)"},{"$f":"Plan!$B$13","v":"Construct PFD of concept"}]
[10,{"$f":"Plan!$B$18","v":"Estimate operational cost (OPEX)"},{"$f":"Plan!$B$14","v":"Perform mass and energy balance"}]
[11,{"$f":"Plan!$B$21","v":"Present simulation results in graphical illustrations"},{"$f":"Plan!$B$16","v":"Conduct simulation of different cases with different parameters"}]
[12,{"$f":"Plan!$B$23","v":"Summarize the main findings of the thesis"},{"$f":"Plan!$B$18","v":"Estimate operational cost (OPEX)"}]
[13,{"$f":"Plan!$B$24","v":"Provide recommendations"},{"$f":"Plan!$B$23","v":"Summarize the main findings of the thesis"}]
[14,{"$f":"Plan!$B$27","v":"Quality control of reference list"},{"$f":"Plan!$B$24","v":"Provide recommendations"}]
[15,{"$f":"Plan!$B$28","v":"Review and Submit"},{"$f":"Plan!$B$27","v":"Quality control of reference list"}]
[16,{"$f":"Plan!$B$29","v":"Construct Power Point Presentation"},{"$f":"Plan!$B$28","v":"Review and Submit"}]
[17,{"$f":"Plan!$B$30","v":"Practice Presentation"},{"$f":"Plan!$B$29","v":"Construct Power Point Presentation"}]
[18,{"$f":"Plan!$B$31","v":"Presentation"},{"$f":"Plan!$B$30","v":"Practice Presentation"}]
[19,{"$f":"Plan!$B$32","v":"EXPO forberedelse"},{"$f":"Plan!$B$31","v":"Presentation"}]
[20]
[21]
[22]
[23]
[24]
[25]
[26]
[27]
[28]
[29]
[30]
[31]
[32]
[33]
[34]
[35]
[36]
[37]
[38]
[39]
[40]
[41]
[42]
[43]
[44]
[45]
[46]
[47]
[48]
[49]
[50]
[51]
[52]
[53]
[54]
[55]
[56]
[57]
[58]
[59]
[60]
[61]
[62]
[63]
[64]
[{"$f":"ROW()-1","v":65}]
[66]
[67]
[68]
[69]
[70]
[71]
[72]
[73]
[74]
[75]
[76]
[77]
[78]
[79]
[80]
[81]
[82]
[83]
[84]
[85]
[86]
[87]
[88]
[89]
[90]
[91]
[92]
[93]
[94]
[95]
[96]
[97]
[98]
[99]
[100]
[101]
[102]
[103]
[104]
[105]
[106]
[107]
[108]
[109]
[110]
[111]
[112]
[113]
[114]
[115]
[116]
[117]
[118]
[119]
[120]
[121]
[122]
[123]
[124]
[125]
[126]
[127]
[128]
[{"$f":"ROW()-1","v":129}]
[130]
[131]
[132]
[133]
[134]
[135]
[136]
[137]
[138]
[139]
[140]
[141]
[142]
[143]
[144]
[145]
[146]
[147]
[148]
[149]
[150]
[151]
[152]
[153]
[154]
[155]
[156]
[157]
[158]
[159]
[160]
[161]
[162]
[163]
[164]
[165]
[166]
[167]
[168]
[169]
[170]
[171]
[172]
[173]
[174]
[175]
[176]
[177]
[178]
[179]
[180]
[181]
[182]
[183]
[184]
[185]
[186]
[187]
[188]
[189]
[190]
[191]
[192]
[{"$f":"ROW()-1","v":193}]
[194]
[195]
[196]
[197]
[198]
[199]
[200]
[201]
[202]
[203]
[204]
[205]
[206]
[207]
[208]
[209]
[210]
[211]
[212]
[213]
[214]
[215]
[216]
[217]
[218]
[219]
[220]
[221]
[222]
[223]
[224]
[225]
[226]
[227]
[228]
[229]
[230]
[231]
[232]
[233]
[234]
[235]
[236]
[237]
[238]
[239]
[240]
[241]
[242]
[243]
[244]
[245]
[246]
[247]
[248]
[249]
[250]
[251]
[252]
[253]
[254]
[255]
[256]
[{"$f":"ROW()-1","v":257}]
[258]
[259]
[260]
[261]
[262]
[263]
[264]
[265]
[266]
[267]
[268]
[269]
[270]
[271]
[272]
[273]
[274]
[275]
[276]
[277]
[278]
[279]
[280]
[281]
[282]
[283]
[284]
[285]
[286]
[287]
[288]
[289]
[290]
[291]
[292]
[293]
[294]
[295]
[296]
[297]
[298]
[299]
[300]
[301]
[302]
[303]
[304]
[305]
[306]
[307]
[308]
[309]
[310]
[311]
[312]
[313]
[314]
[315]
[316]
[317]
[318]
[319]
[320]
[{"$f":"ROW()-1","v":321}]
[322]
[323]
[324]
[325]
[326]
[327]
[328]
[329]
[330]
[331]
[332]
[333]
[334]
[335]
[336]
[337]
[338]
[339]
[340]
[341]
[342]
[343]
[344]
[345]
[346]
[347]
[348]
[349]
[350]
[351]
[352]
[353]
[354]
[355]
[356]
[357]
[358]
[359]
[360]
[361]
[362]
[363]
[364]
[365]
[366]
[367]
[368]
[369]
[370]
[371]
[372]
[373]
[374]
[375]
[376]
[377]
[378]
[379]
[380]
[381]
[382]
[383]
[384]
[{"$f":"ROW()-1","v":385}]
[386]
[387]
[388]
[389]
[390]
[391]
[392]
[393]
[394]
[395]
[396]
[397]
[398]
[399]
[400]
[401]
[402]
[403]
[404]
[405]
[406]
[407]
[408]
[409]
[410]
[411]
[412]
[413]
[414]
[415]
[416]
[417]
[418]
[419]
[420]
[421]
[422]
[423]
[424]
[425]
[426]
[427]
[428]
[429]
[430]
[431]
[432]
[433]
[434]
[435]
[436]
[437]
[438]
[439]
[440]
[441]
[442]
[443]
[444]
[445]
[446]
[447]
[448]
[{"$f":"ROW()-1","v":449}]
[450]
[451]
[452]
[453]
[454]
[455]
[456]
[457]
[458]
[459]
[460]
[461]
[462]
[463]
[464]
[465]
[466]
[467]
[468]
[469]
[470]
[471]
[472]
[473]
[474]
[475]
[476]
[477]
[478]
[479]
[480]
[481]
[482]
[483]
[484]
[485]
[486]
[487]
[488]
[489]
[490]
[491]
[492]
[493]
[494]
[495]
[496]
[497]
[498]
[499]
[500]
[501]
[502]
[503]
[504]
[505]
[506]
[507]
[508]
[509]
[510]
[511]
[512]
[{"$f":"ROW()-1","v":513}]
[514]
[515]
[516]
[517]
[518]
[519]
[520]
[521]
[522]
[523]
[524]
[525]
[526]
[527]
[528]
[529]
[530]
[531]
[532]
[533]
[534]
[535]
[536]
[537]
[538]
[539]
[540]
[541]
[542]
[543]
[544]
[545]
[546]
[547]
[548]
[549]
[550]
[551]
[552]
[553]
[554]
[555]
[556]
[557]
[558]
[559]
[560]
[561]
[562]
[563]
[564]
[565]
[566]
[567]
[568]
[569]
[570]
[571]
[572]
[573]
[574]
[575]
[576]
[{"$f":"ROW()-1","v":577}]
[578]
[579]
[580]
[581]
[582]
[583]
[584]
[585]
[586]
[587]
[588]
[589]
[590]
[591]
[592]
[593]
[594]
[595]
[596]
[597]
[598]
[599]
[600]
[601]
[602]
[603]
[604]
[605]
[606]
[607]
[608]
[609]
[610]
[611]
[612]
[613]
[614]
[615]
[616]
[617]
[618]
[619]
[620]
[621]
[622]
[623]
[624]
[625]
[626]
[627]
[628]
[629]
[630]
[631]
[632]
[633]
[634]
[635]
[636]
[637]
[638]
[639]
[640]
[{"$f":"ROW()-1","v":641}]
[642]
[643]
[644]
[645]
[646]
[647]
[648]
[649]
[650]
[651]
[652]
[653]
[654]
[655]
[656]
[657]
[658]
[659]
[660]
[661]
[662]
[663]
[664]
[665]
[666]
[667]
[668]
[669]
[670]
[671]
[672]
[673]
[674]
[675]
[676]
[677]
[678]
[679]
[680]
[681]
[682]
[683]
[684]
[685]
[686]
[687]
[688]
[689]
[690]
[691]
[692]
[693]
[694]
[695]
[696]
[697]
[698]
[699]
[700]
[701]
[702]
[703]
[704]
[{"$f":"ROW()-1","v":705}]
[706]
[707]
[708]
[709]
[710]
[711]
[712]
[713]
[714]
[715]
[716]
[717]
[718]
[719]
[720]
[721]
[722]
[723]
[724]
[725]
[726]
[727]
[728]
[729]
[730]
[731]
[732]
[733]
[734]
[735]
[736]
[737]
[738]
[739]
[740]
[741]
[742]
[743]
[744]
[745]
[746]
[747]
[748]
[749]
[750]
[751]
[752]
[753]
[754]
[755]
[756]
[757]
[758]
[759]
[760]
[761]
[762]
[763]
[764]
[765]
[766]
[767]
[768]
[{"$f":"ROW()-1","v":769}]
[770]
[771]
[772]
[773]
[774]
[775]
[776]
[777]
[778]
[779]
[780]
[781]
[782]
[783]
[784]
[785]
[786]
[787]
[788]
[789]
[790]
[791]
[792]
[793]
[794]
[795]
[796]
[797]
[798]
[799]
[800]
[801]
[802]
[803]
[804]
[805]
[806]
[807]
[808]
[809]
[810]
[811]
[812]
[813]
[814]
[815]
[816]
[817]
[818]
[819]
[820]
[821]
[822]
[823]
[824]
[825]
[826]
[827]
[828]
[829]
[830]
[831]
[832]
[{"$f":"ROW()-1","v":833}]
[834]
[835]
[836]
[837]
[838]
[839]
[840]
[841]
[842]
[843]
[844]
[845]
[846]
[847]
[848]
[849]
[850]
[851]

{"sheet":"OfferMart highlevel timelines","index":2,"n_rows":17,"n_cols":13,"rows_kept":17,"cut":false,"hidden":true,"merged":[[45,0,48,0],[13,0,17,0],[21,0,27,0],[33,0,37,0],[38,0,41,0],[42,0,44,0]]}
[]
[]
["Solution doc delivery"]
["solution doc"]
["Dev completion ","2022-02-17","1 month start",null,null,"deletion"]
["PT",{"$f":"B5+7","v":"2022-02-24"},"100 ms","1 week",null,"suppression"]
["App sec",{"$f":"B6+14","v":"2022-03-10"},null,"2 weeks",null,"Rendering"]
["UAT",{"$f":"B7+14","v":"2022-03-24"},null,"2 weeks",null,"Channel based integration"]
["RCB/CAB",null,null,"1 week",null,"HPE plan"]
["Go Live",null,null,null,null,null,null,null,null,null,"Stage","Duration","Date estimated"]
[null,null,null,null,null,null,null,null,null,null,"Dev completion ","1 month start","2022-02-17"]
[null,null,null,null,null,null,null,null,null,null,"PT","1 week",{"$f":"M11+7","v":"2022-02-24"}]
[null,null,null,null,null,null,null,null,null,null,"App sec","2 weeks",{"$f":"M12+14","v":"2022-03-10"}]
[null,null,null,null,null,null,null,null,null,null,"UAT","2 weeks",{"$f":"M13+14","v":"2022-03-24"}]
[]
[]
[null,null,null,null,null,null,null,null,null,null,"RCB/CAB","1 week",{"$f":"M14+7","v":"2022-03-31"}]